Workbook

Sheet HTC as Extg
A2: Hayes Town Centre - Existing Properties Split by Phase
A4: Phase | C4: Status | D4: Address Line 1 | E4: Address Line 2 | F4: Postcode | G4: Property Type | H4: Number of Beds | I4: Hab Rooms | J4: Floor Area (m2) | K4: Value
A5: Phase 1 | B5: 1 | C5: Owner Occupier | D5: 8 | E5: AUSTIN ROAD | F5: UB3 3DA | G5: Maisonette | H5: 2 | I5: 4 | J5: 87
A6: Phase 1 | B6: 1 | C6: Owner Occupier | D6: 10 | E6: AUSTIN ROAD | F6: UB3 3DA | G6: Flat | H6: 1 | I6: 3 | J6: 42
A7: Phase 1 | B7: 1 | C7: Investor | D7: 1 | E7: AUSTIN ROAD | F7: UB3 3DA | G7: Flat | H7: 1 | I7: 3 | J7: 47
A8: Phase 1 | B8: 1 | C8: HA | D8: 5 | E8: AUSTIN ROAD | F8: UB3 3DA | G8: Flat | H8: 2 | I8: 4 | J8: 72
A9: Phase 1 | B9: 1 | C9: HA | D9: 7 | E9: AUSTIN ROAD | F9: UB3 3DA | G9: Flat | H9: 2 | I9: 4 | J9: 41
A10: Phase 1 | B10: 1 | C10: Investor | D10: 9 | E10: AUSTIN ROAD | F10: UB3 3DA | G10: Maisonette | H10: 2 | I10: 4 | J10: 74
A11: Phase 1 | B11: 1 | C11: HA | D11: 12 | E11: AUSTIN ROAD | F11: UB3 3DB | G11: Flat | H11: 1 | I11: 3 | J11: 51
A12: Phase 1 | B12: 1 | C12: Investor | D12: 96 | E12: AUSTIN ROAD | F12: UB3 3DL | G12: Flat | H12: 1 | I12: 3 | J12: 46
A13: Phase 1 | B13: 1 | C13: Tenant | D13: 2 | E13: AUSTIN ROAD | F13: UB3 3DA | G13: Flat | H13: 1 | I13: 3 | J13: 60
A14: Phase 1 | B14: 1 | C14: Tenant | D14: 3 | E14: AUSTIN ROAD | F14: UB3 3DA | G14: Flat | H14: 1 | I14: 3 | J14: 60
A15: Phase 1 | B15: 1 | C15: Tenant | D15: 4 | E15: AUSTIN ROAD | F15: UB3 3DA | G15: Flat | H15: 1 | I15: 3 | J15: 60
A16: Phase 1 | B16: 1 | C16: Tenant | D16: 6 | E16: AUSTIN ROAD | F16: UB3 3DA | G16: Maisonette | H16: 2 | I16: 4 | J16: 70
... A25: Phase 1 | B25: 1 | C25: Tenant | D25: 86 | E25: AUSTIN ROAD | F25: UB3 3DJ | G25: Maisonette | H25: 2 | I25: 4 | J25: 68
A26: Phase 1 | B26: 1 | C26: Tenant | D26: 100 | E26: AUSTIN ROAD | F26: UB3 3DL | G26: Maisonette | H26: 3 | I26: 5 | J26: 94
A27: Phase 1 | B27: 1 | C27: Tenant | D27: 92 | E27: AUSTIN ROAD | F27: UB3 3DL | G27: Flat | H27: 1 | I27: 3 | J27: 48
A28: Phase 1 | B28: 1 | C28: Tenant | D28: 94 | E28: AUSTIN ROAD | F28: UB3 3DL | G28: Flat | H28: 1 | I28: 3 | J28: 48
A29: Phase 1 | B29: 1 | C29: Tenant | D29: 95 | E29: AUSTIN ROAD | F29: UB3 3DL | G29: Flat | H29: 2 | I29: 4 | J29: 53
A30: Phase 1 | B30: 1 | C30: Tenant | D30: 98 | E30: AUSTIN ROAD | F30: UB3 3DL | G30: Flat | H30: 1 | I30: 3 | J30: 47
A31: Phase 1 | B31: 1 | C31: Tenant | D31: 99 | E31: AUSTIN ROAD | F31: UB3 3DL | G31: Flat | H31: 2 | I31: 4 | J31: 55
A32: Phase 1 | B32: 1 | C32: Investor | D32: 101 | E32: AUSTIN ROAD | F32: UB3 3DN | G32: Maisonette | H32: 3 | I32: 5 | J32: 91
A33: Phase 1 | B33: 1 | C33: Investor | D33: 103 | E33: AUSTIN ROAD | F33: UB3 3DN | G33: Maisonette | H33: 3 | I33: 5 | J33: 91
A34: Phase 1 | B34: 1 | C34: Investor | D34: 11 | E34: AUSTIN ROAD | F34: UB3 3DB | G34: Flat | H34: 1 | I34: 3 | J34: 60
A35: Phase 1 | B35: 1 | C35: Tenant | D35: 68 | E35: AUSTIN ROAD | F35: UB3 3DQ | G35: Flat | H35: 1 | I35: 3 | J35: 47
A36: Phase 1 | B36: 1 | C36: Tenant | D36: 69 | E36: AUSTIN ROAD | F36: UB3 3DQ | G36: Flat | H36: 1 | I36: 3 | J36: 47
A37: Phase 1 | B37: 1 | C37: Tenant | D37: 70 | E37: AUSTIN ROAD | F37: UB3 3DQ | G37: Maisonette | H37: 2 | I37: 4 | J37: 88
A38: Phase 1 | B38: 1 | C38: Investor | D38: 73 | E38: AUSTIN ROAD | F38: UB3 3DH | G38: Maisonette | H38: 2 | I38: 4 | J38: 95
... A56: Phase 1 | B56: 1 | C56: Investor | D56: 97 | E56: AUSTIN ROAD | F56: UB3 3DL | G56: Flat | H56: 2 | I56: 4 | J56: 53
A57: Phase 1 | B57: 1 | C57: Owner Occupier | D57: 89 | E57: AUSTIN ROAD | F57: UB3 3DJ | G57: Maisonette | H57: 3 | I57: 5 | J57: 89
A58: Phase 2 | B58: 1 | C58: Owner Occupier | D58: 15 | E58: AUSTIN ROAD | F58: UB3 3DB | G58: Maisonette | H58: 2 | I58: 4 | J58: 74
A59: Phase 2 | B59: 1 | C59: Owner Occupier | D59: 16 | E59: AUSTIN ROAD | F59: UB3 3DB | G59: Flat | H59: 2 | I59: 4 | J59: 83
A60: Phase 2 | B60: 1 | C60: Owner Occupier | D60: 25 | E60: AUSTIN ROAD | F60: UB3 3DD | G60: Maisonette | H60: 2 | I60: 4 | J60: 73
A61: Phase 2 | B61: 1 | C61: Investor | D61: 114 | E61: AUSTIN ROAD | F61: UB3 3DW | G61: Maisonette | H61: 3 | I61: 5 | J61: 103
A62: Phase 2 | B62: 1 | C62: Investor | D62: 17 | E62: AUSTIN ROAD | F62: UB3 3DB | G62: Flat | H62: 2 | I62: 4 | J62: 81
A63: Phase 2 | B63: 1 | C63: Investor | D63: 19 | E63: AUSTIN ROAD | F63: UB3 3DB | G63: Flat | H63: 2 | I63: 4 | J63: 91
A64: Phase 2 | B64: 1 | C64: HA | D64: 58 | E64: AUSTIN ROAD | F64: UB3 3DG | G64: Maisonette | H64: 2 | I64: 4 | J64: 73
A65: Phase 2 | B65: 1 | C65: Owner Occupier | D65: 52 | E65: AUSTIN ROAD | F65: UB3 3DG | G65: Flat | H65: 1 | I65: 3 | J65: 48
A66: Phase 2 | B66: 1 | C66: Investor | D66: 110 | E66: AUSTIN ROAD | F66: UB3 3DN | G66: Flat | H66: 1 | I66: 3 | J66: 47
A67: Phase 2 | B67: 1 | C67: Owner Occupier | D67: 60 | E67: AUSTIN ROAD | F67: UB3 3DG | G67: Maisonette | H67: 2 | I67: 4 | J67: 65
A68: Phase 2 | B68: 1 | C68: Investor | D68: 120 | E68: AUSTIN ROAD | F68: UB3 3DW | G68: Flat | H68: 1 | I68: 3 | J68: 44
A69: Phase 2 | B69: 1 | C69: Owner Occupier | D69: 61 | E69: AUSTIN ROAD | F69: UB3 3DQ | G69: Maisonette | H69: 2 | I69: 4 | J69: 66
... A264: Phase 4 | B264: 1 | C264: Tenant | D264: 71 | E264: SKEFFINGTON COURT, SILVERDALE ROAD | F264: UB3 3AZ | G264: Flat | H264: 2 | I264: 4 | J264: 61
A266: Totals | B266: =SUM(B5:B265) -> 260 | I266: =SUM(I5:I265) -> 947 | J266: =SUM(J5:J265) -> 16234
C271: Summary (All Properties)
E272: 1B2P (Flat) | F272: 2B4P (Flat) | G272: 2B4P (Mais) | H272: 3B5/6P (Mais) | I272: Totals
C273: GIA per type m2 | E273: 42-60 | F273: 51-91 | G273: 70 | H273: 84-106
C275: Total No. | E275: 116 | F275: 62 | G275: 59 | H275: 23 | I275: =SUBTOTAL(9,E275:H275) -> 260
C276: % Mix | E276: =E275/I275 -> 0.44615385 | F276: =(F275+G275)/I275 -> 0.46538462 | H276: =H275/I275 -> 0.088461538 | I276: =SUBTOTAL(9,E276:H276) -> 1
C277: Total GIA (m2) | E277: 5558 | F277: 3790 | G277: 4635 | H277: 2251 | I277: =SUBTOTAL(9,E277:H277) -> 16234
C278: Hab Rooms | E278: =E275*3 -> 348 | F278: 248 | G278: =G275*4 -> 236 | H278: 115 | I278: =SUBTOTAL(9,E278:H278) -> 947
C283: Summary (Affordable)
E284: 1B2P (Flat) | F284: 2B4P (Flat) | G284: 2B4P (Mais) | H284: 3B5/6P (Mais) | I284: Totals
C285: GIA per type m2 | E285: 42-60 | F285: 51-91 | G285: 70 | H285: 84-106
C287: Total No. | E287: 93 | F287: 50 | G287: 44 | H287: 12 | I287: =SUBTOTAL(9,E287:H287) -> 199
C288: % Mix | E288: =E287/I287 -> 0.46733668 | F288: =(F287+G287)/I287 -> 0.47236181 | H288: =H287/I287 -> 0.060301508 | I288: =SUBTOTAL(9,E288:H288) -> 1
C289: Total GIA (m2) | E289: 4477 | F289: 2973 | G289: 3539 | H289: 1188 | I289: =SUBTOTAL(9,E289:H289) -> 12177
C290: Hab Rooms | E290: =E287*3 -> 279 | F290: 200 | G290: =G287*4 -> 176 | H290: 60 | I290: =SUBTOTAL(9,E290:H290) -> 715
C295: Summary (Private)
E296: 1B2P (Flat) | F296: 2B4P (Flat) | G296: 2B4P (Mais) | H296: 3B5/6P (Mais) | I296: Totals
C297: GIA per type m2 | E297: 42-60 | F297: 51-91 | G297: 70 | H297: 84-106
C299: Total No. | E299: 23 | F299: 12 | G299: 15 | H299: 11 | I299: =SUBTOTAL(9,E299:H299) -> 61
C300: % Mix | E300: =E299/I299 -> 0.37704918 | F300: =(F299+G299)/I299 -> 0.44262295 | H300: =H299/I299 -> 0.18032787 | I300: =SUBTOTAL(9,E300:H300) -> 1
C301: Total GIA (m2) | E301: 1081 | F301: 817 | G301: 1096 | H301: 1063 | I301: =SUBTOTAL(9,E301:H301) -> 4057
C302: Hab Rooms | E302: =E299*3 -> 69 | F302: 48 | G302: =G299*4 -> 60 | H302: 55 | I302: =SUBTOTAL(9,E302:H302) -> 232

Sheet AD as Extg
A2: Avondale Drive - Existing Properties Split by Phase
A4: Phase | C4: Status | D4: Address Line 1 | E4: Address Line 2 | F4: Postcode | G4: Property Type | H4: Number of Beds | I4: Hab Rooms | J4: Floor Area (say m2)
A5: Phase 1b | B5: 1 | C5: Investor | D5: 1 | E5: WELLINGS HOUSE | F5: UB3 3PN | G5: Flat | H5: 2 | I5: 4 | J5: 61 | L5: =D5&" "&E5 -> 1 WELLINGS HOUSE | M5: =IFERROR(VLOOKUP(L5,Sheet1!B:B,1,FALSE),"") -> 1 Wellings House
A6: Phase 1b | B6: 1 | C6: HA | D6: 7 | E6: WELLINGS HOUSE | F6: UB3 3PN | G6: Flat | H6: 2 | I6: 4 | J6: 57 | L6: =D6&" "&E6 -> 7 WELLINGS HOUSE | M6: =IFERROR(VLOOKUP(L6,Sheet1!B:B,1,FALSE),"")
A7: Phase 1b | B7: 1 | C7: Owner Occupier | D7: 8 | E7: WELLINGS HOUSE | F7: UB3 3PN | G7: Flat | H7: 2 | I7: 4 | J7: 64 | L7: =D7&" "&E7 -> 8 WELLINGS HOUSE | M7: =IFERROR(VLOOKUP(L7,Sheet1!B:B,1,FALSE),"")
A8: Phase 1b | B8: 1 | C8: Investor | D8: 9 | E8: WELLINGS HOUSE | F8: UB3 3PN | G8: Flat | H8: 2 | I8: 4 | J8: 62 | L8: =D8&" "&E8 -> 9 WELLINGS HOUSE | M8: =IFERROR(VLOOKUP(L8,Sheet1!B:B,1,FALSE),"") -> 9 Wellings House
A9: Phase 1b | B9: 1 | C9: Investor | D9: 10 | E9: WELLINGS HOUSE | F9: UB3 3PN | G9: Flat | H9: 2 | I9: 4 | J9: 61 | L9: =D9&" "&E9 -> 10 WELLINGS HOUSE | M9: =IFERROR(VLOOKUP(L9,Sheet1!B:B,1,FALSE),"") -> 10 Wellings House
A10: Phase 1b | B10: 1 | C10: Investor | D10: 16 | E10: WELLINGS HOUSE | F10: UB3 3PN | G10: Flat | H10: 2 | I10: 4 | J10: 64 | L10: =D10&" "&E10 -> 16 WELLINGS HOUSE | M10: =IFERROR(VLOOKUP(L10,Sheet1!B:B,1,FALSE),"") -> 16 Wellings House
A11: Phase 1b | B11: 1 | C11: HA | D11: 17 | E11: WELLINGS HOUSE | F11: UB3 3PN | G11: Flat | H11: 2 | I11: 4 | J11: 59.72 | L11: =D11&" "&E11 -> 17 WELLINGS HOUSE | M11: =IFERROR(VLOOKUP(L11,Sheet1!B:B,1,FALSE),"")
A12: Phase 1b | B12: 1 | C12: Investor | D12: 19 | E12: WELLINGS HOUSE | F12: UB3 3PN | G12: Flat | H12: 2 | I12: 4 | J12: 61 | L12: =D12&" "&E12 -> 19 WELLINGS HOUSE | M12: =IFERROR(VLOOKUP(L12,Sheet1!B:B,1,FALSE),"") -> 19 Wellings House
A13: Phase 1b | B13: 1 | C13: Investor | D13: 20 | E13: WELLINGS HOUSE | F13: UB3 3PN | G13: Flat | H13: 2 | I13: 4 | J13: 60 | L13: =D13&" "&E13 -> 20 WELLINGS HOUSE | M13: =IFERROR(VLOOKUP(L13,Sheet1!B:B,1,FALSE),"") -> 20 Wellings House
A14: Phase 1b | B14: 1 | C14: Investor | D14: 21 | E14: WELLINGS HOUSE | F14: UB3 3PN | G14: Flat | H14: 2 | I14: 4 | J14: 64 | L14: =D14&" "&E14 -> 21 WELLINGS HOUSE | M14: =IFERROR(VLOOKUP(L14,Sheet1!B:B,1,FALSE),"") -> 21 Wellings House
A15: Phase 1b | B15: 1 | C15: Investor | D15: 23 | E15: WELLINGS HOUSE | F15: UB3 3PN | G15: Flat | H15: 2 | I15: 4 | J15: 61 | L15: =D15&" "&E15 -> 23 WELLINGS HOUSE | M15: =IFERROR(VLOOKUP(L15,Sheet1!B:B,1,FALSE),"") -> 23 Wellings House
A16: Phase 1b | B16: 1 | C16: Tenant | D16: 2 | E16: WELLINGS HOUSE | F16: UB3 3PN | G16: Flat | H16: 2 | I16: 4 | J16: 65 | L16: =D16&" "&E16 -> 2 WELLINGS HOUSE | M16: =IFERROR(VLOOKUP(L16,Sheet1!B:B,1,FALSE),"")
... A148: Phase 3 | B148: 1 | C148: Tenant | D148: 37 | E148: GLENISTER HOUSE | F148: UB3 3PP | G148: Flat | H148: 2 | I148: 4 | J148: 65 | L148: =D148&" "&E148 -> 37 GLENISTER HOUSE | M148: =IFERROR(VLOOKUP(L148,Sheet1!B:B,1,FALSE),"")
A150: Totals | B150: =SUM(B5:B149) -> 144 | I150: =SUM(I5:I149) -> 576 | J150: =SUM(J5:J149) -> 9477.72
C155: Summary (All Properties)
E156: 1B2P (Flat) | F156: 2B4P (Flat) | G156: 2B4P (Mais) | H156: 3B5/6P (Mais) | I156: Totals
C157: GIA per type m2 | E157: 42-60 | F157: 51-91 | G157: 70 | H157: 84-106
C159: Total No. | E159: 0 | F159: 144 | G159: 0 | H159: 0 | I159: =SUBTOTAL(9,E159:H159) -> 144
C160: % Mix | E160: =E159/I159 -> 0 | F160: =(F159+G159)/I159 -> 1 | H160: =H159/I159 -> 0 | I160: =SUBTOTAL(9,E160:H160) -> 1
C161: Total GIA (m2) | E161: 0 | F161: =J150 -> 9477.72 | G161: 0 | H161: 0 | I161: =SUBTOTAL(9,E161:H161) -> 9477.72
C162: Hab Rooms | E162: =E159*3 -> 0 | F162: 576 | G162: =G159*4 -> 0 | H162: 0 | I162: =SUBTOTAL(9,E162:H162) -> 576
C167: Summary (Affordable)
E168: 1B2P (Flat) | F168: 2B4P (Flat) | G168: 2B4P (Mais) | H168: 3B5/6P (Mais) | I168: Totals
C169: GIA per type m2 | E169: 42-60 | F169: 51-91 | G169: 70 | H169: 84-106
C171: Total No. | E171: 0 | F171: 121 | G171: 0 | H171: 0 | I171: =SUBTOTAL(9,E171:H171) -> 121
C172: % Mix | E172: =E171/I171 -> 0 | F172: =(F171+G171)/I171 -> 1 | H172: =H171/I171 -> 0 | I172: =SUBTOTAL(9,E172:H172) -> 1
C173: Total GIA (m2) | E173: 0 | F173: =SUMIF(C5:C148,"tenant",J5:J148) -> 7755 | G173: 0 | H173: 0 | I173: =SUBTOTAL(9,E173:H173) -> 7755
C174: Hab Rooms | E174: =E171*3 -> 0 | F174: 484 | G174: =G171*4 -> 0 | H174: 0 | I174: =SUBTOTAL(9,E174:H174) -> 484
C179: Summary (Private)
E180: 1B2P (Flat) | F180: 2B4P (Flat) | G180: 2B4P (Mais) | H180: 3B5/6P (Mais) | I180: Totals
C181: GIA per type m2 | E181: 42-60 | F181: 51-91 | G181: 70 | H181: 84-106
C183: Total No. | E183: 0 | F183: 23 | G183: 0 | H183: 0 | I183: =SUBTOTAL(9,E183:H183) -> 23
C184: % Mix | E184: =E183/I183 -> 0 | F184: =(F183+G183)/I183 -> 1 | H184: =H183/I183 -> 0 | I184: =SUBTOTAL(9,E184:H184) -> 1
C185: Total GIA (m2) | E185: 0 | F185: =F161-F173 -> 1722.72 | G185: 0 | H185: 0 | I185: =SUBTOTAL(9,E185:H185) -> 1722.72
C186: Hab Rooms | E186: 0 | F186: 92 | G186: 0 | H186: 0 | I186: =SUBTOTAL(9,E186:H186) -> 92

Sheet Sheet1
A1: Correspond Name | B1: Pro Adr Line1 | C1: Inv Name | D1: Pro Adr Postcode | E1: Inv Adr Line1 | F1: Inv Adr Line2 | G1: Inv Adr Line3 | H1: Inv Adr Postcode
A2: Mr A Sandhu & Mr S Sandhu | B2: 101 Austin Road | C2: Mr Arsal Sandhu & Mr Sandhir Sandhu | D2: UB3 3DN | E2: 14 Gledwood Crescent | F2: Hayes | G2: Middx | H2: UB4 0AX
A3: Mrs C Mullane, Mr J Mullane | B3: 103 Austin Road | C3: Mr John Mullane & Mrs Catherine Mullane | D3: UB3 3DN | E3: Kings Arms | F3: 6 Park Lane | G3: Harefield Middx | H3: UB9 6BJ
A4: Mr A Zaib, Mrs K Zaib | B4: 114 Austin Road | C4: Mrs Kokab Zaib & Mr Ahmed-Junaid Zaib | D4: UB3 3DW | E4: 49 Delamere Road | F4: Hayes | G4: Middx | H4: UB4 0NN
A5: Mr F Kassam | B5: 127 Austin Road | C5: Mr Firoz Kassam | D5: UB3 3DP | E5: 2 Elm Lawn Close | F5: Uxbridge | G5: Middx | H5: UB8 1NX
A6: Mr D Dhonsi | B6: 1 Austin Road | C6: Mr Darshan Dhonsi | D6: UB3 3DA | E6: 17 High Beeches | F6: Gerrards Cross | H6: SL9 7HX
A7: Touchpoint Housing (Lbb) Ltd | B7: 9 Austin Road | C7: Touchpoint Housing (Lbb) Ltd | D7: UB3 3DA | E7: The Asticus Building | F7: 21 Palmer Street | G7: London | H7: SW1H 0AD
A8: Mr D Singh | B8: 11 Austin Road | C8: Mr D Singh | D8: UB3 3DB | E8: C/O Ms R K Brar | F8: 1 Palmerston Drive | G8: Tividale Oldbury | H8: B69 3NA
A9: Mr J Singh & Mrs B Kaur | B9: 17 Austin Road | C9: Mr Jarnail Singh & Mrs Balwinder Kaur | D9: UB3 3DB | E9: 8 Fairfield Avenue | F9: Datchet | G9: Berks | H9: SL3 9NQ
A10: Mr F & Mrs F Abdul-Karim | B10: 19 Austin Road | C10: Mr F Abdulkarim & Mrs F Abdulkarim | D10: UB3 3DB | E10: 282 Watford Road | F10: Croxley Green | G10: Rickmansworth Herts | H10: WD3 3DE
A11: Mr T Oshea | B11: 31 Austin Road | C11: Mr Timothy O'Shea | D11: UB3 3DE | E11: Sunny Glen | F11: 2 Cemetery Road | G11: Lake Sandown | H11: PO36 9NW
A12: V1 Kriya Ltd | B12: 33 Austin Road | C12: V1 Kriya Ltd | D12: UB3 3DE | E12: 5 Phelps Way | F12: Hayes | G12: Middx | H12: UB3 4LH
A13: Mr A M Jama | B13: 36 Austin Road | C13: Mr Abdiqani Jama | D13: UB3 3DE | E13: 84b High Street | F13: Southall | G13: Middx | H13: UB1 3DB
A14: Mr T Singh | B14: 41 Austin Road | C14: Mr Taranjeet Singh | D14: UB3 3DF | E14: 41 Lonsdale Road | F14: Southall | G14: Middx | H14: UB2 5LS
A15: Miss Amina A Ali | B15: 46 Austin Road | C15: Miss Amina Ali | D15: UB3 3DF | E15: 87 Austin Road | F15: Hayes | G15: Middx | H15: UB3 3DJ
A16: Mrs A Said | B16: 47 Austin Road | C16: Mrs Anab Said | D16: UB3 3DF | E16: C/O Angelfield Property Services | F16: I.C.G House, Greenford Business Centre | G16: Oldfield Lane North Greenford | H16: UB6 0AL
A17: Mrs S Harji | B17: 64 Austin Road | C17: Mrs Shalina Harji | D17: UB3 3DQ | E17: 64 Austin Road | F17: Hayes | G17: Middx | H17: UB3 3DQ
A18: Mr S Malik & Mrs S Malik | B18: 73 Austin Road | C18: Mr Sumit Malik & Mrs Sheetal Malik | D18: UB3 3DH | E18: 29 Foxdell Way | F18: Chalfont St Peter | G18: Gerrards Cross | H18: SL9 0PL
... A27: Mr M Singh, Mrs C Kaur | B27: 23 Skeffington Court | C27: Mr Mohinder Singh & Mrs Charan Kaur | D27: UB3 3BY | E27: 22 Frogmore Gardens | F27: Hayes | G27: Middx | H27: UB4 8AN
A28: Mr A Ziolkowski, Mrs K Ziolkowska | B28: 55 Skeffington Court | C28: Mr Artur Andrzej Ziolkowski & Mrs Katarzyna Ziolkowska | D28: UB3 3AZ | E28: 39 Tanglewood Way | F28: Feltham | H28: TW13 7HB
A29: Mr D Hinton Exec To Mr P Hinton | B29: 74 Skeffington Court | C29: Mr D Hinton Exec To Mr P Hinton | D29: UB3 3AZ | E29: Spring Farm | F29: Muckhatch Lane | G29: Egham | H29: TW20 8PH
A30: Mrs C James | B30: 8 Fitzgerald House | C30: Mrs Cecilyn James | D30: UB3 3PW | E30: 285 Bourne Avenue | F30: Hayes | G30: Middx | H30: UB3 1RR
A31: Mr M Raja | B31: 20 Fitzgerald House | C31: Mr Mohammed Raja | D31: UB3 3PW | E31: 1 Westfield Cottages | F31: Sipson Lane | G31: Harlington Middx | H31: UB3 5EJ
A32: Mr M Jaamac | B32: 41 Fitzgerald House | C32: Mr Mursal Jaamac | D32: UB3 3PW | E32: 41 Fitzgerald House | F32: 237 Avondale Drive | G32: Hayes Middx | H32: UB3 3PW
A33: Mrs N Thandi, Mr J Tankaria | B33: 4 Glenister House | C33: Mrs Neela Thandi & Mr Jaimin Tankaria | D33: UB3 3PP | E33: C/O Jaimin Property Management | F33: Ground Floor | G33: 100 College Road Harrow | H33: HA1 1BQ
A34: I4b Holdings Ltd | B34: 5 Glenister House | C34: I4b Holdings Ltd | D34: UB3 3PP | E34: Home Ownership | F34: Brent Civic Centre | G34: 9 Engineers Way Wembley | H34: HA9 0FJ
A35: Mr N Khurana | B35: 13 Glenister House | C35: Mr Narinder Singh Khurana | D35: UB3 3PP | E35: 11a Hamilton Road | F35: Hayes | G35: Middx | H35: UB3 3AR
A36: Mr G Chana | B36: 32 Glenister House | C36: Mr Gurdev Chana | D36: UB3 3PP | E36: 271 Vicarage Farm Road | F36: Heston | G36: Middx | H36: TW5 0DR
A37: Mrs Sumra, Mr Sumra | B37: 41 Glenister House | C37: Mr Sumra & Mrs Sumra | D37: UB3 3PP | E37: 14 Fern Lane | F37: Heston | G37: Middx | H37: TW5 0HL
A38: Winterhall Estates | B38: 1 Wellings House | C38: Winterhall Estates | D38: UB3 3PN | E38: 39-41 Markfield Road | F38: London | H38: N15 4QA
A39: I4b Holdings Ltd | B39: 9 Wellings House | C39: I4b Holdings Ltd | D39: UB3 3PN | E39: Home Ownership | F39: Brent Civic Centre | G39: 9 Engineers Way Wembley | H39: HA9 0FJ
A40: I4b Holdings Ltd | B40: 10 Wellings House | C40: I4b Holdings Ltd | D40: UB3 3PN | E40: Home Ownership | F40: Brent Civic Centre | G40: 9 Engineers Way Wembley | H40: HA9 0FJ
A41: Miss I Abdi | B41: 16 Wellings House | C41: Miss Ismahan Abdi | D41: UB3 3PN | E41: 39 Bellow House | F41: Gayton Road | G41: Harrow Middx | H41: HA1 2DQ
A42: Miss H Quraishi | B42: 19 Wellings House | C42: Miss Huma Quraishi | D42: UB3 3PN | E42: 112 Evelyn Avenue | F42: Ruislip | G42: Middx | H42: HA4 8AQ
A43: Mr W Zhang | B43: 20 Wellings House | C43: Mr Wenjie Zhang | D43: UB3 3PN | E43: 20 Wellings House | F43: 236 Avondale Drive | G43: Hayes Middx | H43: UB3 3PN
A44: Miss J Chen | B44: 21 Wellings House | C44: Miss Jing Wen Chen | D44: UB3 3PN | E44: Flat 6 | F44: Plough Court | G44: 14 Ealing Road Northolt | H44: UB5 5HT
A45: Mrs A Gazmer, Mr Y Bahadur Bk | B45: 23 Wellings House | C45: Mr Yad Bahadur Bk & Mrs Anjana Gazmer | D45: UB3 3PN | E45: 113 Woolacombe Way | F45: Hayes | G45: Middx | H45: UB3 4EY

Sheet Sheet2
C3: HA | D3: 5 | E3: AUSTIN ROAD | F3: UB3 3DA
C4: HA | D4: 7 | E4: AUSTIN ROAD | F4: UB3 3DA
C5: HA | D5: 12 | E5: AUSTIN ROAD | F5: UB3 3DB
C6: HA | D6: 71 | E6: AUSTIN ROAD | F6: UB3 3DH
C7: HA | D7: 74 | E7: AUSTIN ROAD | F7: UB3 3DH
C8: HA | D8: 79 | E8: AUSTIN ROAD | F8: UB3 3DH | L8: =280000*1.4/100 -> 3920
C9: HA | D9: 87 | E9: AUSTIN ROAD | F9: UB3 3DJ
C10: HA | D10: 93 | E10: AUSTIN ROAD | F10: UB3 3DL
C11: HA | D11: 102 | E11: AUSTIN ROAD | F11: UB3 3DN
C12: HA | D12: 58 | E12: AUSTIN ROAD | F12: UB3 3DG
C13: HA | D13: 109 | E13: AUSTIN ROAD | F13: UB3 3DN
C14: HA | D14: 121 | E14: AUSTIN ROAD | F14: UB3 3DP
C15: HA | D15: 135 | E15: AUSTIN ROAD | F15: UB3 3DR
C16: HA | D16: 3 | E16: SKEFFINGTON COURT | F16: UB3 3BY
C17: HA | D17: 16 | E17: SILVERDALE ROAD | F17: UB3 3BX
C18: HA | D18: 33 | E18: SILVERDALE ROAD | F18: UB3 3BX
C19: HA | D19: 38 | E19: SKEFFINGTON COURT | F19: UB3 3BY
C20: HA | D20: 45 | E20: SILVERDALE ROAD | F20: UB3 3BX
... C25: HA | D25: 33 | E25: GLENISTER HOUSE | F25: UB3 3PP

Sheet HTC as Prop (Uplift)
A1: Austin Road
A3: Proposed Accommodation Schedule - Base scheme
A4: A | B4: 43790 | D4: General amendments | J4: F = Flats
A5: B | B5: 43794 | D5: General amendments | J5: D = Duplex
A6: C | B6: 44250 | D6: General amendments | J6: H = Houses
A7: D | B7: 44277 | D7: General amendments | J7: W = Wheelchair
A9: Note | B9: m2 areas are target areas only. Final dwelling areas will depend of building layout.
B11: BLK A | D11: 1B2P (F) | E11: 1B2P (WF) | F11: 2B4P (F) | G11: 2B3P (WF) | H11: 2B4P (D) | I11: 2B4P (H) | J11: 3B5P (F) | K11: 3B5P (D) | L11: 3B5P (H) | M11: 4B6P (D) | O11: Total | Q11: GIA (m2)
B12: Target m2 | D12: 50 | E12: 60 | F12: 70 | G12: 80 | H12: 88 | I12: 88 | J12: 86 | K12: 102 | L12: 113 | M12: 115
B13: 0 | H13: 3 | K13: 1 | O13: =SUM(D13:K13) -> 4
B14: 1 | D14: 1 | F14: 2 | J14: 1 | O14: =SUM(D14:K14) -> 4
B15: 2 | D15: 3 | F15: 2 | G15: 1 | J15: 1 | O15: =SUM(D15:K15) -> 7
B16: 3 | D16: 3 | F16: 2 | G16: 1 | J16: 1 | O16: =SUM(D16:K16) -> 7
B17: 4 | D17: 3 | F17: 2 | G17: 1 | J17: 1 | O17: =SUM(D17:K17) -> 7
B18: 5 | D18: 1 | F18: 2 | J18: 1 | O18: =SUM(D18:K18) -> 4
B19: 6 | D19: 1 | F19: 2 | J19: 1 | O19: =SUM(D19:K19) -> 4
B20: 7 | D20: 1 | F20: 2 | J20: 1 | O20: =SUM(D20:K20) -> 4
B22: TOTAL | D22: =SUM(D13:D20) -> 13 | E22: =SUM(E13:E20) -> 0 | F22: =SUM(F13:F20) -> 14 | G22: =SUM(G13:G20) -> 3 | H22: =SUM(H13:H20) -> 3 | I22: =SUM(I13:I20) -> 0 | J22: =SUM(J13:J20) -> 7 | K22: =SUM(K13:K20) -> 1 | ... M22: =SUM(M13:M20) -> 0 | O22: =SUM(O13:O20) -> 41 | Q22: =SUM(Q13:Q18) -> 0
B24: BLK B | D24: 1B2P (F) | E24: 1B2P (WF) | F24: 2B4P (F) | G24: 2B3P (WF) | H24: 2B4P (D) | I24: 2B4P (H) | J24: 3B5P (F) | K24: 3B5P (D) | L24: 3B5P (H) | M24: 4B6P (D) | O24: Total | Q24: GIA (m2)
B25: Target m2 | D25: 50 | E25: 60 | F25: 70 | G25: 80 | H25: 88 | I25: 88 | J25: 86 | K25: 102 | L25: 113 | M25: 115
B26: 0 | F26: 1 | G26: 1 | H26: 3 | K26: 1 | M26: 1 | O26: =SUM(D26:M26) -> 7
B27: 1 | D27: 1 | F27: 2 | J27: 1 | O27: =SUM(D27:K27) -> 4
B28: 2 | D28: 3 | F28: 2 | G28: 1 | J28: 1 | O28: =SUM(D28:K28) -> 7
B29: 3 | D29: 3 | F29: 2 | G29: 1 | J29: 1 | O29: =SUM(D29:K29) -> 7
B30: 4 | D30: 3 | F30: 2 | G30: 1 | J30: 1 | O30: =SUM(D30:K30) -> 7
B31: 5 | D31: 3 | F31: 2 | G31: 1 | J31: 1 | O31: =SUM(D31:K31) -> 7
B33: TOTAL | D33: =SUM(D26:D31) -> 13 | E33: =SUM(E26:E31) -> 0 | F33: =SUM(F26:F31) -> 11 | G33: =SUM(G26:G31) -> 5 | H33: =SUM(H26:H31) -> 3 | I33: =SUM(I26:I31) -> 0 | J33: =SUM(J26:J31) -> 5 | K33: =SUM(K26:K31) -> 1 | ... M33: =SUM(M26:M31) -> 1 | O33: =SUM(O26:O31) -> 39 | Q33: =SUM(Q26:Q31) -> 0
B35: BLK C | D35: 1B2P (F) | E35: 1B2P (WF) | F35: 2B4P (F) | G35: 2B3P (WF) | H35: 2B4P (D) | I35: 2B4P (H) | J35: 3B5P (F) | K35: 3B5P (D) | L35: 3B5P (H) | M35: 4B6P (D) | O35: Total | Q35: GIA (m2)
B36: Target m2 | D36: 50 | E36: 60 | F36: 70 | G36: 80 | H36: 88 | I36: 88 | J36: 86 | K36: 102 | L36: 113 | M36: 115
B37: 0 | H37: 3 | K37: 1 | O37: =SUM(D37:K37) -> 4
B38: 1 | D38: 1 | F38: 2 | J38: 1 | O38: =SUM(D38:K38) -> 4
B39: 2 | D39: 3 | F39: 2 | G39: 1 | J39: 1 | O39: =SUM(D39:K39) -> 7
B40: 3 | D40: 3 | F40: 2 | G40: 1 | J40: 1 | O40: =SUM(D40:K40) -> 7
B41: 4 | D41: 3 | F41: 2 | G41: 1 | J41: 1 | O41: =SUM(D41:K41) -> 7
B42: 5 | D42: 1 | F42: 2 | J42: 1 | O42: =SUM(D42:K42) -> 4
B43: 6 | D43: 1 | F43: 2 | J43: 1 | O43: =SUM(D43:K43) -> 4
B44: 7 | D44: 1 | F44: 2 | J44: 1 | O44: =SUM(D44:K44) -> 4
B46: TOTAL | D46: =SUM(D37:D44) -> 13 | E46: =SUM(E37:E44) -> 0 | F46: =SUM(F37:F44) -> 14 | G46: =SUM(G37:G44) -> 3 | H46: =SUM(H37:H44) -> 3 | I46: =SUM(I37:I44) -> 0 | J46: =SUM(J37:J44) -> 7 | K46: =SUM(K37:K44) -> 1 | ... M46: =SUM(M37:M44) -> 0 | O46: =SUM(O37:O44) -> 41 | Q46: =SUM(Q37:Q42) -> 0
B48: BLK D | D48: 1B2P (F) | E48: 1B2P (WF) | F48: 2B4P (F) | G48: 2B3P (WF) | H48: 2B4P (D) | I48: 2B4P (H) | J48: 3B5P (F) | K48: 3B5P (D) | L48: 3B5P (H) | M48: 4B6P (D) | O48: Total | Q48: GIA (m2)
B49: Target m2 | D49: 50 | E49: 60 | F49: 70 | G49: 80 | H49: 88 | I49: 88 | J49: 86 | K49: 102 | L49: 113 | M49: 115
B50: 0 | F50: 1 | G50: 1 | H50: 3 | K50: 1 | M50: 1 | O50: =SUM(D50:M50) -> 7
B51: 1 | D51: 1 | F51: 2 | J51: 1 | O51: =SUM(D51:K51) -> 4
B52: 2 | D52: 3 | F52: 2 | G52: 1 | J52: 1 | O52: =SUM(D52:K52) -> 7
B53: 3 | D53: 3 | F53: 2 | G53: 1 | J53: 1 | O53: =SUM(D53:K53) -> 7
B54: 4 | D54: 3 | F54: 2 | G54: 1 | J54: 1 | O54: =SUM(D54:K54) -> 7
B55: 5 | D55: 3 | F55: 2 | G55: 1 | J55: 1 | O55: =SUM(D55:K55) -> 7
B57: TOTAL | D57: =SUM(D50:D55) -> 13 | E57: =SUM(E50:E55) -> 0 | F57: =SUM(F50:F55) -> 11 | G57: =SUM(G50:G55) -> 5 | H57: =SUM(H50:H55) -> 3 | I57: =SUM(I50:I55) -> 0 | J57: =SUM(J50:J55) -> 5 | K57: =SUM(K50:K55) -> 1 | ... M57: =SUM(M50:M55) -> 1 | O57: =SUM(O50:O55) -> 39 | Q57: =SUM(Q50:Q55) -> 0
B59: BLK E | D59: 1B2P (F) | E59: 1B2P (WF) | F59: 2B4P (F) | G59: 2B3P (WF) | H59: 2B4P (D) | I59: 2B4P (H) | J59: 3B5P (F) | K59: 3B5P (D) | L59: 3B5P (H) | M59: 4B6P (D) | O59: Total
B60: Target m2 | D60: 50 | E60: 60 | F60: 70 | G60: 80 | H60: 88 | I60: 88 | J60: 86 | K60: 102 | L60: 113 | M60: 115
B61: 0 | H61: 3 | K61: 1 | O61: =SUM(D61:K61) -> 4
B62: 1 | D62: 1 | F62: 2 | J62: 1 | O62: =SUM(D62:K62) -> 4
B63: 2 | D63: 3 | F63: 2 | G63: 1 | J63: 1 | O63: =SUM(D63:K63) -> 7
B64: 3 | D64: 3 | F64: 2 | G64: 1 | J64: 1 | O64: =SUM(D64:K64) -> 7
B65: 4 | D65: 3 | F65: 2 | G65: 1 | J65: 1 | O65: =SUM(D65:K65) -> 7
B66: 5 | D66: 1 | F66: 2 | J66: 1 | O66: =SUM(D66:K66) -> 4
B67: 6 | D67: 1 | F67: 2 | J67: 1 | O67: =SUM(D67:K67) -> 4
B68: 7 | D68: 1 | F68: 2 | J68: 1 | O68: =SUM(D68:K68) -> 4
B70: TOTAL | D70: =SUM(D61:D68) -> 13 | E70: =SUM(E61:E68) -> 0 | F70: =SUM(F61:F68) -> 14 | G70: =SUM(G61:G68) -> 3 | H70: =SUM(H61:H68) -> 3 | I70: =SUM(I61:I68) -> 0 | J70: =SUM(J61:J68) -> 7 | K70: =SUM(K61:K68) -> 1 | ... M70: =SUM(M61:M68) -> 0 | O70: =SUM(O61:O68) -> 41
B72: BLK F | D72: 1B2P (F) | E72: 1B2P (WF) | F72: 2B4P (F) | G72: 2B3P (WF) | H72: 2B4P (D) | I72: 2B4P (H) | J72: 3B5P (F) | K72: 3B5P (D) | L72: 3B5P (H) | M72: 4B6P (D) | O72: Total
B73: Target m2 | D73: 50 | E73: 60 | F73: 70 | G73: 80 | H73: 88 | I73: 88 | J73: 86 | K73: 102 | L73: 113 | M73: 115
B74: 0 | F74: 1 | G74: 1 | H74: 3 | K74: 1 | M74: 1 | O74: =SUM(D74:M74) -> 7
B75: 1 | D75: 1 | F75: 2 | J75: 1 | O75: =SUM(D75:K75) -> 4
B76: 2 | D76: 3 | F76: 2 | G76: 1 | J76: 1 | O76: =SUM(D76:K76) -> 7
B77: 3 | D77: 3 | F77: 2 | G77: 1 | J77: 1 | O77: =SUM(D77:K77) -> 7
B78: 4 | D78: 3 | F78: 2 | G78: 1 | J78: 1 | O78: =SUM(D78:K78) -> 7
B79: 5 | D79: 3 | F79: 2 | G79: 1 | J79: 1 | O79: =SUM(D79:K79) -> 7
B81: TOTAL | D81: =SUM(D74:D79) -> 13 | E81: =SUM(E74:E79) -> 0 | F81: =SUM(F74:F79) -> 11 | G81: =SUM(G74:G79) -> 5 | H81: =SUM(H74:H79) -> 3 | I81: =SUM(I74:I79) -> 0 | J81: =SUM(J74:J79) -> 5 | K81: =SUM(K74:K79) -> 1 | ... M81: =SUM(M74:M79) -> 1 | O81: =SUM(O74:O79) -> 39
B83: BLK G | D83: 1B2P (F) | E83: 1B2P (WF) | F83: 2B4P (F) | G83: 2B3P (WF) | H83: 2B4P (D) | I83: 2B4P (H) | J83: 3B5P (F) | K83: 3B5P (D) | L83: 3B5P (H) | M83: 4B6P (D) | O83: Total | Q83: GIA (m2)
B84: Target m2 | D84: 50 | E84: 60 | F84: 70 | G84: 80 | H84: 88 | I84: 88 | J84: 86 | K84: 102 | L84: 113 | M84: 115
B85: 0 | D85: 1 | F85: 4 | O85: =SUM(D85:L85) -> 5
B86: 1 | D86: 3 | F86: 4 | O86: =SUM(D86:K86) -> 7
B87: 2 | D87: 3 | F87: 4 | O87: =SUM(D87:K87) -> 7
B88: 3 | D88: 3 | F88: 4 | O88: =SUM(D88:K88) -> 7
B89: 4 | D89: 3 | F89: 4 | O89: =SUM(D89:K89) -> 7
B90: 5 | D90: 3 | F90: 4 | O90: =SUM(D90:K90) -> 7
B91: 6 | D91: 3 | F91: 4 | O91: =SUM(D91:K91) -> 7
B92: 7 | D92: 3 | F92: 4 | O92: =SUM(D92:K92) -> 7
B94: TOTAL | D94: =SUM(D85:D92) -> 22 | E94: =SUM(E85:E92) -> 0 | F94: =SUM(F85:F92) -> 32 | G94: =SUM(G85:G92) -> 0 | H94: =SUM(H85:H92) -> 0 | I94: =SUM(I85:I92) -> 0 | J94: =SUM(J85:J92) -> 0 | K94: =SUM(K85:K92) -> 0 | ... M94: =SUM(M85:M92) -> 0 | O94: =SUM(O85:O92) -> 54 | Q94: =SUM(Q85:Q90) -> 0
B96: BLK H | D96: 1B2P (F) | E96: 1B2P (WF) | F96: 2B4P (F) | G96: 2B3P (WF) | H96: 2B4P (D) | I96: 2B4P (H) | J96: 3B5P (F) | K96: 3B5P (D) | L96: 3B5P (H) | M96: 4B6P (D) | O96: Total
B97: Target m2 | D97: 50 | E97: 60 | F97: 70 | G97: 80 | H97: 88 | I97: 88 | J97: 86 | K97: 102 | L97: 113 | M97: 115
B98: 0 | O98: =SUM(D98:K98) -> 0
B99: 1 | D99: 2 | F99: 2 | O99: =SUM(D99:K99) -> 4
B100: 2 | D100: 2 | E100: 2 | F100: 2 | O100: =SUM(D100:K100) -> 6
B101: 3 | D101: 2 | E101: 2 | F101: 2 | O101: =SUM(D101:K101) -> 6
B102: 4 | D102: 2 | E102: 2 | F102: 2 | O102: =SUM(D102:K102) -> 6
B103: 5 | D103: 2 | E103: 2 | F103: 2 | O103: =SUM(D103:K103) -> 6
B104: 6 | D104: 2 | E104: 2 | F104: 2 | O104: =SUM(D104:K104) -> 6
B105: 7 | D105: 2 | E105: 2 | F105: 2 | O105: =SUM(D105:K105) -> 6
B106: 8 | D106: 2 | E106: 2 | F106: 2 | O106: =SUM(D106:K106) -> 6
B107: 9 | D107: 4 | F107: 2 | O107: =SUM(D107:K107) -> 6
B108: 10 | O108: =SUM(D108:K108) -> 0
B109: 11 | O109: =SUM(D109:K109) -> 0
B111: TOTAL | D111: =SUM(D98:D109) -> 20 | E111: =SUM(E98:E109) -> 14 | F111: =SUM(F98:F109) -> 18 | G111: =SUM(G98:G109) -> 0 | H111: =SUM(H98:H109) -> 0 | I111: =SUM(I98:I109) -> 0 | J111: =SUM(J98:J109) -> 0 | K111: =SUM(K98:K109) -> 0 | ... M111: =SUM(M98:M109) -> 0 | O111: =SUM(O98:O109) -> 52
B113: BLK I | D113: 1B2P (F) | E113: 1B2P (WF) | F113: 2B4P (F) | G113: 2B3P (WF) | H113: 2B4P (D) | I113: 2B4P (H) | J113: 3B5P (F) | K113: 3B5P (D) | L113: 3B5P (H) | M113: 4B6P (D) | O113: Total
B114: Target m2 | D114: 50 | E114: 60 | F114: 70 | G114: 80 | H114: 88 | I114: 88 | J114: 86 | K114: 102 | L114: 113 | M114: 115
B115: 0 | D115: 2 | F115: 2 | O115: =SUM(D115:K115) -> 4
B116: 1 | D116: 2 | F116: 2 | G116: 2 | J116: 2 | O116: =SUM(D116:K116) -> 8
B117: 2 | D117: 2 | F117: 2 | G117: 2 | J117: 2 | O117: =SUM(D117:K117) -> 8
B118: 3 | D118: 2 | F118: 2 | G118: 2 | J118: 2 | O118: =SUM(D118:K118) -> 8
B119: 4 | D119: 2 | F119: 2 | G119: 2 | J119: 2 | O119: =SUM(D119:K119) -> 8
...

Sheet AD as Prop (Uplift)
A1: Avondale Road
A3: Proposed Accommodation Schedule - Uplift scheme
A4: / | B4: 44250 | D4: Initial Issue | I4: F = Flats
A5: A | B5: 44277 | D5: General Updates | I5: D = Duplex
I6: H = Houses
I7: W = Wheelchair
A9: Note | B9: m2 areas are target areas only and do not include allowance for wheelchair home uplift. Final dwelling areas will depend of building layout.
B11: BLK A | D11: 1B2P (F) | E11: 1B2P (WF) | F11: 2B4P (F) | G11: 2B3P (WF) | H11: 2B4P (D) | I11: 3B5P (F) | J11: 3B5P (D) | K11: 3B6P (F) | L11: 4B6P (D) | N11: Total | P11: GIA (m2)
B12: m2 | D12: 50 | E12: 60 | F12: 70 | G12: 80 | H12: 88 | I12: 86 | J12: 102 | K12: 95 | L12: 115
B13: 0 | F13: 2 | H13: 1 | J13: 1 | L13: 1 | N13: =SUM(D13:L13) -> 5
B14: 1 | D14: 1 | F14: 2 | I14: 1 | N14: =SUM(D14:L14) -> 4
B15: 2 | D15: 1 | F15: 3 | I15: 1 | K15: 1 | N15: =SUM(D15:L15) -> 6
B16: 3 | D16: 1 | F16: 3 | I16: 1 | K16: 1 | N16: =SUM(D16:L16) -> 6
B17: 4 | D17: 1 | F17: 3 | I17: 1 | K17: 1 | N17: =SUM(D17:L17) -> 6
B19: TOTAL | D19: =SUM(D13:D18) -> 4 | E19: =SUM(E13:E18) -> 0 | F19: =SUM(F13:F18) -> 13 | G19: =SUM(G13:G18) -> 0 | H19: =SUM(H13:H18) -> 1 | I19: =SUM(I13:I18) -> 4 | J19: =SUM(J13:J18) -> 1 | K19: =SUM(K13:K18) -> 3 | L19: =SUM(L13:L18) -> 1 | N19: =SUM(N13:N18) -> 27 | P19: =SUM(P13:P17) -> 0
B21: BLK B | D21: 1B2P (F) | E21: 1B2P (WF) | F21: 2B4P (F) | G21: 2B3P (WF) | H21: 2B4P (D) | I21: 3B5P (F) | J21: 3B5P (D) | K21: 3B6P (F) | L21: 4B6P (D) | N21: Total | P21: GIA (m2)
B22: m2 | D22: 50 | E22: 60 | F22: 70 | G22: 80 | H22: 88 | I22: 86 | J22: 102 | K22: 95 | L22: 115
B23: 0 | D23: 2 | F23: 2 | J23: 1 | N23: =SUM(D23:L23) -> 5
B24: 1 | E24: 1 | F24: 2 | K24: 1 | N24: =SUM(D24:L24) -> 4
B25: 2 | E25: 1 | F25: 2 | K25: 1 | N25: =SUM(D25:L25) -> 4
B26: 3 | E26: 1 | F26: 2 | K26: 1 | N26: =SUM(D26:L26) -> 4
B27: 4 | E27: 1 | F27: 2 | K27: 1 | N27: =SUM(D27:L27) -> 4
B28: 5 | E28: 1 | F28: 2 | K28: 1 | N28: =SUM(D28:L28) -> 4
B29: 6 | E29: 1 | F29: 2 | K29: 1 | N29: =SUM(D29:L29) -> 4
B31: TOTAL | D31: =SUM(D23:D29) -> 2 | E31: =SUM(E23:E29) -> 6 | F31: =SUM(F23:F29) -> 14 | G31: =SUM(G23:G29) -> 0 | H31: =SUM(H23:H29) -> 0 | I31: =SUM(I23:I29) -> 0 | J31: =SUM(J23:J29) -> 1 | K31: =SUM(K23:K29) -> 6 | L31: =SUM(L23:L29) -> 0 | N31: =SUM(N23:N29) -> 29 | P31: =SUM(P23:P28) -> 0
B33: BLK C | D33: 1B2P (F) | E33: 1B2P (WF) | F33: 2B4P (F) | G33: 2B3P (WF) | H33: 2B4P (D) | I33: 3B5P (F) | J33: 3B5P (D) | K33: 3B6P (F) | L33: 4B6P (D) | N33: Total | P33: GIA (m2)
B34: m2 | D34: 50 | E34: 60 | F34: 70 | G34: 80 | H34: 88 | I34: 86 | J34: 102 | K34: 95 | L34: 115
B35: 0 | H35: 1 | I35: 1 | J35: 2 | L35: 1 | N35: =SUM(D35:L35) -> 5
B36: 1 | D36: 3 | F36: 1 | G36: 1 | N36: =SUM(D36:L36) -> 5
B37: 2 | D37: 3 | F37: 2 | G37: 1 | K37: 1 | N37: =SUM(D37:L37) -> 7
B38: 3 | D38: 3 | F38: 2 | G38: 1 | K38: 1 | N38: =SUM(D38:L38) -> 7
B39: 4 | D39: 3 | F39: 2 | G39: 1 | K39: 1 | N39: =SUM(D39:L39) -> 7
B41: TOTAL | D41: =SUM(D35:D40) -> 12 | E41: =SUM(E35:E40) -> 0 | F41: =SUM(F35:F40) -> 7 | G41: =SUM(G35:G40) -> 4 | H41: =SUM(H35:H40) -> 1 | I41: =SUM(I35:I40) -> 1 | J41: =SUM(J35:J40) -> 2 | K41: =SUM(K35:K40) -> 3 | L41: =SUM(L35:L40) -> 1 | N41: =SUM(N35:N40) -> 31 | P41: =SUM(P35:P39) -> 0
B43: BLK D | D43: 1B2P (F) | E43: 1B2P (WF) | F43: 2B4P (F) | G43: 2B3P (WF) | H43: 2B4P (D) | I43: 3B5P (F) | J43: 3B5P (D) | K43: 3B6P (F) | L43: 4B6P (D) | N43: Total
B44: m2 | D44: 50 | E44: 60 | F44: 70 | G44: 80 | H44: 88 | I44: 86 | J44: 102 | K44: 95 | L44: 115
B45: 0 | H45: 3 | J45: 1 | N45: =SUM(D45:L45) -> 4
B46: 1 | F46: 1 | G46: 1 | N46: =SUM(D46:L46) -> 2
B47: 2 | D47: 2 | F47: 2 | G47: 1 | N47: =SUM(D47:L47) -> 5
B48: 3 | D48: 2 | F48: 2 | G48: 1 | N48: =SUM(D48:L48) -> 5
B49: 4 | D49: 2 | F49: 2 | G49: 1 | N49: =SUM(D49:L49) -> 5
B50: 5 | D50: 2 | F50: 2 | G50: 1 | N50: =SUM(D50:L50) -> 5
B51: 6 | D51: 2 | F51: 2 | G51: 1 | N51: =SUM(D51:L51) -> 5
B53: TOTAL | D53: =SUM(D45:D52) -> 10 | E53: =SUM(E45:E52) -> 0 | F53: =SUM(F45:F52) -> 11 | G53: =SUM(G45:G52) -> 6 | H53: =SUM(H45:H52) -> 3 | I53: =SUM(I45:I52) -> 0 | J53: =SUM(J45:J52) -> 1 | K53: =SUM(K45:K52) -> 0 | L53: =SUM(L45:L52) -> 0 | N53: =SUM(N45:N52) -> 31
B55: BLK E | D55: 1B2P (F) | E55: 1B2P (WF) | F55: 2B4P (F) | G55: 2B3P (WF) | H55: 2B4P (D) | I55: 3B5P (F) | J55: 3B5P (D) | K55: 3B6P (F) | L55: 4B6P (D) | N55: Total
B56: m2 | D56: 50 | E56: 60 | F56: 70 | G56: 80 | H56: 88 | I56: 86 | J56: 102 | K56: 95 | L56: 115
B57: 0 | H57: 1 | J57: 2 | N57: =SUM(D57:L57) -> 3
B58: 1 | E58: 1 | N58: =SUM(D58:L58) -> 1
B59: 2 | D59: 2 | F59: 2 | N59: =SUM(D59:L59) -> 4
B60: 3 | D60: 2 | F60: 2 | N60: =SUM(D60:L60) -> 4
B61: 4 | D61: 2 | F61: 2 | N61: =SUM(D61:L61) -> 4
B62: 5 | D62: 2 | F62: 2 | N62: =SUM(D62:L62) -> 4
B63: 6 | D63: 2 | F63: 2 | N63: =SUM(D63:L63) -> 4
B64: 7 | D64: 2 | F64: 2 | N64: =SUM(D64:L64) -> 4
B65: 8 | D65: 2 | F65: 2 | N65: =SUM(D65:L65) -> 4
B66: 9 | D66: 2 | F66: 2 | N66: =SUM(D66:L66) -> 4
B68: TOTAL | D68: =SUM(D57:D67) -> 16 | E68: =SUM(E57:E67) -> 1 | F68: =SUM(F57:F67) -> 16 | G68: =SUM(G57:G67) -> 0 | H68: =SUM(H57:H67) -> 1 | I68: =SUM(I57:I67) -> 0 | J68: =SUM(J57:J67) -> 2 | K68: =SUM(K57:K67) -> 0 | L68: =SUM(L57:L67) -> 0 | N68: =SUM(N57:N67) -> 36
B70: BLK F | D70: 1B2P (F) | E70: 1B2P (WF) | F70: 2B4P (F) | G70: 2B3P (WF) | H70: 2B4P (D) | I70: 3B5P (F) | J70: 3B5P (D) | K70: 3B6P (F) | L70: 4B6P (D) | N70: Total
B71: m2 | D71: 50 | E71: 60 | F71: 70 | G71: 80 | H71: 88 | I71: 86 | J71: 102 | K71: 95 | L71: 115
B72: 0 | H72: 3 | J72: 1 | L72: 1 | N72: =SUM(D72:L72) -> 5
B73: 1 | D73: 2 | E73: 1 | N73: =SUM(D73:L73) -> 3
B74: 2 | D74: 3 | F74: 3 | I74: 1 | N74: =SUM(D74:L74) -> 7
B75: 3 | D75: 3 | F75: 3 | I75: 1 | N75: =SUM(D75:L75) -> 7
B76: 4 | D76: 3 | F76: 3 | I76: 1 | N76: =SUM(D76:L76) -> 7
B78: TOTAL | D78: =SUM(D72:D77) -> 11 | E78: =SUM(E72:E77) -> 1 | F78: =SUM(F72:F77) -> 9 | G78: =SUM(G72:G77) -> 0 | H78: =SUM(H72:H77) -> 3 | I78: =SUM(I72:I77) -> 3 | J78: =SUM(J72:J77) -> 1 | K78: =SUM(K72:K77) -> 0 | L78: =SUM(L72:L77) -> 1 | N78: =SUM(N72:N77) -> 29
B80: BLK G | D80: 1B2P (F) | E80: 1B2P (WF) | F80: 2B4P (F) | G80: 2B3P (WF) | H80: 2B4P (D) | I80: 3B5P (F) | J80: 3B5P (D) | K80: 3B6P (F) | L80: 4B6P (D) | N80: Total
B81: m2 | D81: 50 | E81: 60 | F81: 70 | G81: 80 | H81: 88 | I81: 86 | J81: 102 | K81: 95 | L81: 115
B82: 0 | H82: 1 | J82: 2 | N82: =SUM(D82:L82) -> 3
B83: 1 | E83: 1 | N83: =SUM(D83:L83) -> 1
B84: 2 | D84: 2 | F84: 2 | N84: =SUM(D84:L84) -> 4
B85: 3 | D85: 2 | F85: 2 | N85: =SUM(D85:L85) -> 4
B86: 4 | D86: 2 | F86: 2 | N86: =SUM(D86:L86) -> 4
B87: 5 | D87: 2 | F87: 2 | N87: =SUM(D87:L87) -> 4
B88: 6 | D88: 2 | F88: 2 | N88: =SUM(D88:L88) -> 4
B90: TOTAL | D90: =SUM(D82:D88) -> 10 | E90: =SUM(E82:E88) -> 1 | F90: =SUM(F82:F88) -> 10 | G90: =SUM(G82:G88) -> 0 | H90: =SUM(H82:H88) -> 1 | I90: =SUM(I82:I88) -> 0 | J90: =SUM(J82:J88) -> 2 | K90: =SUM(K82:K88) -> 0 | L90: =SUM(L82:L88) -> 0 | N90: =SUM(N82:N88) -> 24
B92: BLK H | D92: 1B2P (F) | E92: 1B2P (WF) | F92: 2B4P (F) | G92: 2B3P (WF) | H92: 2B4P (D) | I92: 3B5P (F) | J92: 3B5P (D) | K92: 3B6P (F) | L92: 4B6P (D) | N92: Total
B93: m2 | D93: 50 | E93: 60 | F93: 70 | G93: 80 | H93: 88 | I93: 86 | J93: 102 | K93: 95 | L93: 115
B94: 0 | H94: 1 | I94: 1 | L94: 1 | N94: =SUM(D94:L94) -> 3
B95: 1 | D95: 3 | N95: =SUM(D95:L95) -> 3
B96: 2 | D96: 3 | F96: 2 | G96: 1 | N96: =SUM(D96:L96) -> 6
B97: 3 | D97: 3 | F97: 2 | G97: 1 | N97: =SUM(D97:L97) -> 6
B98: 4 | D98: 1 | F98: 2 | G98: 1 | I98: 1 | N98: =SUM(D98:L98) -> 5
B99: 5 | D99: 1 | F99: 2 | G99: 1 | I99: 1 | N99: =SUM(D99:L99) -> 5
B100: 6 | D100: 1 | F100: 2 | G100: 1 | I100: 1 | N100: =SUM(D100:L100) -> 5
B102: TOTAL | D102: =SUM(D94:D100) -> 12 | E102: =SUM(E94:E100) -> 0 | F102: =SUM(F94:F100) -> 10 | G102: =SUM(G94:G100) -> 5 | H102: =SUM(H94:H100) -> 1 | I102: =SUM(I94:I100) -> 4 | J102: =SUM(J94:J100) -> 0 | K102: =SUM(K94:K100) -> 0 | L102: =SUM(L94:L100) -> 1 | N102: =SUM(N94:N100) -> 33
B104: Summary | D104: 1B2P (F) | E104: 1B2P (WF) | F104: 2B4P (F) | G104: 2B3P (WF) | H104: 2B4P (D) | I104: 3B5P (F) | J104: 3B5P (D) | K104: 3B6P (F) | L104: 4B6P (D) | N104: Total
D105: 50 | E105: 60 | F105: 70 | G105: 80 | H105: 88 | I105: 86 | J105: 102 | K105: 95 | L105: 115
B106: Total No. | D106: =SUM(D19,D31,D41,D53,D68,D78,D90,D102) -> 77 | E106: =SUM(E19,E31,E41,E53,E68,E78,E90,E102) -> 9 | F106: =SUM(F19,F31,F41,F53,F68,F78,F90,F102) -> 90 | G106: =SUM(G19,G31,G41,G53,G68,G78,G90,G102) -> 15 | H106: =SUM(H19,H31,H41,H53,H68,H78,H90,H102) -> 11 | I106: =SUM(I19,I31,I41,I53,I68,I78,I90,I102) -> 12 | J106: =SUM(J19,J31,J41,J53,J68,J78,J90,J102) -> 10 | K106: =SUM(K19,K31,K41,K53,K68,K78,K90,K102) -> 12 | L106: =SUM(L19,L31,L41,L53,L68,L78,L90,L102) -> 4 | N106: =SUM(N19,N31,N41,N53,N68,N78,N90,N102) -> 240
B107: % Mix | D107: =SUM(D106:E106)/N106 -> 0.35833333 | F107: =SUM(F106:H106)/N106 -> 0.48333333 | I107: {=SUM(I106:K106/N106)} -> 0.14166667 | L107: =L106/N106 -> 0.016666667 | N107: =SUM(D107:L107) -> 1
B108: GIA (m2) | D108: =D106*D105 -> 3850 | E108: =E106*E105 -> 540 | F108: =F106*F105 -> 6300 | G108: =G106*G105 -> 1200 | H108: =H106*H105 -> 968 | I108: =I106*I105 -> 1032 | J108: =J106*J105 -> 1020 | K108: =K106*K105 -> 1140 | L108: =L106*L105 -> 460 | N108: =SUM(D108:M108) -> 16510
B109: Hab Rooms | D109: =D106*3 -> 231 | E109: =E106*3 -> 27 | F109: =F106*4 -> 360 | G109: =G106*4 -> 60 | H109: =H106*4 -> 44 | I109: =I106*5 -> 60 | J109: =J106*5 -> 50 | K109: =K106*5 -> 60 | L109: =L106*6 -> 24 | N109: =SUM(D109:L109) -> 916
B111: Previous | D111: 1B2P (F) | E111: 1B2P (WF) | F111: 2B4P (F) | G111: 2B3P (WF) | H111: 2B4P (D) | I111: 3B5P (F) | J111: 3B5P (D) | K111: 3B6P (F) | L111: 4B6P (D) | N111: Total
D112: 50 | E112: 60 | F112: 70 | G112: 80 | H112: 88 | I112: 86 | J112: 102 | K112: 95 | L112: 115
B113: Total No. | D113: 78 | E113: 9 | F113: 84 | G113: 15 | H113: 17 | I113: 26 | J113: 6 | K113: 0 | L113: 5 | N113: =SUM(D113:L113) -> 240
B114: % Mix | D114: {=SUM(D113:E113/N113)} -> 0.3625 | F114: {=SUM(F113:H113/N113)} -> 0.48333333 | I114: {=SUM(I113:K113/N113)} -> 0.13333333 | L114: =L113/N113 -> 0.020833333 | N114: =SUM(D114:L114) -> 1
B115: GIA (m2) | D115: =D113*D112 -> 3900 | E115: =E113*E112 -> 540 | F115: =F113*F112 -> 5880 | G115: =G113*G112 -> 1200 | H115: =H113*H112 -> 1496 | I115: =I113*I112 -> 2236 | J115: =J113*J112 -> 612 | K115: =K113*K112 -> 0 | L115: =L113*L112 -> 575 | N115: =SUM(D115:L115) -> 16439
