Workbook

Sheet HTC as Extg
A2: Hayes Town Centre - Existing Properties Split by Phase
A4: Phase | C4: Status | D4: Address Line 1 | E4: Address Line 2 | F4: Postcode | G4: Property Type | H4: Number of Beds | I4: Hab Rooms | J4: Floor Area (m2) | K4: Value
A5: Phase 1 | B5: 1 | C5: Owner Occupier | D5: 8 | E5: AUSTIN ROAD | F5: UB3 3DA | G5: Maisonette | H5: 2 | I5: 4 | J5: 87
A6: Phase 1 | B6: 1 | C6: Owner Occupier | D6: 10 | E6: AUSTIN ROAD | F6: UB3 3DA | G6: Flat | H6: 1 | I6: 3 | J6: 42
A7: Phase 1 | B7: 1 | C7: Investor | D7: 1 | E7: AUSTIN ROAD | F7: UB3 3DA | G7: Flat | H7: 1 | I7: 3 | J7: 47
A8: Phase 1 | B8: 1 | C8: HA | D8: 5 | E8: AUSTIN ROAD | F8: UB3 3DA | G8: Flat | H8: 2 | I8: 4 | J8: 72
A9: Phase 1 | B9: 1 | C9: HA | D9: 7 | E9: AUSTIN ROAD | F9: UB3 3DA | G9: Flat | H9: 2 | I9: 4 | J9: 41
A10: Phase 1 | B10: 1 | C10: Investor | D10: 9 | E10: AUSTIN ROAD | F10: UB3 3DA | G10: Maisonette | H10: 2 | I10: 4 | J10: 74
A11: Phase 1 | B11: 1 | C11: HA | D11: 12 | E11: AUSTIN ROAD | F11: UB3 3DB | G11: Flat | H11: 1 | I11: 3 | J11: 51
A12: Phase 1 | B12: 1 | C12: Investor | D12: 96 | E12: AUSTIN ROAD | F12: UB3 3DL | G12: Flat | H12: 1 | I12: 3 | J12: 46
A13: Phase 1 | B13: 1 | C13: Tenant | D13: 2 | E13: AUSTIN ROAD | F13: UB3 3DA | G13: Flat | H13: 1 | I13: 3 | J13: 60
A14: Phase 1 | B14: 1 | C14: Tenant | D14: 3 | E14: AUSTIN ROAD | F14: UB3 3DA | G14: Flat | H14: 1 | I14: 3 | J14: 60
A15: Phase 1 | B15: 1 | C15: Tenant | D15: 4 | E15: AUSTIN ROAD | F15: UB3 3DA | G15: Flat | H15: 1 | I15: 3 | J15: 60
A16: Phase 1 | B16: 1 | C16: Tenant | D16: 6 | E16: AUSTIN ROAD | F16: UB3 3DA | G16: Maisonette | H16: 2 | I16: 4 | J16: 70
... A25: Phase 1 | B25: 1 | C25: Tenant | D25: 86 | E25: AUSTIN ROAD | F25: UB3 3DJ | G25: Maisonette | H25: 2 | I25: 4 | J25: 68
A26: Phase 1 | B26: 1 | C26: Tenant | D26: 100 | E26: AUSTIN ROAD | F26: UB3 3DL | G26: Maisonette | H26: 3 | I26: 5 | J26: 94
A27: Phase 1 | B27: 1 | C27: Tenant | D27: 92 | E27: AUSTIN ROAD | F27: UB3 3DL | G27: Flat | H27: 1 | I27: 3 | J27: 48
A28: Phase 1 | B28: 1 | C28: Tenant | D28: 94 | E28: AUSTIN ROAD | F28: UB3 3DL | G28: Flat | H28: 1 | I28: 3 | J28: 48
A29: Phase 1 | B29: 1 | C29: Tenant | D29: 95 | E29: AUSTIN ROAD | F29: UB3 3DL | G29: Flat | H29: 2 | I29: 4 | J29: 53
A30: Phase 1 | B30: 1 | C30: Tenant | D30: 98 | E30: AUSTIN ROAD | F30: UB3 3DL | G30: Flat | H30: 1 | I30: 3 | J30: 47
A31: Phase 1 | B31: 1 | C31: Tenant | D31: 99 | E31: AUSTIN ROAD | F31: UB3 3DL | G31: Flat | H31: 2 | I31: 4 | J31: 55
A32: Phase 1 | B32: 1 | C32: Investor | D32: 101 | E32: AUSTIN ROAD | F32: UB3 3DN | G32: Maisonette | H32: 3 | I32: 5 | J32: 91
A33: Phase 1 | B33: 1 | C33: Investor | D33: 103 | E33: AUSTIN ROAD | F33: UB3 3DN | G33: Maisonette | H33: 3 | I33: 5 | J33: 91
A34: Phase 1 | B34: 1 | C34: Investor | D34: 11 | E34: AUSTIN ROAD | F34: UB3 3DB | G34: Flat | H34: 1 | I34: 3 | J34: 60
A35: Phase 1 | B35: 1 | C35: Tenant | D35: 68 | E35: AUSTIN ROAD | F35: UB3 3DQ | G35: Flat | H35: 1 | I35: 3 | J35: 47
A36: Phase 1 | B36: 1 | C36: Tenant | D36: 69 | E36: AUSTIN ROAD | F36: UB3 3DQ | G36: Flat | H36: 1 | I36: 3 | J36: 47
A37: Phase 1 | B37: 1 | C37: Tenant | D37: 70 | E37: AUSTIN ROAD | F37: UB3 3DQ | G37: Maisonette | H37: 2 | I37: 4 | J37: 88
A38: Phase 1 | B38: 1 | C38: Investor | D38: 73 | E38: AUSTIN ROAD | F38: UB3 3DH | G38: Maisonette | H38: 2 | I38: 4 | J38: 95
... A56: Phase 1 | B56: 1 | C56: Investor | D56: 97 | E56: AUSTIN ROAD | F56: UB3 3DL | G56: Flat | H56: 2 | I56: 4 | J56: 53
A57: Phase 1 | B57: 1 | C57: Owner Occupier | D57: 89 | E57: AUSTIN ROAD | F57: UB3 3DJ | G57: Maisonette | H57: 3 | I57: 5 | J57: 89
A58: Phase 2 | B58: 1 | C58: Owner Occupier | D58: 15 | E58: AUSTIN ROAD | F58: UB3 3DB | G58: Maisonette | H58: 2 | I58: 4 | J58: 74
A59: Phase 2 | B59: 1 | C59: Owner Occupier | D59: 16 | E59: AUSTIN ROAD | F59: UB3 3DB | G59: Flat | H59: 2 | I59: 4 | J59: 83
A60: Phase 2 | B60: 1 | C60: Owner Occupier | D60: 25 | E60: AUSTIN ROAD | F60: UB3 3DD | G60: Maisonette | H60: 2 | I60: 4 | J60: 73
A61: Phase 2 | B61: 1 | C61: Investor | D61: 114 | E61: AUSTIN ROAD | F61: UB3 3DW | G61: Maisonette | H61: 3 | I61: 5 | J61: 103
A62: Phase 2 | B62: 1 | C62: Investor | D62: 17 | E62: AUSTIN ROAD | F62: UB3 3DB | G62: Flat | H62: 2 | I62: 4 | J62: 81
A63: Phase 2 | B63: 1 | C63: Investor | D63: 19 | E63: AUSTIN ROAD | F63: UB3 3DB | G63: Flat | H63: 2 | I63: 4 | J63: 91
A64: Phase 2 | B64: 1 | C64: HA | D64: 58 | E64: AUSTIN ROAD | F64: UB3 3DG | G64: Maisonette | H64: 2 | I64: 4 | J64: 73
A65: Phase 2 | B65: 1 | C65: Owner Occupier | D65: 52 | E65: AUSTIN ROAD | F65: UB3 3DG | G65: Flat | H65: 1 | I65: 3 | J65: 48
A66: Phase 2 | B66: 1 | C66: Investor | D66: 110 | E66: AUSTIN ROAD | F66: UB3 3DN | G66: Flat | H66: 1 | I66: 3 | J66: 47
A67: Phase 2 | B67: 1 | C67: Owner Occupier | D67: 60 | E67: AUSTIN ROAD | F67: UB3 3DG | G67: Maisonette | H67: 2 | I67: 4 | J67: 65
...

Sheet AD as Extg
A2: Avondale Drive - Existing Properties Split by Phase
A4: Phase | C4: Status | D4: Address Line 1 | E4: Address Line 2 | F4: Postcode | G4: Property Type | H4: Number of Beds | I4: Hab Rooms | J4: Floor Area (say m2)
A5: Phase 1b | B5: 1 | C5: Investor | D5: 1 | E5: WELLINGS HOUSE | F5: UB3 3PN | G5: Flat | H5: 2 | I5: 4 | J5: 61 | L5: =D5&" "&E5 -> 1 WELLINGS HOUSE | M5: =IFERROR(VLOOKUP(L5,Sheet1!B:B,1,FALSE),"") -> 1 Wellings House
A6: Phase 1b | B6: 1 | C6: HA | D6: 7 | E6: WELLINGS HOUSE | F6: UB3 3PN | G6: Flat | H6: 2 | I6: 4 | J6: 57 | L6: =D6&" "&E6 -> 7 WELLINGS HOUSE | M6: =IFERROR(VLOOKUP(L6,Sheet1!B:B,1,FALSE),"")
A7: Phase 1b | B7: 1 | C7: Owner Occupier | D7: 8 | E7: WELLINGS HOUSE | F7: UB3 3PN | G7: Flat | H7: 2 | I7: 4 | J7: 64 | L7: =D7&" "&E7 -> 8 WELLINGS HOUSE | M7: =IFERROR(VLOOKUP(L7,Sheet1!B:B,1,FALSE),"")
A8: Phase 1b | B8: 1 | C8: Investor | D8: 9 | E8: WELLINGS HOUSE | F8: UB3 3PN | G8: Flat | H8: 2 | I8: 4 | J8: 62 | L8: =D8&" "&E8 -> 9 WELLINGS HOUSE | M8: =IFERROR(VLOOKUP(L8,Sheet1!B:B,1,FALSE),"") -> 9 Wellings House
A9: Phase 1b | B9: 1 | C9: Investor | D9: 10 | E9: WELLINGS HOUSE | F9: UB3 3PN | G9: Flat | H9: 2 | I9: 4 | J9: 61 | L9: =D9&" "&E9 -> 10 WELLINGS HOUSE | M9: =IFERROR(VLOOKUP(L9,Sheet1!B:B,1,FALSE),"") -> 10 Wellings House
A10: Phase 1b | B10: 1 | C10: Investor | D10: 16 | E10: WELLINGS HOUSE | F10: UB3 3PN | G10: Flat | H10: 2 | I10: 4 | J10: 64 | L10: =D10&" "&E10 -> 16 WELLINGS HOUSE | M10: =IFERROR(VLOOKUP(L10,Sheet1!B:B,1,FALSE),"") -> 16 Wellings House
A11: Phase 1b | B11: 1 | C11: HA | D11: 17 | E11: WELLINGS HOUSE | F11: UB3 3PN | G11: Flat | H11: 2 | I11: 4 | J11: 59.72 | L11: =D11&" "&E11 -> 17 WELLINGS HOUSE | M11: =IFERROR(VLOOKUP(L11,Sheet1!B:B,1,FALSE),"")
A12: Phase 1b | B12: 1 | C12: Investor | D12: 19 | E12: WELLINGS HOUSE | F12: UB3 3PN | G12: Flat | H12: 2 | I12: 4 | J12: 61 | L12: =D12&" "&E12 -> 19 WELLINGS HOUSE | M12: =IFERROR(VLOOKUP(L12,Sheet1!B:B,1,FALSE),"") -> 19 Wellings House
A13: Phase 1b | B13: 1 | C13: Investor | D13: 20 | E13: WELLINGS HOUSE | F13: UB3 3PN | G13: Flat | H13: 2 | I13: 4 | J13: 60 | L13: =D13&" "&E13 -> 20 WELLINGS HOUSE | M13: =IFERROR(VLOOKUP(L13,Sheet1!B:B,1,FALSE),"") -> 20 Wellings House
A14: Phase 1b | B14: 1 | C14: Investor | D14: 21 | E14: WELLINGS HOUSE | F14: UB3 3PN | G14: Flat | H14: 2 | I14: 4 | J14: 64 | L14: =D14&" "&E14 -> 21 WELLINGS HOUSE | M14: =IFERROR(VLOOKUP(L14,Sheet1!B:B,1,FALSE),"") -> 21 Wellings House
A15: Phase 1b | B15: 1 | C15: Investor | D15: 23 | E15: WELLINGS HOUSE | F15: UB3 3PN | G15: Flat | H15: 2 | I15: 4 | J15: 61 | L15: =D15&" "&E15 -> 23 WELLINGS HOUSE | M15: =IFERROR(VLOOKUP(L15,Sheet1!B:B,1,FALSE),"") -> 23 Wellings House
A16: Phase 1b | B16: 1 | C16: Tenant | D16: 2 | E16: WELLINGS HOUSE | F16: UB3 3PN | G16: Flat | H16: 2 | I16: 4 | J16: 65 | L16: =D16&" "&E16 -> 2 WELLINGS HOUSE | M16: =IFERROR(VLOOKUP(L16,Sheet1!B:B,1,FALSE),"")
... A148: Phase 3 | B148: 1 | C148: Tenant | D148: 37 | E148: GLENISTER HOUSE | F148: UB3 3PP | G148: Flat | H148: 2 | I148: 4 | J148: 65 | L148: =D148&" "&E148 -> 37 GLENISTER HOUSE | M148: =IFERROR(VLOOKUP(L148,Sheet1!B:B,1,FALSE),"")
A150: Totals | B150: =SUM(B5:B149) -> 144 | I150: =SUM(I5:I149) -> 576 | J150: =SUM(J5:J149) -> 9477.72
C155: Summary (All Properties)
E156: 1B2P (Flat) | F156: 2B4P (Flat) | G156: 2B4P (Mais) | H156: 3B5/6P (Mais) | I156: Totals
C157: GIA per type m2 | E157: 42-60 | F157: 51-91 | G157: 70 | H157: 84-106
C159: Total No. | E159: 0 | F159: 144 | G159: 0 | H159: 0 | I159: =SUBTOTAL(9,E159:H159) -> 144
C160: % Mix | E160: =E159/I159 -> 0 | F160: =(F159+G159)/I159 -> 1 | H160: =H159/I159 -> 0 | I160: =SUBTOTAL(9,E160:H160) -> 1
C161: Total GIA (m2) | E161: 0 | F161: =J150 -> 9477.72 | G161: 0 | H161: 0 | I161: =SUBTOTAL(9,E161:H161) -> 9477.72
C162: Hab Rooms | E162: =E159*3 -> 0 | F162: 576 | G162: =G159*4 -> 0 | H162: 0 | I162: =SUBTOTAL(9,E162:H162) -> 576
C167: Summary (Affordable)
E168: 1B2P (Flat) | F168: 2B4P (Flat) | G168: 2B4P (Mais) | H168: 3B5/6P (Mais) | I168: Totals
C169: GIA per type m2 | E169: 42-60 | F169: 51-91 | G169: 70 | H169: 84-106
C171: Total No. | E171: 0 | F171: 121 | G171: 0 | H171: 0 | I171: =SUBTOTAL(9,E171:H171) -> 121
C172: % Mix | E172: =E171/I171 -> 0 | F172: =(F171+G171)/I171 -> 1 | H172: =H171/I171 -> 0 | I172: =SUBTOTAL(9,E172:H172) -> 1
C173: Total GIA (m2) | E173: 0 | F173: =SUMIF(C5:C148,"tenant",J5:J148) -> 7755 | G173: 0 | H173: 0 | I173: =SUBTOTAL(9,E173:H173) -> 7755
C174: Hab Rooms | E174: =E171*3 -> 0 | F174: 484 | G174: =G171*4 -> 0 | H174: 0 | I174: =SUBTOTAL(9,E174:H174) -> 484
C179: Summary (Private)
E180: 1B2P (Flat) | F180: 2B4P (Flat) | G180: 2B4P (Mais) | H180: 3B5/6P (Mais) | I180: Totals
C181: GIA per type m2 | E181: 42-60 | F181: 51-91 | G181: 70 | H181: 84-106
C183: Total No. | E183: 0 | F183: 23 | G183: 0 | H183: 0 | I183: =SUBTOTAL(9,E183:H183) -> 23
C184: % Mix | E184: =E183/I183 -> 0 | F184: =(F183+G183)/I183 -> 1 | H184: =H183/I183 -> 0 | I184: =SUBTOTAL(9,E184:H184) -> 1
C185: Total GIA (m2) | E185: 0 | F185: =F161-F173 -> 1722.72 | G185: 0 | H185: 0 | I185: =SUBTOTAL(9,E185:H185) -> 1722.72
C186: Hab Rooms | E186: 0 | F186: 92 | G186: 0 | H186: 0 | I186: =SUBTOTAL(9,E186:H186) -> 92

Sheet Sheet1
A1: Correspond Name | B1: Pro Adr Line1 | C1: Inv Name | D1: Pro Adr Postcode | E1: Inv Adr Line1 | F1: Inv Adr Line2 | G1: Inv Adr Line3 | H1: Inv Adr Postcode
A2: Mr A Sandhu & Mr S Sandhu | B2: 101 Austin Road | C2: Mr Arsal Sandhu & Mr Sandhir Sandhu | D2: UB3 3DN | E2: 14 Gledwood Crescent | F2: Hayes | G2: Middx | H2: UB4 0AX
A3: Mrs C Mullane, Mr J Mullane | B3: 103 Austin Road | C3: Mr John Mullane & Mrs Catherine Mullane | D3: UB3 3DN | E3: Kings Arms | F3: 6 Park Lane | G3: Harefield Middx | H3: UB9 6BJ
A4: Mr A Zaib, Mrs K Zaib | B4: 114 Austin Road | C4: Mrs Kokab Zaib & Mr Ahmed-Junaid Zaib | D4: UB3 3DW | E4: 49 Delamere Road | F4: Hayes | G4: Middx | H4: UB4 0NN
A5: Mr F Kassam | B5: 127 Austin Road | C5: Mr Firoz Kassam | D5: UB3 3DP | E5: 2 Elm Lawn Close | F5: Uxbridge | G5: Middx | H5: UB8 1NX
A6: Mr D Dhonsi | B6: 1 Austin Road | C6: Mr Darshan Dhonsi | D6: UB3 3DA | E6: 17 High Beeches | F6: Gerrards Cross | H6: SL9 7HX
A7: Touchpoint Housing (Lbb) Ltd | B7: 9 Austin Road | C7: Touchpoint Housing (Lbb) Ltd | D7: UB3 3DA | E7: The Asticus Building | F7: 21 Palmer Street | G7: London | H7: SW1H 0AD
A8: Mr D Singh | B8: 11 Austin Road | C8: Mr D Singh | D8: UB3 3DB | E8: C/O Ms R K Brar | F8: 1 Palmerston Drive | G8: Tividale Oldbury | H8: B69 3NA
A9: Mr J Singh & Mrs B Kaur | B9: 17 Austin Road | C9: Mr Jarnail Singh & Mrs Balwinder Kaur | D9: UB3 3DB | E9: 8 Fairfield Avenue | F9: Datchet | G9: Berks | H9: SL3 9NQ
A10: Mr F & Mrs F Abdul-Karim | B10: 19 Austin Road | C10: Mr F Abdulkarim & Mrs F Abdulkarim | D10: UB3 3DB | E10: 282 Watford Road | F10: Croxley Green | G10: Rickmansworth Herts | H10: WD3 3DE
A11: Mr T Oshea | B11: 31 Austin Road | C11: Mr Timothy O'Shea | D11: UB3 3DE | E11: Sunny Glen | F11: 2 Cemetery Road | G11: Lake Sandown | H11: PO36 9NW
A12: V1 Kriya Ltd | B12: 33 Austin Road | C12: V1 Kriya Ltd | D12: UB3 3DE | E12: 5 Phelps Way | F12: Hayes | G12: Middx | H12: UB3 4LH
A13: Mr A M Jama | B13: 36 Austin Road | C13: Mr Abdiqani Jama | D13: UB3 3DE | E13: 84b High Street | F13: Southall | G13: Middx | H13: UB1 3DB
A14: Mr T Singh | B14: 41 Austin Road | C14: Mr Taranjeet Singh | D14: UB3 3DF | E14: 41 Lonsdale Road | F14: Southall | G14: Middx | H14: UB2 5LS
A15: Miss Amina A Ali | B15: 46 Austin Road | C15: Miss Amina Ali | D15: UB3 3DF | E15: 87 Austin Road | F15: Hayes | G15: Middx | H15: UB3 3DJ
A16: Mrs A Said | B16: 47 Austin Road | C16: Mrs Anab Said | D16: UB3 3DF | E16: C/O Angelfield Property Services | F16: I.C.G House, Greenford Business Centre | G16: Oldfield Lane North Greenford | H16: UB6 0AL
A17: Mrs S Harji | B17: 64 Austin Road | C17: Mrs Shalina Harji | D17: UB3 3DQ | E17: 64 Austin Road | F17: Hayes | G17: Middx | H17: UB3 3DQ
A18: Mr S Malik & Mrs S Malik | B18: 73 Austin Road | C18: Mr Sumit Malik & Mrs Sheetal Malik | D18: UB3 3DH | E18: 29 Foxdell Way | F18: Chalfont St Peter | G18: Gerrards Cross | H18: SL9 0PL
... A27: Mr M Singh, Mrs C Kaur | B27: 23 Skeffington Court | C27: Mr Mohinder Singh & Mrs Charan Kaur | D27: UB3 3BY | E27: 22 Frogmore Gardens | F27: Hayes | G27: Middx | H27: UB4 8AN
A28: Mr A Ziolkowski, Mrs K Ziolkowska | B28: 55 Skeffington Court | C28: Mr Artur Andrzej Ziolkowski & Mrs Katarzyna Ziolkowska | D28: UB3 3AZ | E28: 39 Tanglewood Way | F28: Feltham | H28: TW13 7HB
A29: Mr D Hinton Exec To Mr P Hinton | B29: 74 Skeffington Court | C29: Mr D Hinton Exec To Mr P Hinton | D29: UB3 3AZ | E29: Spring Farm | F29: Muckhatch Lane | G29: Egham | H29: TW20 8PH
A30: Mrs C James | B30: 8 Fitzgerald House | C30: Mrs Cecilyn James | D30: UB3 3PW | E30: 285 Bourne Avenue | F30: Hayes | G30: Middx | H30: UB3 1RR
A31: Mr M Raja | B31: 20 Fitzgerald House | C31: Mr Mohammed Raja | D31: UB3 3PW | E31: 1 Westfield Cottages | F31: Sipson Lane | G31: Harlington Middx | H31: UB3 5EJ
A32: Mr M Jaamac | B32: 41 Fitzgerald House | C32: Mr Mursal Jaamac | D32: UB3 3PW | E32: 41 Fitzgerald House | F32: 237 Avondale Drive | G32: Hayes Middx | H32: UB3 3PW
A33: Mrs N Thandi, Mr J Tankaria | B33: 4 Glenister House | C33: Mrs Neela Thandi & Mr Jaimin Tankaria | D33: UB3 3PP | E33: C/O Jaimin Property Management | F33: Ground Floor | G33: 100 College Road Harrow | H33: HA1 1BQ
A34: I4b Holdings Ltd | B34: 5 Glenister House | C34: I4b Holdings Ltd | D34: UB3 3PP | E34: Home Ownership | F34: Brent Civic Centre | G34: 9 Engineers Way Wembley | H34: HA9 0FJ
A35: Mr N Khurana | B35: 13 Glenister House | C35: Mr Narinder Singh Khurana | D35: UB3 3PP | E35: 11a Hamilton Road | F35: Hayes | G35: Middx | H35: UB3 3AR
A36: Mr G Chana | B36: 32 Glenister House | C36: Mr Gurdev Chana | D36: UB3 3PP | E36: 271 Vicarage Farm Road | F36: Heston | G36: Middx | H36: TW5 0DR
A37: Mrs Sumra, Mr Sumra | B37: 41 Glenister House | C37: Mr Sumra & Mrs Sumra | D37: UB3 3PP | E37: 14 Fern Lane | F37: Heston | G37: Middx | H37: TW5 0HL
A38: Winterhall Estates | B38: 1 Wellings House | C38: Winterhall Estates | D38: UB3 3PN | E38: 39-41 Markfield Road | F38: London | H38: N15 4QA
A39: I4b Holdings Ltd | B39: 9 Wellings House | C39: I4b Holdings Ltd | D39: UB3 3PN | E39: Home Ownership | F39: Brent Civic Centre | G39: 9 Engineers Way Wembley | H39: HA9 0FJ
A40: I4b Holdings Ltd | B40: 10 Wellings House | C40: I4b Holdings Ltd | D40: UB3 3PN | E40: Home Ownership | F40: Brent Civic Centre | G40: 9 Engineers Way Wembley | H40: HA9 0FJ
A41: Miss I Abdi | B41: 16 Wellings House | C41: Miss Ismahan Abdi | D41: UB3 3PN | E41: 39 Bellow House | F41: Gayton Road | G41: Harrow Middx | H41: HA1 2DQ
A42: Miss H Quraishi | B42: 19 Wellings House | C42: Miss Huma Quraishi | D42: UB3 3PN | E42: 112 Evelyn Avenue | F42: Ruislip | G42: Middx | H42: HA4 8AQ
A43: Mr W Zhang | B43: 20 Wellings House | C43: Mr Wenjie Zhang | D43: UB3 3PN | E43: 20 Wellings House | F43: 236 Avondale Drive | G43: Hayes Middx | H43: UB3 3PN
A44: Miss J Chen | B44: 21 Wellings House | C44: Miss Jing Wen Chen | D44: UB3 3PN | E44: Flat 6 | F44: Plough Court | G44: 14 Ealing Road Northolt | H44: UB5 5HT
A45: Mrs A Gazmer, Mr Y Bahadur Bk | B45: 23 Wellings House | C45: Mr Yad Bahadur Bk & Mrs Anjana Gazmer | D45: UB3 3PN | E45: 113 Woolacombe Way | F45: Hayes | G45: Middx | H45: UB3 4EY

Sheet Sheet2
C3: HA | D3: 5 | E3: AUSTIN ROAD | F3: UB3 3DA
C4: HA | D4: 7 | E4: AUSTIN ROAD | F4: UB3 3DA
C5: HA | D5: 12 | E5: AUSTIN ROAD | F5: UB3 3DB
C6: HA | D6: 71 | E6: AUSTIN ROAD | F6: UB3 3DH
C7: HA | D7: 74 | E7: AUSTIN ROAD | F7: UB3 3DH
C8: HA | D8: 79 | E8: AUSTIN ROAD | F8: UB3 3DH | L8: =280000*1.4/100 -> 3920
C9: HA | D9: 87 | E9: AUSTIN ROAD | F9: UB3 3DJ
C10: HA | D10: 93 | E10: AUSTIN ROAD | F10: UB3 3DL
C11: HA | D11: 102 | E11: AUSTIN ROAD | F11: UB3 3DN
C12: HA | D12: 58 | E12: AUSTIN ROAD | F12: UB3 3DG
C13: HA | D13: 109 | E13: AUSTIN ROAD | F13: UB3 3DN
C14: HA | D14: 121 | E14: AUSTIN ROAD | F14: UB3 3DP
C15: HA | D15: 135 | E15: AUSTIN ROAD | F15: UB3 3DR
C16: HA | D16: 3 | E16: SKEFFINGTON COURT | F16: UB3 3BY
C17: HA | D17: 16 | E17: SILVERDALE ROAD | F17: UB3 3BX
C18: HA | D18: 33 | E18: SILVERDALE ROAD | F18: UB3 3BX
C19: HA | D19: 38 | E19: SKEFFINGTON COURT | F19: UB3 3BY
C20: HA | D20: 45 | E20: SILVERDALE ROAD | F20: UB3 3BX
... C25: HA | D25: 33 | E25: GLENISTER HOUSE | F25: UB3 3PP

Sheet HTC as Prop (Uplift)
A1: Austin Road
A3: Proposed Accommodation Schedule - Base scheme
A4: A | B4: 43790 | D4: General amendments | J4: F = Flats
A5: B | B5: 43794 | D5: General amendments | J5: D = Duplex
A6: C | B6: 44250 | D6: General amendments | J6: H = Houses
A7: D | B7: 44277 | D7: General amendments | J7: W = Wheelchair
A9: Note | B9: m2 areas are target areas only. Final dwelling areas will depend of building layout.
B11: BLK A | D11: 1B2P (F) | E11: 1B2P (WF) | F11: 2B4P (F) | G11: 2B3P (WF) | H11: 2B4P (D) | I11: 2B4P (H) | J11: 3B5P (F) | K11: 3B5P (D) | L11: 3B5P (H) | M11: 4B6P (D) | O11: Total | Q11: GIA (m2)
B12: Target m2 | D12: 50 | E12: 60 | F12: 70 | G12: 80 | H12: 88 | I12: 88 | J12: 86 | K12: 102 | L12: 113 | M12: 115
B13: 0 | H13: 3 | K13: 1 | O13: =SUM(D13:K13) -> 4
B14: 1 | D14: 1 | F14: 2 | J14: 1 | O14: =SUM(D14:K14) -> 4
B15: 2 | D15: 3 | F15: 2 | G15: 1 | J15: 1 | O15: =SUM(D15:K15) -> 7
B16: 3 | D16: 3 | F16: 2 | G16: 1 | J16: 1 | O16: =SUM(D16:K16) -> 7
B17: 4 | D17: 3 | F17: 2 | G17: 1 | J17: 1 | O17: =SUM(D17:K17) -> 7
B18: 5 | D18: 1 | F18: 2 | J18: 1 | O18: =SUM(D18:K18) -> 4
B19: 6 | D19: 1 | F19: 2 | J19: 1 | O19: =SUM(D19:K19) -> 4
B20: 7 | D20: 1 | F20: 2 | J20: 1 | O20: =SUM(D20:K20) -> 4
B22: TOTAL | D22: =SUM(D13:D20) -> 13 | E22: =SUM(E13:E20) -> 0 | F22: =SUM(F13:F20) -> 14 | G22: =SUM(G13:G20) -> 3 | H22: =SUM(H13:H20) -> 3 | I22: =SUM(I13:I20) -> 0 | J22: =SUM(J13:J20) -> 7 | K22: =SUM(K13:K20) -> 1 | ... M22: =SUM(M13:M20) -> 0 | O22: =SUM(O13:O20) -> 41 | Q22: =SUM(Q13:Q18) -> 0
B24: BLK B | D24: 1B2P (F) | E24: 1B2P (WF) | F24: 2B4P (F) | G24: 2B3P (WF) | H24: 2B4P (D) | I24: 2B4P (H) | J24: 3B5P (F) | K24: 3B5P (D) | L24: 3B5P (H) | M24: 4B6P (D) | O24: Total | Q24: GIA (m2)
B25: Target m2 | D25: 50 | E25: 60 | F25: 70 | G25: 80 | H25: 88 | I25: 88 | J25: 86 | K25: 102 | L25: 113 | M25: 115
B26: 0 | F26: 1 | G26: 1 | H26: 3 | K26: 1 | M26: 1 | O26: =SUM(D26:M26) -> 7
B27: 1 | D27: 1 | F27: 2 | J27: 1 | O27: =SUM(D27:K27) -> 4
B28: 2 | D28: 3 | F28: 2 | G28: 1 | J28: 1 | O28: =SUM(D28:K28) -> 7
B29: 3 | D29: 3 | F29: 2 | G29: 1 | J29: 1 | O29: =SUM(D29:K29) -> 7
B30: 4 | D30: 3 | F30: 2 | G30: 1 | J30: 1 | O30: =SUM(D30:K30) -> 7
B31: 5 | D31: 3 | F31: 2 | G31: 1 | J31: 1 | O31: =SUM(D31:K31) -> 7
B33: TOTAL | D33: =SUM(D26:D31) -> 13 | E33: =SUM(E26:E31) -> 0 | F33: =SUM(F26:F31) -> 11 | G33: =SUM(G26:G31) -> 5 | H33: =SUM(H26:H31) -> 3 | I33: =SUM(I26:I31) -> 0 | J33: =SUM(J26:J31) -> 5 | K33: =SUM(K26:K31) -> 1 | ... M33: =SUM(M26:M31) -> 1 | O33: =SUM(O26:O31) -> 39 | Q33: =SUM(Q26:Q31) -> 0
B35: BLK C | D35: 1B2P (F) | E35: 1B2P (WF) | F35: 2B4P (F) | G35: 2B3P (WF) | H35: 2B4P (D) | I35: 2B4P (H) | J35: 3B5P (F) | K35: 3B5P (D) | L35: 3B5P (H) | M35: 4B6P (D) | O35: Total | Q35: GIA (m2)
B36: Target m2 | D36: 50 | E36: 60 | F36: 70 | G36: 80 | H36: 88 | I36: 88 | J36: 86 | K36: 102 | L36: 113 | M36: 115
B37: 0 | H37: 3 | K37: 1 | O37: =SUM(D37:K37) -> 4
B38: 1 | D38: 1 | F38: 2 | J38: 1 | O38: =SUM(D38:K38) -> 4
B39: 2 | D39: 3 | F39: 2 | G39: 1 | J39: 1 | O39: =SUM(D39:K39) -> 7
B40: 3 | D40: 3 | F40: 2 | G40: 1 | J40: 1 | O40: =SUM(D40:K40) -> 7
B41: 4 | D41: 3 | F41: 2 | G41: 1 | J41: 1 | O41: =SUM(D41:K41) -> 7
B42: 5 | D42: 1 | F42: 2 | J42: 1 | O42: =SUM(D42:K42) -> 4
B43: 6 | D43: 1 | F43: 2 | J43: 1 | O43: =SUM(D43:K43) -> 4
B44: 7 | D44: 1 | F44: 2 | J44: 1 | O44: =SUM(D44:K44) -> 4
B46: TOTAL | D46: =SUM(D37:D44) -> 13 | E46: =SUM(E37:E44) -> 0 | F46: =SUM(F37:F44) -> 14 | G46: =SUM(G37:G44) -> 3 | H46: =SUM(H37:H44) -> 3 | I46: =SUM(I37:I44) -> 0 | J46: =SUM(J37:J44) -> 7 | K46: =SUM(K37:K44) -> 1 | ... M46: =SUM(M37:M44) -> 0 | O46: =SUM(O37:O44) -> 41 | Q46: =SUM(Q37:Q42) -> 0
B48: BLK D | D48: 1B2P (F) | E48: 1B2P (WF) | F48: 2B4P (F) | G48: 2B3P (WF) | H48: 2B4P (D) | I48: 2B4P (H) | J48: 3B5P (F) | K48: 3B5P (D) | L48: 3B5P (H) | M48: 4B6P (D) | O48: Total | Q48: GIA (m2)
B49: Target m2 | D49: 50 | E49: 60 | F49: 70 | G49: 80 | H49: 88 | I49: 88 | J49: 86 | K49: 102 | L49: 113 | M49: 115
...

Sheet AD as Prop (Uplift)
A1: Avondale Road
A3: Proposed Accommodation Schedule - Uplift scheme
A4: / | B4: 44250 | D4: Initial Issue | I4: F = Flats
A5: A | B5: 44277 | D5: General Updates | I5: D = Duplex
I6: H = Houses
I7: W = Wheelchair
A9: Note | B9: m2 areas are target areas only and do not include allowance for wheelchair home uplift. Final dwelling areas will depend of building layout.
B11: BLK A | D11: 1B2P (F) | E11: 1B2P (WF) | F11: 2B4P (F) | G11: 2B3P (WF) | H11: 2B4P (D) | I11: 3B5P (F) | J11: 3B5P (D) | K11: 3B6P (F) | L11: 4B6P (D) | N11: Total | P11: GIA (m2)
B12: m2 | D12: 50 | E12: 60 | F12: 70 | G12: 80 | H12: 88 | I12: 86 | J12: 102 | K12: 95 | L12: 115
B13: 0 | F13: 2 | H13: 1 | J13: 1 | L13: 1 | N13: =SUM(D13:L13) -> 5
B14: 1 | D14: 1 | F14: 2 | I14: 1 | N14: =SUM(D14:L14) -> 4
B15: 2 | D15: 1 | F15: 3 | I15: 1 | K15: 1 | N15: =SUM(D15:L15) -> 6
B16: 3 | D16: 1 | F16: 3 | I16: 1 | K16: 1 | N16: =SUM(D16:L16) -> 6
B17: 4 | D17: 1 | F17: 3 | I17: 1 | K17: 1 | N17: =SUM(D17:L17) -> 6
B19: TOTAL | D19: =SUM(D13:D18) -> 4 | E19: =SUM(E13:E18) -> 0 | F19: =SUM(F13:F18) -> 13 | G19: =SUM(G13:G18) -> 0 | H19: =SUM(H13:H18) -> 1 | I19: =SUM(I13:I18) -> 4 | J19: =SUM(J13:J18) -> 1 | K19: =SUM(K13:K18) -> 3 | L19: =SUM(L13:L18) -> 1 | N19: =SUM(N13:N18) -> 27 | P19: =SUM(P13:P17) -> 0
B21: BLK B | D21: 1B2P (F) | E21: 1B2P (WF) | F21: 2B4P (F) | G21: 2B3P (WF) | H21: 2B4P (D) | I21: 3B5P (F) | J21: 3B5P (D) | K21: 3B6P (F) | L21: 4B6P (D) | N21: Total | P21: GIA (m2)
B22: m2 | D22: 50 | E22: 60 | F22: 70 | G22: 80 | H22: 88 | I22: 86 | J22: 102 | K22: 95 | L22: 115
B23: 0 | D23: 2 | F23: 2 | J23: 1 | N23: =SUM(D23:L23) -> 5
B24: 1 | E24: 1 | F24: 2 | K24: 1 | N24: =SUM(D24:L24) -> 4
B25: 2 | E25: 1 | F25: 2 | K25: 1 | N25: =SUM(D25:L25) -> 4
B26: 3 | E26: 1 | F26: 2 | K26: 1 | N26: =SUM(D26:L26) -> 4
B27: 4 | E27: 1 | F27: 2 | K27: 1 | N27: =SUM(D27:L27) -> 4
B28: 5 | E28: 1 | F28: 2 | K28: 1 | N28: =SUM(D28:L28) -> 4
B29: 6 | E29: 1 | F29: 2 | K29: 1 | N29: =SUM(D29:L29) -> 4
B31: TOTAL | D31: =SUM(D23:D29) -> 2 | E31: =SUM(E23:E29) -> 6 | F31: =SUM(F23:F29) -> 14 | G31: =SUM(G23:G29) -> 0 | H31: =SUM(H23:H29) -> 0 | I31: =SUM(I23:I29) -> 0 | J31: =SUM(J23:J29) -> 1 | K31: =SUM(K23:K29) -> 6 | L31: =SUM(L23:L29) -> 0 | N31: =SUM(N23:N29) -> 29 | P31: =SUM(P23:P28) -> 0
B33: BLK C | D33: 1B2P (F) | E33: 1B2P (WF) | F33: 2B4P (F) | G33: 2B3P (WF) | H33: 2B4P (D) | I33: 3B5P (F) | J33: 3B5P (D) | K33: 3B6P (F) | L33: 4B6P (D) | N33: Total | P33: GIA (m2)
B34: m2 | D34: 50 | E34: 60 | F34: 70 | G34: 80 | H34: 88 | I34: 86 | J34: 102 | K34: 95 | L34: 115
B35: 0 | H35: 1 | I35: 1 | J35: 2 | L35: 1 | N35: =SUM(D35:L35) -> 5
B36: 1 | D36: 3 | F36: 1 | G36: 1 | N36: =SUM(D36:L36) -> 5
B37: 2 | D37: 3 | F37: 2 | G37: 1 | K37: 1 | N37: =SUM(D37:L37) -> 7
B38: 3 | D38: 3 | F38: 2 | G38: 1 | K38: 1 | N38: =SUM(D38:L38) -> 7
B39: 4 | D39: 3 | F39: 2 | G39: 1 | K39: 1 | N39: =SUM(D39:L39) -> 7
B41: TOTAL | D41: =SUM(D35:D40) -> 12 | E41: =SUM(E35:E40) -> 0 | F41: =SUM(F35:F40) -> 7 | G41: =SUM(G35:G40) -> 4 | H41: =SUM(H35:H40) -> 1 | I41: =SUM(I35:I40) -> 1 | J41: =SUM(J35:J40) -> 2 | K41: =SUM(K35:K40) -> 3 | L41: =SUM(L35:L40) -> 1 | N41: =SUM(N35:N40) -> 31 | P41: =SUM(P35:P39) -> 0
B43: BLK D | D43: 1B2P (F) | E43: 1B2P (WF) | F43: 2B4P (F) | G43: 2B3P (WF) | H43: 2B4P (D) | I43: 3B5P (F) | J43: 3B5P (D) | K43: 3B6P (F) | L43: 4B6P (D) | N43: Total
B44: m2 | D44: 50 | E44: 60 | F44: 70 | G44: 80 | H44: 88 | I44: 86 | J44: 102 | K44: 95 | L44: 115
B45: 0 | H45: 3 | J45: 1 | N45: =SUM(D45:L45) -> 4
B46: 1 | F46: 1 | G46: 1 | N46: =SUM(D46:L46) -> 2
B47: 2 | D47: 2 | F47: 2 | G47: 1 | N47: =SUM(D47:L47) -> 5
B48: 3 | D48: 2 | F48: 2 | G48: 1 | N48: =SUM(D48:L48) -> 5
B49: 4 | D49: 2 | F49: 2 | G49: 1 | N49: =SUM(D49:L49) -> 5
...
