Workbook
Name _Hlk30849479: #REF!
Name _Hlk30849479: #REF!
Name _Hlk30849479: #REF!
Name _Hlk30849479: #REF!

Sheet Updates
B3: The draft consultation version of the template has been updated as follows:
B5: Template tab | C5: Details
B6: Pre-app information | C6: Principle 1 expanded to require further details on pre-construction demolition and options explored for retaining existing buildings/structures.
C7: Removal of Y/N option next to each WLC reduction principle.
B8: Outline and Detailed planning Stage & Post-construction result | C8: Confirmation of operational modelling process used
C9: Confirmation relating to proportion of material quantities included relating to cost
C10: Confirmation of third party mechanisms
C11: Confirmation that the assessment has or can be submitted to the Built Environment Carbon Database
C12: Updated assessment summary results to align with new WLC benchmarks
C13: Addition of selection of most comparable WLC benchmark selection
C14: Addition of details relating to retention of existing structures and buildings
C15: Updated note/example text for module B assumptions and end of life scenarios in the 'Material Quantity and End of Life Scenarios' table
C16: Addition of details relating to refrigerants to 'Material Quantity and End of Life Scenarios' table
C17: Addition of option in assessment table to report A5 emissions as a single number or A5 emissions not related to a building element category
C18: Removal of assessment 2
C19: Colour coding to reflect cells that require inputs and cells which are updated automatically
B20: Post-construction result | C20: Addition of confirmation relating to post-construction evidence submission
C21: Addition of list of product specific EPDs from products installed in the building

Sheet Introduction
A1: Greater London Authority - Whole Life-Cycle Carbon (WLC) Assessment template
A3: HOW TO USE THIS SPREADSHEET
A5: This template should be used by planning applicants to fulfil the requirements of the Mayor's Whole Life-Cycle Carbon (WLC) Assessment policy set out in London Plan Policy SI 2. Before completing and submitting this spreadsheet to the GLA, applicants should read the Whole Life-Cycle Carbon Assessment guidance:
A8: https://www.london.gov.uk/what-we-do/planning/implementing-london-plan/london-plan-guidance/whole-life-cycle-carbon-assessments-guidance
A9: Applicants are required to submit a WLC assessment to the GLA at the following three stages: pre-application, outline/detailed planning submission and post-construction. Separate tabs are provided in this spreadsheet for each stage. An outline of the information required at each stage and how to submit it is provided below.
A11: 1. Pre-application stage
A12: At pre-application stage, applicants are required to complete the pre-application information tab of this template to confirm various details about the site and to provide details of the WLC principles which are informing the development of the site. This should be submitted to the GLA along with all other pre-application material.
A14: 2. Outline/detailed planning submission stage
A15: At this stage, applicants are required to complete the outline or detailed planning stage tab of this template (whichever is relevant) and submit it to the GLA along with their planning application. This stage of the process requires a baseline WLC assessment against each life-cycle module to be undertaken.
A17: 3. Post-construction stage
A18: At the final stage of the WLC assessment process, applicants should complete the post-construction result tab of this template and submit it to the GLA prior to occupation of the development. This will require an update of the information provided at planning submission stage and for the actual WLC carbon emission figures to be reported using actual material quantities and site emissions during construction. Information should be submitted to:
A21: ZeroCarbonPlanning@london.gov.uk
... A26: ZeroCarbonPlanning@london.gov.uk

Sheet Pre-app information
A1: Project details
A2: Project name
A3: Planning application reference number (if applicable)
A4: Use Type
A5: Brief description of the project
A6: GIA (m2)
A7: Authors (organisation or individuals)
A8: Date of assessment
A10: WLC reduction principles | C10: Key benefits | E10: Provide examples of how reduction principle has been used, or give reasons why it cannot be used.
A11: 1 | B11: Reuse and retrofit of existing buildings | C11: Significant retention and reuse of structures is carbon efficient and reduces construction costs. | E11: Confirmation that options for retaining existing buildings and structures have been fully explored before considering substantial demolition | F11: [Outline the options that have been considered - plus an explanation of opportunities and limitations, and why demolition outweighs the benefits of retaining existing buildings/structures where applicable]
E12: Carbon emissions associated with pre-construction demolition (kgCO2e) | F12: [If estimates are not possible, please apply standard assumption of 50kgCO2e/m2 of the existing building/s]
E13: Estimate of the percentage of the new build development which will be made up of existing elements | F13: [e.g. X% existing facades; Y% existing foundations; Z% superstructures etc.]
A14: 2 | B14: Use repurposed or recycled materials | C14: Reduces waste and carbon emissions.
A15: 3 | B15: Material selection | C15: Appropriate material choices are key to carbon reduction. Ensuring that materials are selected with consideration of the planned life expectancy of the building reduces waste, the need for replacements and the in-use costs.
A16: 4 | B16: Minimise operational energy use | C16: A 'fabric first' approach should be prioritised to minimise energy demand and reduce carbon and in-use costs.
A17: 5 | B17: Minimise the carbon emissions associated with operational water use | C17: Choice of materials and durability of systems, which help to avoid leakage and subsequent building damage, contribute to reducing the carbon emissions of water use.
A18: 6 | B18: Disassembly and reuse | C18: Designing for future disassembly ensures that products do not become future waste and that they maintain their environmental and economic value.
A19: 7 | B19: Building shape and form | C19: Compact efficient shapes help minimise both operational and embodied carbon emissions from repair and replacement for a given floor area. This leads to a more efficient building overall resulting in lower construction and in use costs.
A20: 8 | B20: Regenerative design | C20: Removing carbon emissions from the atmosphere through materials and systems absorbing it makes a direct contribution to carbon reduction.
A21: 9 | B21: Designing for durability and flexibility | C21: Durability means that repair and replacement is reduced which in turn helps reduce life-time building costs. A building designed for flexibility can respond with minimum environmental impact to future changing requirements and a changing climate, thus avoiding obsolescence which also underwrites future building value.
A22: 10 | B22: Optimisation of the relationship between operational and embodied carbon | C22: Optimising the relationship between operational and embodied carbon contributes directly to resource efficiency and overall cost reduction.
A23: 11 | B23: Building life expectancy | C23: Defining building life expectancy gives guidance to project teams as to the most efficient choices for materials and products. This aids overall resource efficiency, including cost efficiency and helps future proof asset value.
A24: 12 | B24: Local sourcing | C24: Sourcing local materials reduces transport distances and supply chain lengths and has associated local social and economic benefits.
A25: 13 | B25: Minimising waste | C25: Waste represents unnecessary and avoidable carbon emissions. Buildings should be designed to minimise construction waste, and to ease repair and replacement with minimum waste, which helps reduce initial and in-use costs.
... A28: 16 | B28: Circular economy | C28: The circular economy principle focusses on a more efficient use of materials which in turn leads to carbon and financial efficiencies.

Sheet Outline planning stage
A1: Project details
A2: Project name | C2: PLON01 | H2: Key
A3: Planning application reference number (if applicable) | I3: Data automatically calculated - no direct input required
A4: Use Class | C4: B8 | I4: Cells that require information / data inputting
A5: Brief description of the project | C5: The proposed development located at Prologis Park West Iron Bridge Road North, West Drayton, Uxbridge, UB11 1BT. This is currently occupied by units DC5 and DC6, which are industrial buildings, and will be converted into one data centre. | I5: N/A
A6: GIA (m2) | C6: 49014
A8: Assessment details
A9: Authors (organisation or individuals)
A10: Date of assessment
B11: Operational modelling methodology for Module B6 results
A12: Reference study period (if not 60 years)
A13: Software tool used
A14: Type of EPDs and carbon database used
A15: Please confirm if 95% of the cost allocated to each building element category has been accounted for in the assessment?
A16: Explanation of the third-party mechanisms which have been adopted to quality assure this submission
A17: Please confirm whether you have submitted this assessment to the Built Environment Carbon Database (https://www.becd.co.uk/) or if you give permission for the GLA to do this on your behalf by checking one of the following boxes
A20: Estimated WLC emissions N.B. This forms the WLC baseline for the development. The green cells will automatically populate from the tables below
C21: Module A1-A5 (excluding sequestered carbon) | D21: Modules B-C (excl B6 & B7) | E21: Modules A-C (excluding B6-B7; including sequestered carbon) | F21: Module B1-B5 | G21: Module B6-B7 | H21: Module C1-C4 | I21: Module D
A22: TOTAL kg CO2e | C22: =D201+E201+F201 -> 0 | D22: =G201+H201+I201+J201+K201+O201+P201+Q201+R201 -> 0 | E22: =C201+D201+E201+F201+G201+H201+I201+J201+K201+O201+P201+Q201+R201 -> 0 | F22: =G201+H201+I201+J201+K201 -> 0 | G22: =L201+N201 -> 0 | H22: =O201+P201+Q201+R201 -> 0 | I22: =T201 -> 0
A23: TOTAL kg CO2e/m2 GIA | C23: =C22/$C$6 -> 0 | D23: =D22/$C$6 -> 0 | E23: =E22/$C$6 -> 0 | F23: =F22/$C$6 -> 0 | G23: =G22/$C$6 -> 0 | H23: =H22/$C$6 -> 0 | I23: =I22/$C$6 -> 0
A24: Please select most appropriate benchmark from drop-down menu | C24: Offices
A25: WLC Benchmark | C25: =VLOOKUP($C$24,'WLC benchmarks'!$B$10:$E$13,2, TRUE) -> <950 | D25: =VLOOKUP($C$24,'WLC benchmarks'!$B$10:$E$13,3, TRUE) -> <450 | E25: =VLOOKUP($C$24,'WLC benchmarks'!$B$10:$E$13,4, TRUE) -> <1400
A26: Aspirational WLC Benchmark | C26: =VLOOKUP($C$24,'WLC benchmarks'!$B$16:$E$19,2, TRUE) -> <600 | D26: =VLOOKUP($C$24,'WLC benchmarks'!$B$16:$E$19,3, TRUE) -> <370 | E26: =VLOOKUP($C$24,'WLC benchmarks'!$B$16:$E$19,4, TRUE) -> <970
A27: Comparison with WLC benchmarks (see Appendix 2 of the guidance) | C27: There are currently no WLC benchmarks specifically established for data centres within the GLA guidance or other recognised industry frameworks. As a result, it was not possible to undertake a direct comparison against the GLA WLC baseline or aspirational benchmarks. The absence of sector-specific benchmarks is primarily due to the unique operational and material characteristics of data centres, which differ significantly from other building typologies typically included in published WLC datasets
A29: Retention of existing buildings and structures
A30: Confirmation that options for retaining existing buildings and structures have been fully explored before considering substantial demolition
A31: Carbon emissions associated with pre-construction demolition (kgCO2e)
A32: Estimate of the percentage of the new build development which will be made up of existing elements
A34: Summary of key actions to reduce whole life-cycle carbon emissions that have informed this assessment, including the WLC reductions | C34: Actions included in WLC assessment results reported | F34: WLC reduction (kg CO2e/m2 GIA)
A40: Specify further opportunities to reduce the development’s whole life-cycle carbon emissions. including the WLC reduction potential
A47: MATERIAL QUANTITY AND END OF LIFE SCENARIOS | C47: Product and Construction Stage (Module A) | E47: Assumptions made with respect to maintenance, repair and replacement cycles (Module B) | F47: Material 'end of life' scenarios (Module C) | H47: Benefits and loads beyond the system boundary (Module D)
A48: Building element category | C48: Material type | D48: Material quantity (kg) | H48: Estimated reusable materials (kg) | I48: Estimated recyclable materials (kg)
A49: Note/example | C49: Breakdown of material type in each category [Insert more lines if needed] e.g. Concrete | D49: 65000 kg | E49: For all primary building systems (structure, substructure, envelope, MEP services, internal finishes) including assumed material/product lifespans and annual maintenance/repair % | F49: Declare 'end of life' scenario as per project’s Circular Economy Statement, and used in the WLC assessment to produce Module C results | H49: 0 kg | I49: 25 kg
C50: e.g. Reinforcement | D50: 5000 kg | H50: 2 kg | I50: 8 kg
C51: e.g. Formwork | D51: 250 kg | H51: 0 kg | I51: 0 kg
A52: 0.1 | B52: Demolition: Toxic/Hazardous/Contaminated Material Treatment | J52: Please add rows where more than 1 material type exists per building element category
A53: 0.2 | B53: Major Demolition Works
A54: 0.3 | B54: Temporary Support to Adjacent Structures
A55: 0.4 | B55: Specialist Ground Works
A56: 1 | B56: Substructure
...

Sheet Detailed planning stage
A1: Project details
A2: Project name | C2: =IF('Outline planning stage'!C2="","",'Outline planning stage'!C2) -> PLON01 | H2: Key
A3: Planning application reference number (if applicable) | C3: =IF('Outline planning stage'!C3="","",'Outline planning stage'!C3) | I3: Data automatically calculated - no direct input required
A4: Use Class | C4: =IF('Outline planning stage'!C4="","",'Outline planning stage'!C4) -> B8 | I4: Cells that require information / data inputting
A5: Brief description of the project | C5: =IF('Outline planning stage'!C5="","",'Outline planning stage'!C5) -> The proposed development located at Prologis Park West Iron Bridge Road North, West Drayton, Uxbridge, UB11 1BT. This is currently occupied by units DC5 and DC6, which are industrial buildings, and will be converted into one data centre. | I5: N/A
A6: GIA (m2) | C6: =IF('Outline planning stage'!C6="","",'Outline planning stage'!C6) -> 49014
A8: Assessment details
A9: Authors (organisation or individuals) | C9: Rence Pearl Bacal
A10: Date of assessment | C10: 10.09.2026
B11: Operational modelling methodology for Module B6 results | C11: TM54
A12: Reference study period (if not 60 years) | C12: [This cell should only be filled in if the reference study period, i.e. the assumed building life expectancy, exceeds or is less than 60 years. Applicants should state the reference study period in this cell. While the assessment should still be done to 60 years, applicants may, if they choose to, submit an additional assessment of the modules B, C and D for the actual reference study period by copying and pasting an additional 'GWP potential for all life-cycle modules' table, see below].
A13: Software tool used | C13: One Click LCA
A14: Types of EPDs and carbon database used | C14: The database used in this tool is controlled by One Click LCA’s database management process and complies with SO 14040/14044 standards. For summary of One Click LCA’s database management processes, read this: https://oneclicklca.com/en/resources/articles/how-we-work-with-data
A15: Please confirm if 95% of the cost allocated to each building element category has been accounted for in the assessment? | C15: Yes, assumptions were made for the MEP equipment based on the GIA for typical data centres at the outline planning phase.
A16: Explanation of mechanisms which have been adopted to quality assure the submission | C16: The submission was quality assured through two mechanisms: (1) data entry and report assessment were internally reviewed by a RED employee with over nine years’ experience in Whole Life Carbon Assessment (WLCA); and (2) all cost data used for the project was sourced from and validated by an independent Cost Consultant, acting outside of RED’s remit, to ensure accuracy and alignment with industry benchmarks
A17: Please confirm whether you have submitted this assessment to the Built Environment Carbon Database (https://www.becd.co.uk/) or if you give permission for the GLA to do this on your behalf by checking one of the following boxes | C17: Not yet
A20: Estimated WLC emissions N.B. This forms the WLC baseline for the development. The green cells will automatically populate from the tables below
C21: Module A1-A5 (excluding sequestered carbon) | D21: Modules B-C (excl B6 & B7) | E21: Modules A-C (excl B6 & B7; including sequestered carbon) | F21: Module B1-B5 | G21: Module B6-B7 | H21: Module C1-C4 | I21: Module D
A22: TOTAL kg CO2e | C22: =D202+E202+F202 -> 46730433 | D22: =G202+H202+I202+J202+K202+O202+P202+Q202+R202 -> 44263619 | E22: =C202+D202+E202+F202+G202+H202+I202+J202+K202+O202+P202+Q202+R202 -> 90979916 | F22: =G202+H202+I202+J202+K202 -> 42259400 | G22: =L202+N202 -> 7389680000 | H22: =O202+P202+Q202+R202 -> 2004218.7 | I22: =T202 -> -25490762
A23: TOTAL kg CO2e/m2 GIA | C23: =C22/$C$6 -> 953.4099 | D23: =D22/$C$6 -> 903.08113 | E23: =E22/$C$6 -> 1856.2026 | F23: =F22/$C$6 -> 862.19039 | G23: =G22/$C$6 -> 150766.72 | H23: =H22/$C$6 -> 40.89074 | I23: =I22/$C$6 -> -520.07104
A24: Please select most appropriate benchmark from drop-down menu | C24: Offices
A25: WLC Benchmark | C25: =VLOOKUP($C$24,'WLC benchmarks'!$B$10:$E$13,2, TRUE) -> <950 | D25: =VLOOKUP($C$24,'WLC benchmarks'!$B$10:$E$13,3, TRUE) -> <450 | E25: =VLOOKUP($C$24,'WLC benchmarks'!$B$10:$E$13,4, TRUE) -> <1400
A26: Aspirational WLC Benchmark | C26: =VLOOKUP($C$24,'WLC benchmarks'!$B$16:$E$19,2, TRUE) -> <600 | D26: =VLOOKUP($C$24,'WLC benchmarks'!$B$16:$E$19,3, TRUE) -> <370 | E26: =VLOOKUP($C$24,'WLC benchmarks'!$B$16:$E$19,4, TRUE) -> <970
A27: Comparison with WLC benchmarks (see Appendix 2 of the guidance) | C27: There are currently no WLC benchmarks specifically established for data centres within the GLA guidance or other recognised industry frameworks. As a result, it was not possible to undertake a direct comparison against the GLA WLC baseline or aspirational benchmarks. The absence of sector-specific benchmarks is primarily due to the unique operational and material characteristics of data centres, which differ significantly from other building typologies typically included in published WLC datasets
A29: Retention of existing buildings and structures
A30: Confirmation that options for retaining existing buildings and structures have been fully explored before considering substantial demolition | C30: Majority of what is currently on site is retained and a new extention is proposed.
A31: Carbon emissions associated with pre-construction demolition (kgCO2e) | C31: 866000
A32: Estimate of the percentage of the new build development which will be made up of existing elements | C32: 0% ; as a little demolition is anticipated.
A34: Summary of key actions to reduce whole life-cycle carbon emissions that have informed this assessment, including the WLC reductions | C34: Actions included in WLC assessment results reported | F34: WLC reduction (kg CO2e/m2 GIA)
C35: Inclusion of replacement aggregate and recycle content in steel and concrete mixes | F35: 50
C36: Air source Heat Pumps / VRF providing low carbon heating to the office areas | F36: 375.5
C37: Solar photovoltaic Panels generating zero carbon electricity | F37: 375.5
C38: High energy efficient air cooled chillers with free cooling function to reduce the cooling demand reducing the dPUE to ,1.3 | F38: 1063
A40: Specify further opportunities to reduce the development’s whole life-cycle carbon emissions. including the WLC reduction potential | C40: Further potential opportunities | F40: WLC reduction potential (kg CO2e/m2 GIA)
C41: further increase the % of replacement aggregate and recycled content in steel and concrete mixes beyond what's currently in the baseline calculations | F41: 100
C42: Locally sourced material and all electric (zero -emission) transportation | F42: 97
A47: MATERIAL QUANTITY AND END OF LIFE SCENARIOS | C47: Product and Construction Stage (Module A) | E47: Assumptions made with respect to maintenance, repair and replacement cycles (Module B) | F47: Material 'end of life' scenarios (Module C) | H47: Benefits and loads beyond the system boundary (Module D)
A48: Building element category | C48: Material type | D48: Material quantity (kg) | H48: Estimated reusable materials (kg) | I48: Estimated recyclable materials (kg)
A49: Note/example | C49: Breakdown of material type in each category [Insert more lines if needed] e.g. Concrete | D49: 65000 kg | E49: For all primary building systems (structure, substructure, envelope, MEP services, internal finishes) including assumed material/product lifespans and annual maintenance/repair % | F49: Declare 'end of life' scenario as per project’s Circular Economy Statement, and used in the WLC assessment to produce Module C results | H49: 0 kg | I49: 25 kg
C50: e.g. Reinforcement | D50: 5000 kg | H50: 2 kg | I50: 8 kg
...

Sheet Post-construction result
A1: Project details
A2: Project name | C2: =IF('Outline planning stage'!C2="","",'Outline planning stage'!C2) -> PLON01 | H2: Key
A3: Planning application reference number (if applicable) | I3: Data automatically calculated - no direct input required
A4: Use Class | I4: Cells that require information / data inputting
A5: Brief description of the project | I5: N/A
A6: GIA (m2) | C6: =IF('Outline planning stage'!C6="","",'Outline planning stage'!C6) -> 49014
A8: Assessment details
A9: Authors (organisation or individuals) | C9: =IF('Outline planning stage'!C9="","",'Outline planning stage'!C9)
A10: Date of assessment | C10: =IF('Outline planning stage'!C10="","",'Outline planning stage'!C10)
B11: Operational modelling methodology for Module B6 results | C11: e.g. SAP or TM54
A12: Reference study period (if not 60 years) | C12: [This cell should only be filled in if the reference study period, i.e. the assumed building life expectancy, exceeds or is less than 60 years. Applicants should state the reference study period in this cell. While the assessment should still be done to 60 years, applicants may, if they choose to, submit an additional assessment of the modules B, C and D for the actual reference study period by copying and pasting an additional 'GWP potential for all life-cycle modules' table, see below].
A13: Software tool used | C13: One Click LCA
A14: Type of EPDs and carbon database used | C14: [If using more than one database please list all]
A15: Please confirm if 95% of the cost allocated to each building element category has been accounted for in the assessment? | C15: [Yes / No]
A16: Explanation of mechanisms which have been adopted to quality assure the submission
A17: Please confirm whether you have submitted this assessment to the Built Environment Carbon Database (https://www.becd.co.uk/) or if you give permission for the GLA to do this on your behalf by checking one of the following boxes | C17: I have submitted this assessment to the BECD
C18: I give permission for the GLA to submit this assessment to the BECD on my behalf
A20: List of product specific EPDs for products that have been installed | C20: Product | F20: EPD reference number
C21: [Please add rows if needed]
A25: Please confirm the following post-construction evidence has been submitted with this WLC assessment
A26: Site energy (including fuel) use record | C26: [Yes / No]
A27: Contractor confirmation of as-built quantities and specifications | C27: [Yes / No]
A28: Record of material delivery including distance travelled and transportation mode | C28: [Yes / No]
A29: Waste transportation record include waste quantity, distance travelled and transportation mode | C29: [Yes / No]
A32: WLC emissions baseline (automatically populated from the 'detailed planning stage' tab)
C33: Module A1-A5 (excluding sequestered carbon) | D33: Modules B-C (excl B6 & B7) | E33: Modules A-C (excl B6-B7; including sequestered carbon) | F33: Module B1-B5 | G33: Module B6-B7 | H33: Module C1-C4 | I33: Module D
A34: TOTAL kg CO2e | C34: ='Detailed planning stage'!C22 -> 46730433 | D34: ='Detailed planning stage'!D22 -> 44263619 | E34: ='Detailed planning stage'!E22 -> 90979916 | F34: ='Detailed planning stage'!F22 -> 42259400 | G34: ='Detailed planning stage'!G22 -> 7389680000 | H34: ='Detailed planning stage'!H22 -> 2004218.7 | I34: ='Detailed planning stage'!I22 -> -25490762
A35: TOTAL kg CO2e/m2 GIA | C35: ='Detailed planning stage'!C23 -> 953.4099 | D35: ='Detailed planning stage'!D23 -> 903.08113 | E35: ='Detailed planning stage'!E23 -> 1856.2026 | F35: ='Detailed planning stage'!F23 -> 862.19039 | G35: ='Detailed planning stage'!G23 -> 150766.72 | H35: ='Detailed planning stage'!H23 -> 40.89074 | I35: ='Detailed planning stage'!I23 -> -520.07104
A38: Post-construction WLC emissions
C39: Module A1-A5 | D39: Modules B-C (excl B6 & B7) | E39: Modules A-C (excl B6-B7; including sequestered carbon) | F39: Module B1-B5 | G39: Module B6-B7 | H39: Module C1-C4 | I39: Module D
A40: TOTAL kg CO2e | C40: =D121+E121+F121 -> 46730433 | D40: =G121+H121+I121+J121+K121+O121+P121+Q121+R121 -> 44263619 | E40: =C121+D121+E121+F121+G121+H121+I121+J121+K121+O121+P121+Q121+R121 -> 90979916 | F40: =G121+H121+I121+J121+K121 -> 42259400 | G40: =L121+N121 -> #VALUE! | H40: =O121+P121+Q121+R121 -> 2004218.7 | I40: =T121 -> 0
A41: TOTAL kg CO2e/m2 GIA | C41: =C40/$C$6 -> 953.4099 | D41: =D40/$C$6 -> 903.08113 | E41: =E40/$C$6 -> 1856.2026 | F41: =F40/$C$6 -> 862.19039 | G41: =G40/$C$6 -> #VALUE! | H41: =H40/$C$6 -> 40.89074 | I41: =I40/$C$6 -> 0
A42: Please select most appropriate benchmark from drop-down menu
A43: WLC Benchmark | C43: =VLOOKUP($C$42,'WLC benchmarks'!$B$10:$E$13,2, TRUE) -> #N/A | D43: =VLOOKUP($C$42,'WLC benchmarks'!$B$10:$E$13,3, TRUE) -> #N/A | E43: =VLOOKUP($C$42,'WLC benchmarks'!$B$10:$E$13,4, TRUE) -> #N/A
A44: Aspirational WLC Benchmark | C44: =VLOOKUP($C$42,'WLC benchmarks'!$B$16:$E$19,2, TRUE) -> #N/A | D44: =VLOOKUP($C$42,'WLC benchmarks'!$B$16:$E$19,3, TRUE) -> #N/A | E44: =VLOOKUP($C$42,'WLC benchmarks'!$B$16:$E$19,4, TRUE) -> #N/A
A45: Commentary comparing the post-construction results against the WLC emissions baseline above | C45: [Explain the reasons for any divergences from the results against the WLC emissions baseline above]
A46: Commentary comparing the post-construction results against the WLC benchmarks (see Appendix 2) | C46: [Explain the reasons for any divergences from WLC benchmarks, including against the WLC aspirational benchmarks]
A48: Retention of existing buildings and structures
A49: Confirmation of which options for retaining existing buildings and structures that were under exploration at planning stages have been implemented
A50: Actual carbon emissions associated with pre-construction demolition (kgCO2e)
...

Sheet WLC benchmarks
B2: Available benchmarks
B3: Offices
B4: Residential
B5: Schools, Universities etc.
B6: Retail
B9: WLC benchmark | C9: A1-A5 | D9: B-C (excl B6 & B7) | E9: A-C (excl B6 & B7)
B10: Offices | C10: <950 | D10: <450 | E10: <1400
B11: Residential | C11: <850 | D11: <350 | E11: <1200
B12: Schools, Universities etc. | C12: <750 | D12: <250 | E12: <1000
B13: Retail | C13: <850 | D13: <200 | E13: <1050
B15: Aspirational WLC benchmark | C15: A1-A5 | D15: B-C (excl B6 & B7) | E15: A-C (excl B6 & B7)
B16: Offices | C16: <600 | D16: <370 | E16: <970
B17: Residential | C17: <500 | D17: <300 | E17: <800
B18: Schools, Universities etc. | C18: <500 | D18: <175 | E18: <675
B19: Retail | C19: <550 | D19: <140 | E19: <690
