Workbook
Name _Hlk30849479: #REF!
Name _Hlk30849479: #REF!
Name _Hlk30849479: #REF!
Name _Hlk30849479: #REF!

Sheet Updates
B3: The draft consultation version of the template has been updated as follows:
B5: Template tab | C5: Details
B6: Pre-app information | C6: Principle 1 expanded to require further details on pre-construction demolition and options explored for retaining existing buildings/structures.
C7: Removal of Y/N option next to each WLC reduction principle.
B8: Outline and Detailed planning Stage & Post-construction result | C8: Confirmation of operational modelling process used
C9: Confirmation relating to proportion of material quantities included relating to cost
C10: Confirmation of third party mechanisms
C11: Confirmation that the assessment has or can be submitted to the Built Environment Carbon Database
C12: Updated assessment summary results to align with new WLC benchmarks
C13: Addition of selection of most comparable WLC benchmark selection
C14: Addition of details relating to retention of existing structures and buildings
C15: Updated note/example text for module B assumptions and end of life scenarios in the 'Material Quantity and End of Life Scenarios' table
C16: Addition of details relating to refrigerants to 'Material Quantity and End of Life Scenarios' table
C17: Addition of option in assessment table to report A5 emissions as a single number or A5 emissions not related to a building element category
C18: Removal of assessment 2
C19: Colour coding to reflect cells that require inputs and cells which are updated automatically
B20: Post-construction result | C20: Addition of confirmation relating to post-construction evidence submission
C21: Addition of list of product specific EPDs from products installed in the building

Sheet Introduction
A1: Greater London Authority - Whole Life-Cycle Carbon (WLC) Assessment template
A3: HOW TO USE THIS SPREADSHEET
A5: This template should be used by planning applicants to fulfil the requirements of the Mayor's Whole Life-Cycle Carbon (WLC) Assessment policy set out in London Plan Policy SI 2. Before completing and submitting this spreadsheet to the GLA, applicants should read the Whole Life-Cycle Carbon Assessment guidance:
A8: https://www.london.gov.uk/what-we-do/planning/implementing-london-plan/london-plan-guidance/whole-life-cycle-carbon-assessments-guidance
A9: Applicants are required to submit a WLC assessment to the GLA at the following three stages: pre-application, outline/detailed planning submission and post-construction. Separate tabs are provided in this spreadsheet for each stage. An outline of the information required at each stage and how to submit it is provided below.
A11: 1. Pre-application stage
A12: At pre-application stage, applicants are required to complete the pre-application information tab of this template to confirm various details about the site and to provide details of the WLC principles which are informing the development of the site. This should be submitted to the GLA along with all other pre-application material.
A14: 2. Outline/detailed planning submission stage
A15: At this stage, applicants are required to complete the outline or detailed planning stage tab of this template (whichever is relevant) and submit it to the GLA along with their planning application. This stage of the process requires a baseline WLC assessment against each life-cycle module to be undertaken.
A17: 3. Post-construction stage
A18: At the final stage of the WLC assessment process, applicants should complete the post-construction result tab of this template and submit it to the GLA prior to occupation of the development. This will require an update of the information provided at planning submission stage and for the actual WLC carbon emission figures to be reported using actual material quantities and site emissions during construction. Information should be submitted to:
A21: ZeroCarbonPlanning@london.gov.uk
... A26: ZeroCarbonPlanning@london.gov.uk

Sheet Pre-app information
A1: Project details
A2: Project name
A3: Planning application reference number (if applicable)
A4: Use Type
A5: Brief description of the project
A6: GIA (m2)
A7: Authors (organisation or individuals)
A8: Date of assessment
A10: WLC reduction principles | C10: Key benefits | E10: Provide examples of how reduction principle has been used, or give reasons why it cannot be used.
A11: 1 | B11: Reuse and retrofit of existing buildings | C11: Significant retention and reuse of structures is carbon efficient and reduces construction costs. | E11: Confirmation that options for retaining existing buildings and structures have been fully explored before considering substantial demolition | F11: [Outline the options that have been considered - plus an explanation of opportunities and limitations, and why demolition outweighs the benefits of retaining existing buildings/structures where applicable]
E12: Carbon emissions associated with pre-construction demolition (kgCO2e) | F12: [If estimates are not possible, please apply standard assumption of 50kgCO2e/m2 of the existing building/s]
E13: Estimate of the percentage of the new build development which will be made up of existing elements | F13: [e.g. X% existing facades; Y% existing foundations; Z% superstructures etc.]
A14: 2 | B14: Use repurposed or recycled materials | C14: Reduces waste and carbon emissions.
A15: 3 | B15: Material selection | C15: Appropriate material choices are key to carbon reduction. Ensuring that materials are selected with consideration of the planned life expectancy of the building reduces waste, the need for replacements and the in-use costs.
A16: 4 | B16: Minimise operational energy use | C16: A 'fabric first' approach should be prioritised to minimise energy demand and reduce carbon and in-use costs.
A17: 5 | B17: Minimise the carbon emissions associated with operational water use | C17: Choice of materials and durability of systems, which help to avoid leakage and subsequent building damage, contribute to reducing the carbon emissions of water use.
A18: 6 | B18: Disassembly and reuse | C18: Designing for future disassembly ensures that products do not become future waste and that they maintain their environmental and economic value.
A19: 7 | B19: Building shape and form | C19: Compact efficient shapes help minimise both operational and embodied carbon emissions from repair and replacement for a given floor area. This leads to a more efficient building overall resulting in lower construction and in use costs.
A20: 8 | B20: Regenerative design | C20: Removing carbon emissions from the atmosphere through materials and systems absorbing it makes a direct contribution to carbon reduction.
A21: 9 | B21: Designing for durability and flexibility | C21: Durability means that repair and replacement is reduced which in turn helps reduce life-time building costs. A building designed for flexibility can respond with minimum environmental impact to future changing requirements and a changing climate, thus avoiding obsolescence which also underwrites future building value.
A22: 10 | B22: Optimisation of the relationship between operational and embodied carbon | C22: Optimising the relationship between operational and embodied carbon contributes directly to resource efficiency and overall cost reduction.
A23: 11 | B23: Building life expectancy | C23: Defining building life expectancy gives guidance to project teams as to the most efficient choices for materials and products. This aids overall resource efficiency, including cost efficiency and helps future proof asset value.
A24: 12 | B24: Local sourcing | C24: Sourcing local materials reduces transport distances and supply chain lengths and has associated local social and economic benefits.
A25: 13 | B25: Minimising waste | C25: Waste represents unnecessary and avoidable carbon emissions. Buildings should be designed to minimise construction waste, and to ease repair and replacement with minimum waste, which helps reduce initial and in-use costs.
... A28: 16 | B28: Circular economy | C28: The circular economy principle focusses on a more efficient use of materials which in turn leads to carbon and financial efficiencies.

Sheet Outline planning stage
A1: Project details
A2: Project name | C2: PLON01 | H2: Key
A3: Planning application reference number (if applicable) | I3: Data automatically calculated - no direct input required
A4: Use Class | C4: B8 | I4: Cells that require information / data inputting
A5: Brief description of the project | C5: The proposed development located at Prologis Park West Iron Bridge Road North, West Drayton, Uxbridge, UB11 1BT. This is currently occupied by units DC5 and DC6, which are industrial buildings, and will be converted into one data centre. | I5: N/A
A6: GIA (m2) | C6: 49014
A8: Assessment details
A9: Authors (organisation or individuals)
A10: Date of assessment
B11: Operational modelling methodology for Module B6 results
A12: Reference study period (if not 60 years)
A13: Software tool used
A14: Type of EPDs and carbon database used
A15: Please confirm if 95% of the cost allocated to each building element category has been accounted for in the assessment?
A16: Explanation of the third-party mechanisms which have been adopted to quality assure this submission
A17: Please confirm whether you have submitted this assessment to the Built Environment Carbon Database (https://www.becd.co.uk/) or if you give permission for the GLA to do this on your behalf by checking one of the following boxes
A20: Estimated WLC emissions N.B. This forms the WLC baseline for the development. The green cells will automatically populate from the tables below
C21: Module A1-A5 (excluding sequestered carbon) | D21: Modules B-C (excl B6 & B7) | E21: Modules A-C (excluding B6-B7; including sequestered carbon) | F21: Module B1-B5 | G21: Module B6-B7 | H21: Module C1-C4 | I21: Module D
A22: TOTAL kg CO2e | C22: =D201+E201+F201 -> 0 | D22: =G201+H201+I201+J201+K201+O201+P201+Q201+R201 -> 0 | E22: =C201+D201+E201+F201+G201+H201+I201+J201+K201+O201+P201+Q201+R201 -> 0 | F22: =G201+H201+I201+J201+K201 -> 0 | G22: =L201+N201 -> 0 | H22: =O201+P201+Q201+R201 -> 0 | I22: =T201 -> 0
A23: TOTAL kg CO2e/m2 GIA | C23: =C22/$C$6 -> 0 | D23: =D22/$C$6 -> 0 | E23: =E22/$C$6 -> 0 | F23: =F22/$C$6 -> 0 | G23: =G22/$C$6 -> 0 | H23: =H22/$C$6 -> 0 | I23: =I22/$C$6 -> 0
A24: Please select most appropriate benchmark from drop-down menu | C24: Offices
A25: WLC Benchmark | C25: =VLOOKUP($C$24,'WLC benchmarks'!$B$10:$E$13,2, TRUE) -> <950 | D25: =VLOOKUP($C$24,'WLC benchmarks'!$B$10:$E$13,3, TRUE) -> <450 | E25: =VLOOKUP($C$24,'WLC benchmarks'!$B$10:$E$13,4, TRUE) -> <1400
A26: Aspirational WLC Benchmark | C26: =VLOOKUP($C$24,'WLC benchmarks'!$B$16:$E$19,2, TRUE) -> <600 | D26: =VLOOKUP($C$24,'WLC benchmarks'!$B$16:$E$19,3, TRUE) -> <370 | E26: =VLOOKUP($C$24,'WLC benchmarks'!$B$16:$E$19,4, TRUE) -> <970
A27: Comparison with WLC benchmarks (see Appendix 2 of the guidance) | C27: There are currently no WLC benchmarks specifically established for data centres within the GLA guidance or other recognised industry frameworks. As a result, it was not possible to undertake a direct comparison against the GLA WLC baseline or aspirational benchmarks. The absence of sector-specific benchmarks is primarily due to the unique operational and material characteristics of data centres, which differ significantly from other building typologies typically included in published WLC datasets
A29: Retention of existing buildings and structures
A30: Confirmation that options for retaining existing buildings and structures have been fully explored before considering substantial demolition
A31: Carbon emissions associated with pre-construction demolition (kgCO2e)
A32: Estimate of the percentage of the new build development which will be made up of existing elements
A34: Summary of key actions to reduce whole life-cycle carbon emissions that have informed this assessment, including the WLC reductions | C34: Actions included in WLC assessment results reported | F34: WLC reduction (kg CO2e/m2 GIA)
A40: Specify further opportunities to reduce the development’s whole life-cycle carbon emissions. including the WLC reduction potential
A47: MATERIAL QUANTITY AND END OF LIFE SCENARIOS | C47: Product and Construction Stage (Module A) | E47: Assumptions made with respect to maintenance, repair and replacement cycles (Module B) | F47: Material 'end of life' scenarios (Module C) | H47: Benefits and loads beyond the system boundary (Module D)
A48: Building element category | C48: Material type | D48: Material quantity (kg) | H48: Estimated reusable materials (kg) | I48: Estimated recyclable materials (kg)
A49: Note/example | C49: Breakdown of material type in each category [Insert more lines if needed] e.g. Concrete | D49: 65000 kg | E49: For all primary building systems (structure, substructure, envelope, MEP services, internal finishes) including assumed material/product lifespans and annual maintenance/repair % | F49: Declare 'end of life' scenario as per project’s Circular Economy Statement, and used in the WLC assessment to produce Module C results | H49: 0 kg | I49: 25 kg
C50: e.g. Reinforcement | D50: 5000 kg | H50: 2 kg | I50: 8 kg
C51: e.g. Formwork | D51: 250 kg | H51: 0 kg | I51: 0 kg
A52: 0.1 | B52: Demolition: Toxic/Hazardous/Contaminated Material Treatment | J52: Please add rows where more than 1 material type exists per building element category
A53: 0.2 | B53: Major Demolition Works
A54: 0.3 | B54: Temporary Support to Adjacent Structures
A55: 0.4 | B55: Specialist Ground Works
A56: 1 | B56: Substructure
A62: 2.1 | B62: Superstructure: Frame
A71: 2.2 | B71: Superstructure: Upper Floors
A80: 2.3 | B80: Superstructure: Roof
A88: 2.4 | B88: Superstructure: Stairs and Ramps
A91: 2.5 | B91: Superstructure: External Walls
A94: 2.6 | B94: Superstructure: Windows and External Doors
A97: 2.7 | B97: Superstructure: Internal Walls and Partitions
A106: 2.8 | B106: Superstructure: Internal Doors
... A151: 8 | B151: External works
A169: Refrigerants | C169: Refrigerant name | D169: Initial quantity/charge (kg) | E169: Assumed annual leakage rate % | F169: Refrigerant GWP (kgCO2e/kg) | G169: End of Life recovery rate %
A170: a | B170: Refrigerants Type 1 (if applicable) - please see CIBSE TM65 for methodology | G170: 3 | J170: Please add rows if required
A171: b | B171: Refrigerants Type 2 (if applicable) - please see CIBSE TM65 for methodology
A172: c | B172: Refrigerants Type 3 (if applicable) - please see CIBSE TM65 for methodology
C173: TOTAL | D173: =SUM(D52:D168)+SUM(D170:D172) -> 0 | H173: =SUM(H52:H168) -> 0 | I173: =SUM(I52:I168) -> 0
C174: Material intensity (kg/m2 GIA) | D174: =D173/$C$6 -> 0 | H174: =H173/$C$6 -> 0 | I174: =I173/$C$6 -> 0
A176: GWP POTENTIAL FOR ALL LIFE-CYCLE MODULES (kgCO2e) (See Note 1 below if you entered a reference study period in cell C12) | C176: Sequestered (or biogenic) carbon (negative value) (kgCO2e) | D176: Product stage (kgCO2e) | E176: Construction process stage (kgCO2e) | G176: Use stage (kgCO2e) | O176: End of Life (EoL) stage (kgCO2e) | S176: TOTAL Modules A-C kgCO2e | T176: Benefits and loads beyond the system boundary (kgCO2e)
D178: Module A | G178: Module B | O178: Module C | T178: Module D
A179: Building element category | D179: [A1] to [A3] | E179: [A4] | F179: [A5] | G179: [B1] | H179: [B2] | I179: [B3] | J179: [B4] | K179: [B5] | L179: [B6] | N179: [B7] | O179: [C1] | P179: [C2] | Q179: [C3] | R179: [C4]
A180: 0.1 | B180: Demolition: Toxic/Hazardous/Contaminated Material Treatment | S180: =SUM(C180:R180) -> 0
A181: 0.2 | B181: Major Demolition Works
A182: 0.3 | B182: Temporary Support to Adjacent Structures
A183: 0.4 | B183: Specialist Ground Works
A184: 0.5 | B184: Temporary Diversion Works
A185: 1 | B185: Substructure
A186: 2.1 | B186: Superstructure: Frame
A187: 2.2 | B187: Superstructure: Upper Floors
A188: 2.3 | B188: Superstructure: Roof
A189: 2.4 | B189: Superstructure: Stairs and Ramps
A190: 2.5 | B190: Superstructure: External Walls
A191: 2.6 | B191: Superstructure: Windows and External Doors
A192: 2.7 | B192: Superstructure: Internal Walls and Partitions
... A199: 8 | B199: External works
A200: Other site construction impacts or overall construction stage [A5] carbon emissions not specific to an individual building element category | S200: =F200 -> 0
A201: TOTAL kg CO2e | C201: =SUM(C182:C199) -> 0 | D201: =SUM(D182:D199) -> 0 | E201: =SUM(E182:E199) -> 0 | F201: =SUM(F182:F200) -> 0 | G201: =SUM(G182:G199) -> 0 | H201: =SUM(H182:H199) -> 0 | I201: =SUM(I182:I199) -> 0 | J201: =SUM(J182:J199) -> 0 | K201: =SUM(K182:K199) -> 0 | L201: =L196+M196 -> 0 | N201: =N196 -> 0 | O201: =SUM(O180:O199) -> 0 | P201: =SUM(P180:P199) -> 0 | Q201: =SUM(Q180:Q199) -> 0 | R201: =SUM(R180:R199) -> 0 | S201: =SUM(S180:S200) -> 0 | T201: =SUM(T180:T199) -> 0
A202: TOTAL kg CO2e/m2 GIA | C202: =C201/$C$6 -> 0 | D202: =D201/$C$6 -> 0 | E202: =E201/$C$6 -> 0 | F202: =F201/$C$6 -> 0 | G202: =G201/$C$6 -> 0 | H202: =H201/$C$6 -> 0 | I202: =I201/$C$6 -> 0 | J202: =J201/$C$6 -> 0 | ... L202: =L201/$C$6 -> 0 | N202: =N201/$C$6 -> 0 | O202: =O201/$C$6 -> 0 | P202: =P201/$C$6 -> 0 | Q202: =Q201/$C$6 -> 0 | R202: =R201/$C$6 -> 0 | S202: =S201/$C$6 -> 0 | T202: =T201/$C$6 -> 0
A203: Notes:
A204: 1 If you have entered a reference study period in cell C12 because the assumed building life expectancy is greater or less than 60 years, then you will need to fill in this table using a 60 year building life expectancy. If you choose to, you may create a second table below and complete it using the actual assumed life expectancy. This should be clearly labelled.

Sheet Detailed planning stage
A1: Project details
A2: Project name | C2: =IF('Outline planning stage'!C2="","",'Outline planning stage'!C2) -> PLON01 | H2: Key
A3: Planning application reference number (if applicable) | C3: =IF('Outline planning stage'!C3="","",'Outline planning stage'!C3) | I3: Data automatically calculated - no direct input required
A4: Use Class | C4: =IF('Outline planning stage'!C4="","",'Outline planning stage'!C4) -> B8 | I4: Cells that require information / data inputting
A5: Brief description of the project | C5: =IF('Outline planning stage'!C5="","",'Outline planning stage'!C5) -> The proposed development located at Prologis Park West Iron Bridge Road North, West Drayton, Uxbridge, UB11 1BT. This is currently occupied by units DC5 and DC6, which are industrial buildings, and will be converted into one data centre. | I5: N/A
A6: GIA (m2) | C6: =IF('Outline planning stage'!C6="","",'Outline planning stage'!C6) -> 49014
A8: Assessment details
A9: Authors (organisation or individuals) | C9: Rence Pearl Bacal
A10: Date of assessment | C10: 10.09.2026
B11: Operational modelling methodology for Module B6 results | C11: TM54
A12: Reference study period (if not 60 years) | C12: [This cell should only be filled in if the reference study period, i.e. the assumed building life expectancy, exceeds or is less than 60 years. Applicants should state the reference study period in this cell. While the assessment should still be done to 60 years, applicants may, if they choose to, submit an additional assessment of the modules B, C and D for the actual reference study period by copying and pasting an additional 'GWP potential for all life-cycle modules' table, see below].
A13: Software tool used | C13: One Click LCA
A14: Types of EPDs and carbon database used | C14: The database used in this tool is controlled by One Click LCA’s database management process and complies with SO 14040/14044 standards. For summary of One Click LCA’s database management processes, read this: https://oneclicklca.com/en/resources/articles/how-we-work-with-data
A15: Please confirm if 95% of the cost allocated to each building element category has been accounted for in the assessment? | C15: Yes, assumptions were made for the MEP equipment based on the GIA for typical data centres at the outline planning phase.
A16: Explanation of mechanisms which have been adopted to quality assure the submission | C16: The submission was quality assured through two mechanisms: (1) data entry and report assessment were internally reviewed by a RED employee with over nine years’ experience in Whole Life Carbon Assessment (WLCA); and (2) all cost data used for the project was sourced from and validated by an independent Cost Consultant, acting outside of RED’s remit, to ensure accuracy and alignment with industry benchmarks
A17: Please confirm whether you have submitted this assessment to the Built Environment Carbon Database (https://www.becd.co.uk/) or if you give permission for the GLA to do this on your behalf by checking one of the following boxes | C17: Not yet
A20: Estimated WLC emissions N.B. This forms the WLC baseline for the development. The green cells will automatically populate from the tables below
C21: Module A1-A5 (excluding sequestered carbon) | D21: Modules B-C (excl B6 & B7) | E21: Modules A-C (excl B6 & B7; including sequestered carbon) | F21: Module B1-B5 | G21: Module B6-B7 | H21: Module C1-C4 | I21: Module D
A22: TOTAL kg CO2e | C22: =D202+E202+F202 -> 46730433 | D22: =G202+H202+I202+J202+K202+O202+P202+Q202+R202 -> 44263619 | E22: =C202+D202+E202+F202+G202+H202+I202+J202+K202+O202+P202+Q202+R202 -> 90979916 | F22: =G202+H202+I202+J202+K202 -> 42259400 | G22: =L202+N202 -> 7389680000 | H22: =O202+P202+Q202+R202 -> 2004218.7 | I22: =T202 -> -25490762
A23: TOTAL kg CO2e/m2 GIA | C23: =C22/$C$6 -> 953.4099 | D23: =D22/$C$6 -> 903.08113 | E23: =E22/$C$6 -> 1856.2026 | F23: =F22/$C$6 -> 862.19039 | G23: =G22/$C$6 -> 150766.72 | H23: =H22/$C$6 -> 40.89074 | I23: =I22/$C$6 -> -520.07104
A24: Please select most appropriate benchmark from drop-down menu | C24: Offices
A25: WLC Benchmark | C25: =VLOOKUP($C$24,'WLC benchmarks'!$B$10:$E$13,2, TRUE) -> <950 | D25: =VLOOKUP($C$24,'WLC benchmarks'!$B$10:$E$13,3, TRUE) -> <450 | E25: =VLOOKUP($C$24,'WLC benchmarks'!$B$10:$E$13,4, TRUE) -> <1400
A26: Aspirational WLC Benchmark | C26: =VLOOKUP($C$24,'WLC benchmarks'!$B$16:$E$19,2, TRUE) -> <600 | D26: =VLOOKUP($C$24,'WLC benchmarks'!$B$16:$E$19,3, TRUE) -> <370 | E26: =VLOOKUP($C$24,'WLC benchmarks'!$B$16:$E$19,4, TRUE) -> <970
A27: Comparison with WLC benchmarks (see Appendix 2 of the guidance) | C27: There are currently no WLC benchmarks specifically established for data centres within the GLA guidance or other recognised industry frameworks. As a result, it was not possible to undertake a direct comparison against the GLA WLC baseline or aspirational benchmarks. The absence of sector-specific benchmarks is primarily due to the unique operational and material characteristics of data centres, which differ significantly from other building typologies typically included in published WLC datasets
A29: Retention of existing buildings and structures
A30: Confirmation that options for retaining existing buildings and structures have been fully explored before considering substantial demolition | C30: Majority of what is currently on site is retained and a new extention is proposed.
A31: Carbon emissions associated with pre-construction demolition (kgCO2e) | C31: 866000
A32: Estimate of the percentage of the new build development which will be made up of existing elements | C32: 0% ; as a little demolition is anticipated.
A34: Summary of key actions to reduce whole life-cycle carbon emissions that have informed this assessment, including the WLC reductions | C34: Actions included in WLC assessment results reported | F34: WLC reduction (kg CO2e/m2 GIA)
C35: Inclusion of replacement aggregate and recycle content in steel and concrete mixes | F35: 50
C36: Air source Heat Pumps / VRF providing low carbon heating to the office areas | F36: 375.5
C37: Solar photovoltaic Panels generating zero carbon electricity | F37: 375.5
C38: High energy efficient air cooled chillers with free cooling function to reduce the cooling demand reducing the dPUE to ,1.3 | F38: 1063
A40: Specify further opportunities to reduce the development’s whole life-cycle carbon emissions. including the WLC reduction potential | C40: Further potential opportunities | F40: WLC reduction potential (kg CO2e/m2 GIA)
C41: further increase the % of replacement aggregate and recycled content in steel and concrete mixes beyond what's currently in the baseline calculations | F41: 100
C42: Locally sourced material and all electric (zero -emission) transportation | F42: 97
A47: MATERIAL QUANTITY AND END OF LIFE SCENARIOS | C47: Product and Construction Stage (Module A) | E47: Assumptions made with respect to maintenance, repair and replacement cycles (Module B) | F47: Material 'end of life' scenarios (Module C) | H47: Benefits and loads beyond the system boundary (Module D)
A48: Building element category | C48: Material type | D48: Material quantity (kg) | H48: Estimated reusable materials (kg) | I48: Estimated recyclable materials (kg)
A49: Note/example | C49: Breakdown of material type in each category [Insert more lines if needed] e.g. Concrete | D49: 65000 kg | E49: For all primary building systems (structure, substructure, envelope, MEP services, internal finishes) including assumed material/product lifespans and annual maintenance/repair % | F49: Declare 'end of life' scenario as per project’s Circular Economy Statement, and used in the WLC assessment to produce Module C results | H49: 0 kg | I49: 25 kg
C50: e.g. Reinforcement | D50: 5000 kg | H50: 2 kg | I50: 8 kg
C51: e.g. Formwork | D51: 250 kg | H51: 0 kg | I51: 0 kg
A52: 0.1 | B52: Demolition: Toxic/Hazardous/Contaminated Material Treatment | J52: Please add rows where more than 1 material type exists per building element category
A53: 0.2 | B53: Major Demolition Works
A54: 0.3 | B54: Temporary Support to Adjacent Structures
A55: 0.4 | B55: Specialist Ground Works
A56: 1 | B56: Substructure | C56: Ready-mix concrete - pile caps | D56: 1744111.2 | E56: 60 | F56: Cast in situ concrete (BAU) | H56: =D56*0.05 -> 87205.562 | I56: =D56*0.9 -> 1569700.1
C57: Precast reinforced concrete pile | D57: 13964224 | E57: 60 | F57: Precast concrete recycling (BAU) | H57: =D57*0.05 -> 698211.19 | I57: =D57*0.9 -> 12567802
C58: Aggregate - crushed gravel | D58: 1211408 | E58: 60 | F58: Soil waste treatment (BAU) | H58: =D58*0.05 -> 60570.4 | I58: =D58*0.9 -> 1090267.2
C59: Precast ground beam | D59: 366024 | E59: 60 | F59: Precast concrete recycling (BAU) | H59: =D59*0.05 -> 18301.2 | I59: =D59*0.9 -> 329421.6
C60: Reinforced concrete - foundation slab | D60: 2830600.5 | E60: 60 | F60: Cast in situ concrete (BAU) | H60: =D60*0.05 -> 141530.02 | I60: =D60*0.9 -> 2547540.5
A62: 2.1 | B62: Superstructure: Frame | C62: Steel sheets | D62: 267551.22 | E62: 60 | F62: Structural steel recycling (BAU) | H62: =D62*0.05 -> 13377.561 | I62: =D62*0.9 -> 240796.1
C63: Steel frame | D63: 4547878.5 | E63: 60 | F63: Structural steel recycling (BAU) | H63: =D63*0.05 -> 227393.93 | I63: =D63*0.9 -> 4093090.6
C64: Precast concrete beam | D64: 208464 | E64: 60 | F64: Precast concrete recycling (BAU) | H64: =D64*0.05 -> 10423.2 | I64: =D64*0.9 -> 187617.6
C65: Intumescent Paint | D65: 89908.16 | E65: 5 | F65: Incineration of paint | H65: =D65*0.05 -> 4495.408 | I65: =D65*0.9 -> 80917.344
C66: Structural steel sections | D66: 1571246.9 | E66: 60 | F66: Structural steel recycling (BAU) | H66: =D66*0.05 -> 78562.345 | I66: =D66*0.9 -> 1414122.2
C67: Steel hollow frame | D67: 620.5 | E67: 20 | F67: Metal product recycling (BAU) | H67: =D67*0.05 -> 31.025 | I67: =D67*0.9 -> 558.45
C68: Concrete formwork | D68: 511371.59 | E68: 60 | F68: Precast concrete recycling (BAU) | H68: =D68*0.05 -> 25568.58 | I68: =D68*0.9 -> 460234.43
C69: Reinforced concrete walls | D69: 1088371 | E69: 60 | F69: Precast concrete recycling (BAU) | H69: =D69*0.05 -> 54418.55 | I69: =D69*0.9 -> 979533.9
A71: 2.2 | B71: Superstructure: Upper Floors | C71: Screed Mortar | D71: 2298974.4 | E71: 30 | F71: Cast in situ concrete (BAU) | H71: =D71*0.05 -> 114948.72 | I71: =D71*0.9 -> 2069077
C72: Vapour barrier membrane | D72: 3642.4 | E72: 50 | F72: Plastics incineration (BAU) | H72: =D72*0.05 -> 182.12 | I72: =D72*0.9 -> 3278.16
C73: Stone wool insulation | D73: 30369.16 | E73: 60 | F73: Mineral insulation treatment (BAU) | H73: =D73*0.05 -> 1518.458 | I73: =D73*0.9 -> 27332.244
C74: Ready-mix concrete | D74: 6850584.7 | E74: 60 | F74: Cast in situ concrete (BAU) | H74: =D74*0.05 -> 342529.24 | I74: =D74*0.9 -> 6165526.3
C75: Steel (rebar) | D75: 136590.3 | E75: 60 | F75: Steel rebar recycling (BAU) | H75: =D75*0.05 -> 6829.515 | I75: =D75*0.9 -> 122931.27
C76: Precast concrete beam | D76: 113102.85 | E76: 60 | F76: Cast in situ concrete (BAU) | H76: =D76*0.05 -> 5655.1425 | I76: =D76*0.9 -> 101792.57
C77: Hollow core concrete slabs | D77: 2600982.3 | E77: 60 | F77: Precast concrete recycling (BAU) | H77: =D77*0.05 -> 130049.11 | I77: =D77*0.9 -> 2340884.1
C78: Steel decking | D78: 65705.15 | E78: 60 | F78: Galvanized steel recycling (BAU) | H78: =D78*0.05 -> 3285.2575 | I78: =D78*0.9 -> 59134.635
A80: 2.3 | B80: Superstructure: Roof | C80: Screed Mortar | D80: 1928545.2 | E80: 30 | F80: Cast in situ concrete (BAU) | H80: =D80*0.05 -> 96427.26 | I80: =D80*0.9 -> 1735690.7
C81: Vapour barrier membrane | D81: 3055.52 | E81: 50 | F81: Plastics incineration (BAU) | H81: =D81*0.05 -> 152.776 | I81: =D81*0.9 -> 2749.968
C82: Stone wool insulation | D82: 25475.84 | E82: 60 | F82: Mineral insulation treatment (BAU) | H82: =D82*0.05 -> 1273.792 | I82: =D82*0.9 -> 22928.256
C83: Ready-mix concrete | D83: 5746760.2 | E83: 60 | F83: Cast in situ concrete (BAU) | H83: =D83*0.05 -> 287338.01 | I83: =D83*0.9 -> 5172084.2
C84: Steel (rebar) | D84: 114581.77 | E84: 60 | F84: Steel rebar recycling (BAU) | H84: =D84*0.05 -> 5729.0885 | I84: =D84*0.9 -> 103123.59
C85: Steel sheets | D85: 224441.8 | E85: 60 | F85: Structural steel recycling (BAU) | H85: =D85*0.05 -> 11222.09 | I85: =D85*0.9 -> 201997.62
C86: Reinforced concrete slab | D86: 463600.1 | E86: 60 | F86: Precast concrete recycling (BAU) | H86: =D86*0.05 -> 23180.005 | I86: =D86*0.9 -> 417240.09
A88: 2.4 | B88: Superstructure: Stairs and Ramps | C88: Steel stairs | D88: 1375.62 | E88: 60 | F88: Galvanized steel recycling (BAU) | H88: =D88*0.05 -> 68.781 | I88: =D88*0.9 -> 1238.058
C89: Concrete stairs | D89: 19846.5 | E89: 60 | F89: Precast concrete recycling (BAU) | H89: =D89*0.05 -> 992.325 | I89: =D89*0.9 -> 17861.85
A91: 2.5 | B91: Superstructure: External Walls | C91: Aluminum facade cladding panel | D91: 56729.18 | E91: 60 | F91: Aluminium recycling (BAU) | H91: =D91*0.05 -> 2836.459 | I91: =D91*0.9 -> 51056.262
C92: Aluminum louvres | D92: 378.75 | E92: 60 | F92: Aluminium recycling (BAU) | H92: =D92*0.05 -> 18.9375 | I92: =D92*0.9 -> 340.875
A94: 2.6 | B94: Superstructure: Windows and External Doors | C94: Steel door | D94: 3108 | E94: 20 | F94: Metal product recycling (BAU) | H94: =D94*0.05 -> 155.4 | I94: =D94*0.9 -> 2797.2
C95: Overhead sectional door | D95: 405 | E95: 20 | F95: Metal product recycling (BAU) | H95: =D95*0.05 -> 20.25 | I95: =D95*0.9 -> 364.5
A97: 2.7 | B97: Superstructure: Internal Walls and Partitions | C97: Double-glazed partition system | D97: 22559.2 | E97: 30 | F97: Aluminium framed glass recycling (BAU) | H97: =D97*0.05 -> 1127.96 | I97: =D97*0.9 -> 20303.28
C98: Gypsum pasterboard | D98: 511182.88 | E98: 30 | F98: Plasterboard waste (BAU) | H98: =D98*0.05 -> 25559.144 | I98: =D98*0.9 -> 460064.59
C99: Ready-mix concrete | D99: 2504673.7 | E99: 60 | F99: Cast in situ concrete (BAU) | H99: =D99*0.05 -> 125233.68 | I99: =D99*0.9 -> 2254206.3
C100: Steel (rebar) | D100: 89227.67 | E100: 60 | F100: Steel rebar recycling (BAU) | H100: =D100*0.05 -> 4461.3835 | I100: =D100*0.9 -> 80304.903
C101: Micro-concrete | D101: 11090.56 | E101: 30 | F101: Cement/mortar use in a backfill | H101: =D101*0.05 -> 554.528 | I101: =D101*0.9 -> 9981.504
C102: Steel | D102: 1278.05 | E102: 60 | F102: Structural steel recycling (BAU) | H102: =D102*0.05 -> 63.9025 | I102: =D102*0.9 -> 1150.245
C103: FR Partition wall | D103: 1866283.7 | E103: 30 | F103: Plasterboard waste (BAU) | H103: =D103*0.05 -> 93314.187 | I103: =D103*0.9 -> 1679655.4
C104: Office cubicle - separation wall | D104: 3640 | E104: 10 | F104: Treated/coated solid timber waste (BAU) | H104: =D104*0.05 -> 182 | I104: =D104*0.9 -> 3276
A106: 2.8 | B106: Superstructure: Internal Doors | C106: Steel door | D106: 22200 | E106: 20 | F106: Metal product recycling (BAU) | H106: =D106*0.05 -> 1110 | I106: =D106*0.9 -> 19980
C107: MDF doorset | D107: 10032 | E107: 20 | F107: Treated/coated solid timber waste (BAU) | H107: =D107*0.05 -> 501.6 | I107: =D107*0.9 -> 9028.8
C108: Revolving door | D108: 1823.6 | E108: 20 | F108: Glass recycling (BAU) | H108: =D108*0.05 -> 91.18 | I108: =D108*0.9 -> 1641.24
A110: 3 | B110: Finishes | C110: Indoor paint | D110: 2948.81 | E110: 5 | F110: Incineration of paint | H110: =D110*0.05 -> 147.4405 | I110: =D110*0.9 -> 2653.929
C111: Sealing coatings - façade | D111: 43536.32 | E111: 5 | F111: Incineration of paint | H111: =D111*0.05 -> 2176.816 | I111: =D111*0.9 -> 39182.688
C112: Steel sheets | D112: 17943.79 | E112: 60 | F112: Galvanized steel recycling (BAU) | H112: =D112*0.05 -> 897.1895 | I112: =D112*0.9 -> 16149.411
C113: Epoxy sealer - floor | D113: 17037.17 | E113: 5 | F113: Incineration of paint | H113: =D113*0.05 -> 851.8585 | I113: =D113*0.9 -> 15333.453
C114: Vinyl flooring | D114: 3765.54 | E114: 7 | F114: Plastics incineration (BAU) | H114: =D114*0.05 -> 188.277 | I114: =D114*0.9 -> 3388.986
C115: Reactive glue | D115: 158.79 | E115: 10 | F115: Landfilling (for inert materials) | H115: =D115*0.05 -> 7.9395 | I115: =D115*0.9 -> 142.911
C116: Carpet flooring | D116: 10280.59 | E116: 7 | F116: Plastics incineration (BAU) | H116: =D116*0.05 -> 514.0295 | I116: =D116*0.9 -> 9252.531
C117: Suspended ceiling system | D117: 139046.79 | E117: 25 | F117: Galvanized steel recycling (BAU) | H117: =D117*0.05 -> 6952.3395 | I117: =D117*0.9 -> 125142.11
A119: 4 | B119: Fittings, furnishings & equipment (FFE) | C119: N/A
A120: 5 | B120: Services (MEP) | C120: PVC pipe | D120: 1930352.9 | E120: 15 | F120: Pipes recycling (BAU) | H120: =D120*0.05 -> 96517.643 | I120: =D120*0.9 -> 1737317.6
...

Sheet Post-construction result
A1: Project details
A2: Project name | C2: =IF('Outline planning stage'!C2="","",'Outline planning stage'!C2) -> PLON01 | H2: Key
A3: Planning application reference number (if applicable) | I3: Data automatically calculated - no direct input required
A4: Use Class | I4: Cells that require information / data inputting
A5: Brief description of the project | I5: N/A
A6: GIA (m2) | C6: =IF('Outline planning stage'!C6="","",'Outline planning stage'!C6) -> 49014
A8: Assessment details
A9: Authors (organisation or individuals) | C9: =IF('Outline planning stage'!C9="","",'Outline planning stage'!C9)
A10: Date of assessment | C10: =IF('Outline planning stage'!C10="","",'Outline planning stage'!C10)
B11: Operational modelling methodology for Module B6 results | C11: e.g. SAP or TM54
A12: Reference study period (if not 60 years) | C12: [This cell should only be filled in if the reference study period, i.e. the assumed building life expectancy, exceeds or is less than 60 years. Applicants should state the reference study period in this cell. While the assessment should still be done to 60 years, applicants may, if they choose to, submit an additional assessment of the modules B, C and D for the actual reference study period by copying and pasting an additional 'GWP potential for all life-cycle modules' table, see below].
A13: Software tool used | C13: One Click LCA
A14: Type of EPDs and carbon database used | C14: [If using more than one database please list all]
A15: Please confirm if 95% of the cost allocated to each building element category has been accounted for in the assessment? | C15: [Yes / No]
A16: Explanation of mechanisms which have been adopted to quality assure the submission
A17: Please confirm whether you have submitted this assessment to the Built Environment Carbon Database (https://www.becd.co.uk/) or if you give permission for the GLA to do this on your behalf by checking one of the following boxes | C17: I have submitted this assessment to the BECD
C18: I give permission for the GLA to submit this assessment to the BECD on my behalf
A20: List of product specific EPDs for products that have been installed | C20: Product | F20: EPD reference number
C21: [Please add rows if needed]
A25: Please confirm the following post-construction evidence has been submitted with this WLC assessment
A26: Site energy (including fuel) use record | C26: [Yes / No]
A27: Contractor confirmation of as-built quantities and specifications | C27: [Yes / No]
A28: Record of material delivery including distance travelled and transportation mode | C28: [Yes / No]
A29: Waste transportation record include waste quantity, distance travelled and transportation mode | C29: [Yes / No]
A32: WLC emissions baseline (automatically populated from the 'detailed planning stage' tab)
C33: Module A1-A5 (excluding sequestered carbon) | D33: Modules B-C (excl B6 & B7) | E33: Modules A-C (excl B6-B7; including sequestered carbon) | F33: Module B1-B5 | G33: Module B6-B7 | H33: Module C1-C4 | I33: Module D
A34: TOTAL kg CO2e | C34: ='Detailed planning stage'!C22 -> 46730433 | D34: ='Detailed planning stage'!D22 -> 44263619 | E34: ='Detailed planning stage'!E22 -> 90979916 | F34: ='Detailed planning stage'!F22 -> 42259400 | G34: ='Detailed planning stage'!G22 -> 7389680000 | H34: ='Detailed planning stage'!H22 -> 2004218.7 | I34: ='Detailed planning stage'!I22 -> -25490762
A35: TOTAL kg CO2e/m2 GIA | C35: ='Detailed planning stage'!C23 -> 953.4099 | D35: ='Detailed planning stage'!D23 -> 903.08113 | E35: ='Detailed planning stage'!E23 -> 1856.2026 | F35: ='Detailed planning stage'!F23 -> 862.19039 | G35: ='Detailed planning stage'!G23 -> 150766.72 | H35: ='Detailed planning stage'!H23 -> 40.89074 | I35: ='Detailed planning stage'!I23 -> -520.07104
A38: Post-construction WLC emissions
C39: Module A1-A5 | D39: Modules B-C (excl B6 & B7) | E39: Modules A-C (excl B6-B7; including sequestered carbon) | F39: Module B1-B5 | G39: Module B6-B7 | H39: Module C1-C4 | I39: Module D
A40: TOTAL kg CO2e | C40: =D121+E121+F121 -> 46730433 | D40: =G121+H121+I121+J121+K121+O121+P121+Q121+R121 -> 44263619 | E40: =C121+D121+E121+F121+G121+H121+I121+J121+K121+O121+P121+Q121+R121 -> 90979916 | F40: =G121+H121+I121+J121+K121 -> 42259400 | G40: =L121+N121 -> #VALUE! | H40: =O121+P121+Q121+R121 -> 2004218.7 | I40: =T121 -> 0
A41: TOTAL kg CO2e/m2 GIA | C41: =C40/$C$6 -> 953.4099 | D41: =D40/$C$6 -> 903.08113 | E41: =E40/$C$6 -> 1856.2026 | F41: =F40/$C$6 -> 862.19039 | G41: =G40/$C$6 -> #VALUE! | H41: =H40/$C$6 -> 40.89074 | I41: =I40/$C$6 -> 0
A42: Please select most appropriate benchmark from drop-down menu
A43: WLC Benchmark | C43: =VLOOKUP($C$42,'WLC benchmarks'!$B$10:$E$13,2, TRUE) -> #N/A | D43: =VLOOKUP($C$42,'WLC benchmarks'!$B$10:$E$13,3, TRUE) -> #N/A | E43: =VLOOKUP($C$42,'WLC benchmarks'!$B$10:$E$13,4, TRUE) -> #N/A
A44: Aspirational WLC Benchmark | C44: =VLOOKUP($C$42,'WLC benchmarks'!$B$16:$E$19,2, TRUE) -> #N/A | D44: =VLOOKUP($C$42,'WLC benchmarks'!$B$16:$E$19,3, TRUE) -> #N/A | E44: =VLOOKUP($C$42,'WLC benchmarks'!$B$16:$E$19,4, TRUE) -> #N/A
A45: Commentary comparing the post-construction results against the WLC emissions baseline above | C45: [Explain the reasons for any divergences from the results against the WLC emissions baseline above]
A46: Commentary comparing the post-construction results against the WLC benchmarks (see Appendix 2) | C46: [Explain the reasons for any divergences from WLC benchmarks, including against the WLC aspirational benchmarks]
A48: Retention of existing buildings and structures
A49: Confirmation of which options for retaining existing buildings and structures that were under exploration at planning stages have been implemented
A50: Actual carbon emissions associated with pre-construction demolition (kgCO2e)
A51: Estimate of the percentage of the new build development which is made up of existing elements | C51: [e.g. X% existing facades; Y% existing foundations; Z% superstructures etc.]
A53: Summary of key actions undertaken to reduce whole life-cycle carbon emissions, including the reductions achieved | C53: Action undertaken | F53: WLC reduction achieved (kg CO2e/m2 GIA)
C54: [This list does not need to be exhaustive but should identify the actions with the biggest impacts. Insert more lines if needed]
A58: Lessons learnt from the process of undertaking a WLC assessment that will inform future projects | C58: i.e. Design options or materials that could be used, design principles that could be applied.
C59: [Insert more lines if needed]
A63: MATERIAL QUANTITY AND END OF LIFE SCENARIOS | C63: Product and Construction Stage (Module A) | E63: Assumptions made with respect to maintenance, repair and replacement cycles (Module B) | F63: Material 'end of life' scenarios (Module C) | H63: Benefits and loads beyond the system boundary (Module D)
A64: Building element category | C64: Material type | D64: Material quantity (kg) | H64: Estimated reusable materials (kg) | I64: Estimated recyclable materials (kg)
A65: Note/example | C65: Breakdown of material type in each category [Insert more lines if needed] e.g. Concrete | D65: 65000 kg | E65: For all primary building systems (structure, substructure, envelope, MEP services, internal finishes) including assumed material/product lifespans and annual maintenance/repair % | F65: Declare 'end of life' scenario as per project’s Circular Economy Statement, and used in the WLC assessment to produce Module C results | H65: 0 kg | I65: 25 kg
C66: e.g. Reinforcement | D66: 5000 kg | H66: 2 kg | I66: 8 kg
C67: e.g. Formwork | D67: 250 kg | H67: 0 kg | I67: 0 kg
A68: 0.1 | B68: Demolition: Toxic/Hazardous/Contaminated Material Treatment | J68: Please add rows where more than 1 material type exists per building element category
A69: 0.2 | B69: Major Demolition Works
A70: 0.3 | B70: Temporary Support to Adjacent Structures
A71: 0.4 | B71: Specialist Ground Works
A72: 1 | B72: Substructure
A73: 2.1 | B73: Superstructure: Frame
A74: 2.2 | B74: Superstructure: Upper Floors
A75: 2.3 | B75: Superstructure: Roof
A76: 2.4 | B76: Superstructure: Stairs and Ramps
A77: 2.5 | B77: Superstructure: External Walls
A78: 2.6 | B78: Superstructure: Windows and External Doors
A79: 2.7 | B79: Superstructure: Internal Walls and Partitions
A80: 2.8 | B80: Superstructure: Internal Doors
... A86: 8 | B86: External works
A88: Refrigerants | C88: Refrigerant name | D88: Initial Charge(kg) | E88: Annual leakage rate % | F88: Refrigerant GWP (kgCO2e/kg) | G88: End of Life recovery rate %
A89: a | B89: Refrigerants Type 1 (if applicable) - please see CIBSE TM65 for methodology | J89: Please add rows if required
A90: b | B90: Refrigerants Type 2 (if applicable) - please see CIBSE TM65 for methodology
A91: c | B91: Refrigerants Type 3 (if applicable) - please see CIBSE TM65 for methodology
C92: TOTAL | D92: =SUM(D68:D87)+SUM(D89:D91) -> 0 | H92: =SUM(H68:H87) -> 0 | I92: =SUM(I68:I87) -> 0
C93: Material intensity (kg/m2 GIA) | D93: =D92/$C$6 -> 0 | H93: =H92/$C$6 -> 0 | I93: =I92/$C$6 -> 0
A96: GWP POTENTIAL FOR ALL LIFE-CYCLE MODULES (kgCO2e) (See Note 1 below if you entered a reference study period in cell C12) | C96: Sequestered (or biogenic) carbon (negative value) (kgCO2e) | D96: Product stage (kgCO2e) | E96: Construction process stage (kgCO2e) | G96: Use stage (kgCO2e) | O96: End of Life (EoL) stage (kgCO2e) | S96: TOTAL Modules A-C kgCO2e | T96: Benefits and loads beyond the system boundary (kgCO2e)
D98: Module A | G98: Module B | O98: Module C | T98: Module D
A99: Building element category | D99: [A1] to [A3] | E99: [A4] | F99: [A5] | G99: [B1] | H99: [B2] | I99: [B3] | J99: [B4] | K99: [B5] | L99: [B6] | N99: [B7] | O99: [C1] | P99: [C2] | Q99: [C3] | R99: [C4]
A100: 0.1 | B100: Demolition: Toxic/Hazardous/Contaminated Material Treatment | S100: =SUM(C100:R100) -> 0
A101: 0.2 | B101: Major Demolition Works | O101: 866000 | S101: =SUM(C101:R101) -> 866000
A102: 0.3 | B102: Temporary Support to Adjacent Structures | S102: =SUM(C102:R102) -> 0
A103: 0.4 | B103: Specialist Ground Works | S103: =SUM(C103:R103) -> 0
A104: 0.5 | B104: Temporary Diversion Works | S104: =SUM(C104:R104) -> 0
A105: 1 | B105: Substructure | C105: 0 | D105: 3240000 | E105: 964000 | F105: 64000 | I105: 0 | P105: 287000 | Q105: 9000 | R105: 606 | S105: =SUM(C105:R105) -> 4564606
A106: 2.1 | B106: Superstructure: Frame | C106: 0 | D106: 12400000 | E106: 1660000 | F106: 153000 | I106: 0 | J106: 2460000 | K106: 0 | P106: 120000 | Q106: 23100 | R106: 55.3 | S106: =SUM(C106:R106) -> 16816155
A107: 2.2 | B107: Superstructure: Upper Floors | C107: 0 | D107: 1990000 | E107: 312000 | F107: 109000 | I107: 0 | J107: 390000 | K107: 0 | P107: 169000 | Q107: 11100 | R107: 385 | S107: =SUM(C107:R107) -> 2981485
A108: 2.3 | B108: Superstructure: Roof | C108: 0 | D108: 1530000 | E108: 189000 | F108: 88200 | I108: 0 | J108: 327000 | K108: 0 | P108: 118000 | Q108: 9030 | R108: 267 | S108: =SUM(C108:R108) -> 2261497
A109: 2.4 | B109: Superstructure: Stairs and Ramps | C109: 0 | D109: 6260 | E109: 1690 | F109: 82.7 | I109: 0 | P109: 307 | Q109: 9.31 | R109: 0.61 | S109: =SUM(C109:R109) -> 8349.62
A110: 2.5 | B110: Superstructure: External Walls | C110: 0 | D110: 223000 | E110: 13600 | F110: 2380 | I110: 0 | P110: 827 | Q110: 113 | R110: 0.286 | S110: =SUM(C110:R110) -> 239920.29
A111: 2.6 | B111: Superstructure: Windows and External Doors | C111: 0 | D111: 12000 | E111: 1120 | F111: 0 | I111: 0 | J111: 26400 | K111: 0 | P111: 51.4 | Q111: 6.61 | R111: 0.434 | S111: =SUM(C111:R111) -> 39578.444
A112: 2.7 | B112: Superstructure: Internal Walls and Partitions | C112: -635 | D112: 1270000 | E112: 681000 | F112: 33600 | I112: 0 | J112: 1720000 | K112: 0 | P112: 71100 | Q112: 1990 | R112: 141000 | S112: =SUM(C112:R112) -> 3918055
A113: 2.8 | B113: Superstructure: Internal Doors | C113: -13500 | D113: 107000 | E113: 10900 | F113: 0 | I113: 0 | J113: 238000 | K113: 0 | P113: 498 | Q113: 13600 | R113: 102 | S113: =SUM(C113:R113) -> 356600
A114: 3 | B114: Finishes | C114: 0 | D114: 587000 | E114: 73000 | F114: 18900 | I114: 0 | J114: 3240000 | K114: 0 | P114: 3350 | Q114: 34600 | R114: 0.782 | S114: =SUM(C114:R114) -> 3956850.8
A115: 4 | B115: Fittings, furnishings & equipment | S115: =SUM(C115:R115) -> 0
A116: 5 | B116: Services (MEP) | C116: 0 | D116: 12400000 | E116: 767000 | F116: 538000 | G116: 3910000 | I116: 0 | J116: 29400000 | K116: 0 | L116: 9680000 | M116: 7380000000 | N116: Operational Water | P116: 47300 | Q116: 5570 | R116: 134 | S116: =SUM(C116:R116) -> 7436748004
A117: 6 | B117: Prefabricated Buildings and Building Units | S117: =SUM(C117:R117) -> 0
A118: 7 | B118: Work to Existing Building | S118: =SUM(C118:R118) -> 0
A119: 8 | B119: External works | C119: 0 | D119: 682000 | E119: 104000 | F119: 38700 | I119: 0 | J119: 548000 | K119: 0 | P119: 65800 | Q119: 4180 | R119: 135 | S119: =SUM(C119:R119) -> 1442815
A120: Other site construction impacts or overall construction stage [A5] carbon emissions not specific to an individual building element category | F120: 6460000 | S120: =F120 -> 6460000
A121: TOTAL kg CO2e | C121: =SUM(C102:C119) -> -14135 | D121: =SUM(D102:D119) -> 34447260 | E121: =SUM(E102:E119) -> 4777310 | F121: =SUM(F102:F120) -> 7505862.7 | G121: =SUM(G102:G119) -> 3910000 | H121: =SUM(H102:H119) -> 0 | I121: =SUM(I102:I119) -> 0 | J121: =SUM(J102:J119) -> 38349400 | K121: =SUM(K102:K119) -> 0 | L121: =L116+M116 -> 7389680000 | N121: =N116 -> Operational Water | O121: =SUM(O100:O119) -> 866000 | P121: =SUM(P100:P119) -> 883233.4 | Q121: =SUM(Q100:Q119) -> 112298.92 | R121: =SUM(R100:R119) -> 142686.41 | S121: =SUM(S100:S120) -> 7.4806599e+09 | T121: =SUM(T100:T119) -> 0
A122: TOTAL - kg CO2e/m2 GIA | C122: =C121/$C$6 -> -0.28838699 | D122: =D121/$C$6 -> 702.8045 | E122: =E121/$C$6 -> 97.468274 | F122: =F121/$C$6 -> 153.13712 | G122: =G121/$C$6 -> 79.773126 | H122: =H121/$C$6 -> 0 | I122: =I121/$C$6 -> 0 | J122: =J121/$C$6 -> 782.41727 | ... L122: =L121/$C$6 -> 150766.72 | N122: =N121/$C$6 -> #VALUE! | O122: =O121/$C$6 -> 17.668421 | P122: =P121/$C$6 -> 18.020023 | Q122: =Q121/$C$6 -> 2.2911601 | R122: =R121/$C$6 -> 2.9111358 | S122: =S121/$C$6 -> 152622.92 | T122: =T121/$C$6 -> 0
A123: Notes:
A124: 1 If you have entered a reference study period in cell C12 because the assumed building life expectancy is greater or less than 60 years, then you will need to fill in this table using a 60 year building life expectancy. If you choose to, you may create a second table below and complete it using the actual assumed life expectancy. This should be clearly labelled.

Sheet WLC benchmarks
B2: Available benchmarks
B3: Offices
B4: Residential
B5: Schools, Universities etc.
B6: Retail
B9: WLC benchmark | C9: A1-A5 | D9: B-C (excl B6 & B7) | E9: A-C (excl B6 & B7)
B10: Offices | C10: <950 | D10: <450 | E10: <1400
B11: Residential | C11: <850 | D11: <350 | E11: <1200
B12: Schools, Universities etc. | C12: <750 | D12: <250 | E12: <1000
B13: Retail | C13: <850 | D13: <200 | E13: <1050
B15: Aspirational WLC benchmark | C15: A1-A5 | D15: B-C (excl B6 & B7) | E15: A-C (excl B6 & B7)
B16: Offices | C16: <600 | D16: <370 | E16: <970
B17: Residential | C17: <500 | D17: <300 | E17: <800
B18: Schools, Universities etc. | C18: <500 | D18: <175 | E18: <675
B19: Retail | C19: <550 | D19: <140 | E19: <690
