Workbook
Name _Hlk30849479: 'Detailed planning stage'!#REF!
Name _Hlk30849479: 'Outline planning stage'!#REF!
Name _Hlk30849479: 'Post-construction result'!#REF!
Name _Hlk30849479: 'Pre-app information'!#REF!

Sheet Updates
B3: The draft consultation version of the template has been updated as follows:
B5: Template tab | C5: Details
B6: Pre-app information | C6: Principle 1 expanded to require further details on pre-construction demolition and options explored for retaining existing buildings/structures.
C7: Removal of Y/N option next to each WLC reduction principle.
B8: Outline and Detailed planning Stage & Post-construction result | C8: Confirmation of operational modelling process used
C9: Confirmation relating to proportion of material quantities included relating to cost
C10: Confirmation of third party mechanisms
C11: Confirmation that the assessment has or can be submitted to the Built Environment Carbon Database
C12: Updated assessment summary results to align with new WLC benchmarks
C13: Addition of selection of most comparable WLC benchmark selection
C14: Addition of details relating to retention of existing structures and buildings
C15: Updated note/example text for module B assumptions and end of life scenarios in the 'Material Quantity and End of Life Scenarios' table
C16: Addition of details relating to refrigerants to 'Material Quantity and End of Life Scenarios' table
C17: Addition of option in assessment table to report A5 emissions as a single number or A5 emissions not related to a building element category
C18: Removal of assessment 2
C19: Colour coding to reflect cells that require inputs and cells which are updated automatically
B20: Post-construction result | C20: Addition of confirmation relating to post-construction evidence submission
C21: Addition of list of product specific EPDs from products installed in the building

Sheet Introduction
A1: Greater London Authority - Whole Life-Cycle Carbon (WLC) Assessment template
A3: HOW TO USE THIS SPREADSHEET
A5: This template should be used by planning applicants to fulfil the requirements of the Mayor's Whole Life-Cycle Carbon (WLC) Assessment policy set out in London Plan Policy SI 2. Before completing and submitting this spreadsheet to the GLA, applicants should read the Whole Life-Cycle Carbon Assessment guidance:
A8: https://www.london.gov.uk/what-we-do/planning/implementing-london-plan/london-plan-guidance/whole-life-cycle-carbon-assessments-guidance
A9: Applicants are required to submit a WLC assessment to the GLA at the following three stages: pre-application, outline/detailed planning submission and post-construction. Separate tabs are provided in this spreadsheet for each stage. An outline of the information required at each stage and how to submit it is provided below.
A11: 1. Pre-application stage
A12: At pre-application stage, applicants are required to complete the pre-application information tab of this template to confirm various details about the site and to provide details of the WLC principles which are informing the development of the site. This should be submitted to the GLA along with all other pre-application material.
A14: 2. Outline/detailed planning submission stage
A15: At this stage, applicants are required to complete the outline or detailed planning stage tab of this template (whichever is relevant) and submit it to the GLA along with their planning application. This stage of the process requires a baseline WLC assessment against each life-cycle module to be undertaken.
A17: 3. Post-construction stage
A18: At the final stage of the WLC assessment process, applicants should complete the post-construction result tab of this template and submit it to the GLA prior to occupation of the development. This will require an update of the information provided at planning submission stage and for the actual WLC carbon emission figures to be reported using actual material quantities and site emissions during construction. Information should be submitted to:
A21: ZeroCarbonPlanning@london.gov.uk
... A26: ZeroCarbonPlanning@london.gov.uk

Sheet Pre-app information
A1: Project details
A2: Project name
A3: Planning application reference number (if applicable)
A4: Use Type
A5: Brief description of the project
A6: GIA (m2)
A7: Authors (organisation or individuals)
A8: Date of assessment
A10: WLC reduction principles | B10: Principle | C10: Key benefits | E10: Provide examples of how reduction principle has been used, or give reasons why it cannot be used.
A11: 1 | B11: Reuse and retrofit of existing buildings | C11: Significant retention and reuse of structures is carbon efficient and reduces construction costs. | E11: Confirmation that options for retaining existing buildings and structures have been fully explored before considering substantial demolition | F11: [Outline the options that have been considered - plus an explanation of opportunities and limitations, and why demolition outweighs the benefits of retaining existing buildings/structures where applicable]
E12: Carbon emissions associated with pre-construction demolition (kgCO2e) | F12: [If estimates are not possible, please apply standard assumption of 50kgCO2e/m2 of the existing building/s]
E13: Estimate of the percentage of the new build development which will be made up of existing elements | F13: [e.g. X% existing facades; Y% existing foundations; Z% superstructures etc.]
A14: 2 | B14: Use repurposed or recycled materials | C14: Reduces waste and carbon emissions.
A15: 3 | B15: Material selection | C15: Appropriate material choices are key to carbon reduction. Ensuring that materials are selected with consideration of the planned life expectancy of the building reduces waste, the need for replacements and the in-use costs.
A16: 4 | B16: Minimise operational energy use | C16: A 'fabric first' approach should be prioritised to minimise energy demand and reduce carbon and in-use costs.
A17: 5 | B17: Minimise the carbon emissions associated with operational water use | C17: Choice of materials and durability of systems, which help to avoid leakage and subsequent building damage, contribute to reducing the carbon emissions of water use.
A18: 6 | B18: Disassembly and reuse | C18: Designing for future disassembly ensures that products do not become future waste and that they maintain their environmental and economic value.
A19: 7 | B19: Building shape and form | C19: Compact efficient shapes help minimise both operational and embodied carbon emissions from repair and replacement for a given floor area. This leads to a more efficient building overall resulting in lower construction and in use costs.
A20: 8 | B20: Regenerative design | C20: Removing carbon emissions from the atmosphere through materials and systems absorbing it makes a direct contribution to carbon reduction.
A21: 9 | B21: Designing for durability and flexibility | C21: Durability means that repair and replacement is reduced which in turn helps reduce life-time building costs. A building designed for flexibility can respond with minimum environmental impact to future changing requirements and a changing climate, thus avoiding obsolescence which also underwrites future building value.
A22: 10 | B22: Optimisation of the relationship between operational and embodied carbon | C22: Optimising the relationship between operational and embodied carbon contributes directly to resource efficiency and overall cost reduction.
A23: 11 | B23: Building life expectancy | C23: Defining building life expectancy gives guidance to project teams as to the most efficient choices for materials and products. This aids overall resource efficiency, including cost efficiency and helps future proof asset value.
A24: 12 | B24: Local sourcing | C24: Sourcing local materials reduces transport distances and supply chain lengths and has associated local social and economic benefits.
A25: 13 | B25: Minimising waste | C25: Waste represents unnecessary and avoidable carbon emissions. Buildings should be designed to minimise construction waste, and to ease repair and replacement with minimum waste, which helps reduce initial and in-use costs.
... A28: 16 | B28: Circular economy | C28: The circular economy principle focusses on a more efficient use of materials which in turn leads to carbon and financial efficiencies.

Sheet Outline planning stage
A1: Project details
A2: Project name | H2: Key
A3: Planning application reference number (if applicable) | I3: Data automatically calculated - no direct input required
A4: Use Class | I4: Cells that require information / data inputting
A5: Brief description of the project | I5: N/A
A6: GIA (m2)
A8: Assessment details
A9: Authors (organisation or individuals)
A10: Date of assessment
B11: Operational modelling methodology for Module B6 results | C11: e.g. SAP or TM54
A12: Reference study period (if not 60 years) | C12: [This cell should only be filled in if the reference study period, i.e. the assumed building life expectancy, exceeds or is less than 60 years. Applicants should state the reference study period in this cell. While the assessment should still be done to 60 years, applicants may, if they choose to, submit an additional assessment of the modules B, C and D for the actual reference study period by copying and pasting an additional 'GWP potential for all life-cycle modules' table, see below].
A13: Software tool used
A14: Type of EPDs and carbon database used | C14: [If using more than one database please list all]
A15: Please confirm if 95% of the cost allocated to each building element category has been accounted for in the assessment? | C15: [Yes, or please explain any omissions]
A16: Explanation of the third-party mechanisms which have been adopted to quality assure this submission
A17: Please confirm whether you have submitted this assessment to the Built Environment Carbon Database (https://www.becd.co.uk/) or if you give permission for the GLA to do this on your behalf by checking one of the following boxes | C17: I have submitted this assessment to the BECD
C18: I give permission for the GLA to submit this assessment to the BECD on my behalf
A20: Estimated WLC emissions N.B. This forms the WLC baseline for the development. The green cells will automatically populate from the tables below
C21: Module A1-A5 (excluding sequestered carbon) | D21: Modules B-C (excl B6 & B7) | E21: Modules A-C (excluding B6-B7; including sequestered carbon) | F21: Module B1-B5 | G21: Module B6-B7 | H21: Module C1-C4 | I21: Module D
A22: TOTAL kg CO2e | C22: =D104+E104+F104 -> 0 | D22: =G104+H104+I104+J104+K104+O104+P104+Q104+R104 -> 0 | E22: =C104+D104+E104+F104+G104+H104+I104+J104+K104+O104+P104+Q104+R104 -> 0 | F22: =G104+H104+I104+J104+K104 -> 0 | G22: =L104+N104 -> #VALUE! | H22: =O104+P104+Q104+R104 -> 0 | I22: =T104 -> 0
A23: TOTAL kg CO2e/m2 GIA | C23: =C22/$C$6 -> #DIV/0! | D23: =D22/$C$6 -> #DIV/0! | E23: =E22/$C$6 -> #DIV/0! | F23: =F22/$C$6 -> #DIV/0! | G23: =G22/$C$6 -> #VALUE! | H23: =H22/$C$6 -> #DIV/0! | I23: =I22/$C$6 -> #DIV/0!
A24: Please select most appropriate benchmark from drop-down menu | C24: Residential
A25: WLC Benchmark | C25: =VLOOKUP($C$24,'WLC benchmarks'!$B$10:$E$13,2, TRUE) -> <850 | D25: =VLOOKUP($C$24,'WLC benchmarks'!$B$10:$E$13,3, TRUE) -> <350 | E25: =VLOOKUP($C$24,'WLC benchmarks'!$B$10:$E$13,4, TRUE) -> <1200
A26: Aspirational WLC Benchmark | C26: =VLOOKUP($C$24,'WLC benchmarks'!$B$16:$E$19,2, TRUE) -> <500 | D26: =VLOOKUP($C$24,'WLC benchmarks'!$B$16:$E$19,3, TRUE) -> <300 | E26: =VLOOKUP($C$24,'WLC benchmarks'!$B$16:$E$19,4, TRUE) -> <800
A27: Comparison with WLC benchmarks (see Appendix 2 of the guidance) | C27: [Explain the reasons for any divergences from WLC benchmarks, including against the WLC aspirational benchmarks]
A29: Retention of existing buildings and structures
A30: Confirmation that options for retaining existing buildings and structures have been fully explored before considering substantial demolition | C30: [Outline the options that have been considered - plus an explanation of opportunities and limitations, and why demolition outweighs the benefits of retaining existing buildings/structures where applicable]
A31: Carbon emissions associated with pre-construction demolition (kgCO2e) | C31: [If estimates are not possible, please apply standard assumption of 50kgCO2e/m2 of the existing building/s]
A32: Estimate of the percentage of the new build development which will be made up of existing elements | C32: [e.g. X% existing facades; Y% existing foundations; Z% superstructures etc.]
A34: Summary of key actions to reduce whole life-cycle carbon emissions that have informed this assessment, including the WLC reductions | C34: Actions included in WLC assessment results reported | F34: WLC reduction (kg CO2e/m2 GIA)
C35: [This list does not need to be exhaustive but should identify the actions with the biggest impacts. Insert more lines if needed]
A40: Specify further opportunities to reduce the development’s whole life-cycle carbon emissions. including the WLC reduction potential | C40: Further potential opportunities | F40: WLC reduction potential (kg CO2e/m2 GIA)
C41: [Insert more lines as needed]
A47: MATERIAL QUANTITY AND END OF LIFE SCENARIOS | C47: Product and Construction Stage (Module A) | E47: Assumptions made with respect to maintenance, repair and replacement cycles (Module B) | F47: Material 'end of life' scenarios (Module C) | H47: Benefits and loads beyond the system boundary (Module D)
A48: Building element category | C48: Material type | D48: Material quantity (kg) | H48: Estimated reusable materials (kg) | I48: Estimated recyclable materials (kg)
A49: Note/example | C49: Breakdown of material type in each category [Insert more lines if needed] e.g. Concrete | D49: 65000 kg | E49: For all primary building systems (structure, substructure, envelope, MEP services, internal finishes) including assumed material/product lifespans and annual maintenance/repair % | F49: Declare 'end of life' scenario as per project’s Circular Economy Statement, and used in the WLC assessment to produce Module C results | H49: 0 kg | I49: 25 kg
C50: e.g. Reinforcement | D50: 5000 kg | H50: 2 kg | I50: 8 kg
C51: e.g. Formwork | D51: 250 kg | H51: 0 kg | I51: 0 kg
A52: 0.1 | B52: Demolition: Toxic/Hazardous/Contaminated Material Treatment | J52: Please add rows where more than 1 material type exists per building element category
A53: 0.2 | B53: Major Demolition Works
A54: 0.3 | B54: Temporary Support to Adjacent Structures
A55: 0.4 | B55: Specialist Ground Works
A56: 1 | B56: Substructure
A57: 2.1 | B57: Superstructure: Frame
A58: 2.2 | B58: Superstructure: Upper Floors
A59: 2.3 | B59: Superstructure: Roof
A60: 2.4 | B60: Superstructure: Stairs and Ramps
A61: 2.5 | B61: Superstructure: External Walls
A62: 2.6 | B62: Superstructure: Windows and External Doors
A63: 2.7 | B63: Superstructure: Internal Walls and Partitions
A64: 2.8 | B64: Superstructure: Internal Doors
... A70: 8 | B70: External works
A72: Refrigerants | C72: Refrigerant name | D72: Initial quantity/charge (kg) | E72: Assumed annual leakage rate % | F72: Refrigerant GWP (kgCO2e/kg) | G72: End of Life recovery rate %
A73: a | B73: Refrigerants Type 1 (if applicable) - please see CIBSE TM65 for methodology | J73: Please add rows if required
A74: b | B74: Refrigerants Type 2 (if applicable) - please see CIBSE TM65 for methodology
A75: c | B75: Refrigerants Type 3 (if applicable) - please see CIBSE TM65 for methodology
C76: TOTAL | D76: =SUM(D52:D71)+SUM(D73:D75) -> 0 | H76: =SUM(H52:H71) -> 0 | I76: =SUM(I52:I71) -> 0
C77: Material intensity (kg/m2 GIA) | D77: =D76/$C$6 -> #DIV/0! | H77: =H76/$C$6 -> #DIV/0! | I77: =I76/$C$6 -> #DIV/0!
A79: GWP POTENTIAL FOR ALL LIFE-CYCLE MODULES (kgCO2e) (See Note 1 below if you entered a reference study period in cell C12) | C79: Sequestered (or biogenic) carbon (negative value) (kgCO2e) | D79: Product stage (kgCO2e) | E79: Construction process stage (kgCO2e) | G79: Use stage (kgCO2e) | O79: End of Life (EoL) stage (kgCO2e) | S79: TOTAL Modules A-C kgCO2e | T79: Benefits and loads beyond the system boundary (kgCO2e)
D81: Module A | G81: Module B | O81: Module C | T81: Module D
A82: Building element category | D82: [A1] to [A3] | E82: [A4] | F82: [A5] | G82: [B1] | H82: [B2] | I82: [B3] | J82: [B4] | K82: [B5] | L82: [B6] | N82: [B7] | O82: [C1] | P82: [C2] | Q82: [C3] | R82: [C4]
A83: 0.1 | B83: Demolition: Toxic/Hazardous/Contaminated Material Treatment | O83: [Where only a single C1-C4 is known, please include it here] | S83: =SUM(C83:R83) -> 0
A84: 0.2 | B84: Major Demolition Works | O84: [Where only a single C1-C4 is known, please include it here] | S84: =SUM(C84:R84) -> 0
A85: 0.3 | B85: Temporary Support to Adjacent Structures | O85: [Where only a single C1-C4 is known, please include it here] | S85: =SUM(C85:R85) -> 0
A86: 0.4 | B86: Specialist Ground Works | O86: [Where only a single C1-C4 is known, please include it here] | S86: =SUM(C86:R86) -> 0
A87: 0.5 | B87: Temporary Diversion Works | O87: [Where only a single C1-C4 is known, please include it here] | S87: =SUM(C87:R87) -> 0
A88: 1 | B88: Substructure | O88: [Where only a single C1-C4 is known, please include it here] | S88: =SUM(C88:R88) -> 0
A89: 2.1 | B89: Superstructure: Frame | O89: [Where only a single C1-C4 is known, please include it here] | S89: =SUM(C89:R89) -> 0
A90: 2.2 | B90: Superstructure: Upper Floors | O90: [Where only a single C1-C4 is known, please include it here] | S90: =SUM(C90:R90) -> 0
A91: 2.3 | B91: Superstructure: Roof | O91: [Where only a single C1-C4 is known, please include it here] | S91: =SUM(C91:R91) -> 0
A92: 2.4 | B92: Superstructure: Stairs and Ramps | O92: [Where only a single C1-C4 is known, please include it here] | S92: =SUM(C92:R92) -> 0
A93: 2.5 | B93: Superstructure: External Walls | O93: [Where only a single C1-C4 is known, please include it here] | S93: =SUM(C93:R93) -> 0
A94: 2.6 | B94: Superstructure: Windows and External Doors | O94: [Where only a single C1-C4 is known, please include it here] | S94: =SUM(C94:R94) -> 0
... A98: 4 | B98: Fittings, furnishings & equipment | O98: [Where only a single C1-C4 is known, please include it here] | S98: =SUM(C98:R98) -> 0
A99: 5 | B99: Services (MEP) | L99: Regulated emissions | M99: Unregulated emissions | N99: Operational Water | O99: [Where only a single C1-C4 is known, please include it here] | S99: =SUM(C99:R99) -> 0
A100: 6 | B100: Prefabricated Buildings and Building Units | O100: [Where only a single C1-C4 is known, please include it here] | S100: =SUM(C100:R100) -> 0
A101: 7 | B101: Work to Existing Building | O101: [Where only a single C1-C4 is known, please include it here] | S101: =SUM(C101:R101) -> 0
A102: 8 | B102: External works | O102: [Where only a single C1-C4 is known, please include it here] | S102: =SUM(C102:R102) -> 0
A103: Other site construction impacts or overall construction stage [A5] carbon emissions not specific to an individual building element category | S103: =F103 -> 0
A104: TOTAL kg CO2e | C104: =SUM(C85:C102) -> 0 | D104: =SUM(D85:D102) -> 0 | E104: =SUM(E85:E102) -> 0 | F104: =SUM(F85:F103) -> 0 | G104: =SUM(G85:G102) -> 0 | H104: =SUM(H85:H102) -> 0 | I104: =SUM(I85:I102) -> 0 | J104: =SUM(J85:J102) -> 0 | K104: =SUM(K85:K102) -> 0 | L104: =L99+M99 -> #VALUE! | N104: =N99 -> Operational Water | O104: =SUM(O83:O102) -> 0 | P104: =SUM(P83:P102) -> 0 | Q104: =SUM(Q83:Q102) -> 0 | R104: =SUM(R83:R102) -> 0 | S104: =SUM(S83:S103) -> 0 | T104: =SUM(T83:T102) -> 0
A105: TOTAL kg CO2e/m2 GIA | C105: =C104/$C$6 -> #DIV/0! | D105: =D104/$C$6 -> #DIV/0! | E105: =E104/$C$6 -> #DIV/0! | F105: =F104/$C$6 -> #DIV/0! | G105: =G104/$C$6 -> #DIV/0! | H105: =H104/$C$6 -> #DIV/0! | I105: =I104/$C$6 -> #DIV/0! | J105: =J104/$C$6 -> #DIV/0! | ... L105: =L104/$C$6 -> #VALUE! | N105: =N104/$C$6 -> #VALUE! | O105: =O104/$C$6 -> #DIV/0! | P105: =P104/$C$6 -> #DIV/0! | Q105: =Q104/$C$6 -> #DIV/0! | R105: =R104/$C$6 -> #DIV/0! | S105: =S104/$C$6 -> #DIV/0! | T105: =T104/$C$6 -> #DIV/0!
A106: Notes:
A107: 1 If you have entered a reference study period in cell C12 because the assumed building life expectancy is greater or less than 60 years, then you will need to fill in this table using a 60 year building life expectancy. If you choose to, you may create a second table below and complete it using the actual assumed life expectancy. This should be clearly labelled.

Sheet Detailed planning stage
A1: Project details
A2: Project name | C2: Harefield Academy | H2: Key
A3: Planning application reference number (if applicable) | I3: Data automatically calculated - no direct input required
A4: Use Class | C4: Education | I4: Cells that require information / data inputting
A5: Brief description of the project | C5: Demolition of former residential boarding block and erection of academic building (Use Class F1) and ancillary structures including heat pump and substation enclosures, construction of a multi-use games area, revised vehicular access, landscaping, car and cycle parking and associated works at Harefield Academy, Northwood Road, UB9 6ET. | I5: N/A
A6: GIA (m2) | C6: 2276
A8: Assessment details
A9: Authors (organisation or individuals) | C9: Hydrock
A10: Date of assessment | C10: 15.12.2023
B11: Operational modelling methodology for Module B6 results | C11: TM54 utilising IES VE
A12: Reference study period (if not 60 years) | C12: 60
A13: Software tool used | C13: OneClick LCA
A14: Types of EPDs and carbon database used | C14: OneClick LCA
A15: Please confirm if 95% of the cost allocated to each building element category has been accounted for in the assessment? | C15: Yes
A16: Explanation of mechanisms which have been adopted to quality assure the submission | C16: The calculation has been checked utilising an independent member of Hydrock, who is unrelated the project.
A17: Please confirm whether you have submitted this assessment to the Built Environment Carbon Database (https://www.becd.co.uk/) or if you give permission for the GLA to do this on your behalf by checking one of the following boxes | C17: I have submitted this assessment to the BECD
C18: I give permission for the GLA to submit this assessment to the BECD on my behalf
A20: Estimated WLC emissions N.B. This forms the WLC baseline for the development. The green cells will automatically populate from the tables below
C21: Module A1-A5 (excluding sequestered carbon) | D21: Modules B-C (excl B6 & B7) | E21: Modules A-C (excl B6 & B7; including sequestered carbon) | F21: Module B1-B5 | G21: Module B6-B7 | H21: Module C1-C4 | I21: Module D
A22: TOTAL kg CO2e | C22: =D151+E151+F151 -> 1623196 | D22: =G151+H151+I151+J151+K151+O151+P151+Q151+R151 -> 642641.67 | E22: =C151+D151+E151+F151+G151+H151+I151+J151+K151+O151+P151+Q151+R151 -> 2204967.4 | F22: =G151+H151+I151+J151+K151 -> 464012.18 | G22: =L151+N151 -> 895597.5 | H22: =O151+P151+Q151+R151 -> 178629.48 | I22: =T151 -> -658290.05
A23: TOTAL kg CO2e/m2 GIA | C23: =C22/$C$6 -> 713.17928 | D23: =D22/$C$6 -> 282.35574 | E23: =E22/$C$6 -> 968.79062 | F23: =F22/$C$6 -> 203.87179 | G23: =G22/$C$6 -> 393.49627 | H23: =H22/$C$6 -> 78.483955 | I23: =I22/$C$6 -> -289.23113
A24: Please select most appropriate benchmark from drop-down menu | C24: Schools, Universities etc.
A25: WLC Benchmark | C25: =VLOOKUP($C$24,'WLC benchmarks'!$B$10:$E$13,2, TRUE) -> <750 | D25: =VLOOKUP($C$24,'WLC benchmarks'!$B$10:$E$13,3, TRUE) -> <250 | E25: =VLOOKUP($C$24,'WLC benchmarks'!$B$10:$E$13,4, TRUE) -> <1000
A26: Aspirational WLC Benchmark | C26: =VLOOKUP($C$24,'WLC benchmarks'!$B$16:$E$19,2, TRUE) -> <500 | D26: =VLOOKUP($C$24,'WLC benchmarks'!$B$16:$E$19,3, TRUE) -> <175 | E26: =VLOOKUP($C$24,'WLC benchmarks'!$B$16:$E$19,4, TRUE) -> <675
A27: Comparison with WLC benchmarks (see Appendix 2 of the guidance) | C27: The design team have utilised materials to ensure they deliver high-quality educational spaces and balance operational and embodied carbon. This can have impacts on embodied carbon emissions. A number of carbon optimisation strategies have been identified in particular the use of steel with high recycled content and low embodied carbon fittings and finishes. These will be explored further down the design stages and tracked against this whole life carbon analysis. The module B-C exceed the benchmark data, this seems to be due to high emissions from the MEP equipment, further analysis will be undertaken at the next design stage to reduce this where possible.
A29: Retention of existing buildings and structures
A30: Confirmation that options for retaining existing buildings and structures have been fully explored before considering substantial demolition | C30: The original proposal for this scheme included an extension and intensive refurbishment to the existing building as Planning Permission 17709/APP/2022/1387. There is an existing building on-site (residential boarding accommodation). However, it is not technically feasible or viable to retain or retrofit this building for the proposed development due to the fact that the existing building has a Cross-Laminated Timber (CLT) structure and a relatively low floor-to-floor height of 3 meters has posed significant challenges in making it suitable for this new purpose, ultimately leading to a proposal for demolition. These included: Structural incompatibility, compliance issues and safety concerns. For more details please see the accompanying CE statement.
A31: Carbon emissions associated with pre-construction demolition (kgCO2e) | C31: =1613*50 -> 80650
A32: Estimate of the percentage of the new build development which will be made up of existing elements | C32: 0
A34: Summary of key actions to reduce whole life-cycle carbon emissions that have informed this assessment, including the WLC reductions | C34: Actions included in WLC assessment results reported | F34: WLC reduction (kg CO2e/m2 GIA)
C35: Efficient piling system reducing concrete | F35: 10
A40: Specify further opportunities to reduce the development’s whole life-cycle carbon emissions. including the WLC reduction potential | C40: Further potential opportunities | F40: WLC reduction potential (kg CO2e/m2 GIA)
C41: Utilising a concrete staircase instead of steel | F41: 2
C42: Utilising high percentage of cement replacement with GGBS | F42: 72
C43: Using bricks recycled from the existing structure for some areas | F43: 8
C44: Using double instead of triple glazing to see whether this has an impact on whole life carbon | F44: 28
C45: Utilising higher recycled content in steel | F45: 91
A48: MATERIAL QUANTITY AND END OF LIFE SCENARIOS | C48: Product and Construction Stage (Module A) | E48: Assumptions made with respect to maintenance, repair and replacement cycles (Module B) | F48: Material 'end of life' scenarios (Module C) | H48: Benefits and loads beyond the system boundary (Module D)
A49: Building element category | C49: Material type | D49: Material quantity (kg) | H49: Estimated reusable materials (kg) | I49: Estimated recyclable materials (kg)
A50: Note/example | C50: Breakdown of material type in each category [Insert more lines if needed] e.g. Concrete | D50: 65000 kg | E50: For all primary building systems (structure, substructure, envelope, MEP services, internal finishes) including assumed material/product lifespans and annual maintenance/repair % | F50: Declare 'end of life' scenario as per project’s Circular Economy Statement, and used in the WLC assessment to produce Module C results | H50: 0 kg | I50: 25 kg
C51: e.g. Reinforcement | D51: 5000 kg | H51: 2 kg | I51: 8 kg
C52: e.g. Formwork | D52: 250 kg | H52: 0 kg | I52: 0 kg
A53: 0.1 | B53: Demolition: Toxic/Hazardous/Contaminated Material Treatment | J53: Please add rows where more than 1 material type exists per building element category
A54: 0.2 | B54: Major Demolition Works
A55: 0.3 | B55: Temporary Support to Adjacent Structures
A56: 0.4 | B56: Specialist Ground Works
A57: 1 | B57: Substructure | C57: Ready Mix concrete 50% GGBS | D57: 1684800 | E57: Service life: As building | F57: Concrete crushed to aggregate (for sub-base layers) | H57: 0 | I57: =D57 -> 1684800
C58: Carbon steel reinforcing bar 96% recycled steel | D58: 51516.7 | E58: Service life: As building | F58: Steel recycling | H58: 0 | I58: =D58 -> 51516.7
C59: Ready Mix concrete 50% GGBS | D59: 693600 | E59: Service life: As building | F59: Concrete crushed to aggregate (for sub-base layers) | H59: 0 | I59: =D59 -> 693600
C60: Carbon steel reinforcing bar 96% recycled steel | D60: 67037.5 | E60: Service life: As building | F60: Steel recycling | H60: 0 | I60: =D60 -> 67037.5
C61: Rock wool insulation | D61: 2543.2 | E61: Service life: As building | F61: Landfilling (for inert materials) | H61: 0 | I61: 0
C62: Bentonite membrane for waterproofing of underground walls and foundations | D62: 6912.88 | E62: Service life: As building | F62: Plastic-based material incineration | H62: 0 | I62: 0
A63: 2.1 | B63: Superstructure: Frame | C63: Structural steel 20% recycled content | D63: 158021.1 | E63: Service life: As building | F63: Steel recycling | H63: 0 | I63: =D63 -> 158021.1
A64: 2.2 | B64: Superstructure: Upper Floors | C64: Ready Mix concrete 50% GGBS | D64: 359880 | E64: Service life: As building | F64: Concrete crushed to aggregate (for sub-base layers) | H64: 0 | I64: =D64 -> 359880
C65: Galvanized profiled steel decking | D65: 12139.93 | E65: Service life: As building | F65: Steel recycling | H65: 0 | I65: =D65 -> 12139.93
A66: 2.3 | B66: Superstructure: Roof | C66: Flat roof window, skylight, triple glazed | D66: 971.35 | E66: Service life: As building | F66: Glass-containing product recycling (80 % glass) | H66: 0 | I66: =D66*80 -> 77708
C67: Green roof and storm water management system with sedum vegetation | D67: 18720 | E67: Service life: As building | F67: Landfilling (for inert materials) | H67: 0 | I67: 0
C68: Rock wool insulation for ETICS and flat roofs | D68: 4045.8 | E68: Service life: As building | F68: Landfilling (for inert materials) | H68: 0 | I68: 0
C69: Aluminium façade cladding panel 30% recycled content | D69: 432 | E69: Service life: As building | F69: Aluminium recycling | H69: 0 | I69: =D69 -> 432
C70: Galvanized profiled steel decking | D70: 15786.1 | E70: Service life: As building | F70: Steel recycling | H70: 0 | I70: =D70 -> 15786.1
C71: Bituminous waterproofing membrane | D71: 2125.81 | E71: Service life: 30 years repair rate 0.1% | F71: Plastic-based material incineration | H71: 0 | I71: 0
C72: Ready Mix concrete 50% GGBS | D72: 359880 | E72: Service life: As building | F72: Concrete crushed to aggregate (for sub-base layers) | H72: 0 | I72: =D72 -> 359880
A73: 2.4 | B73: Superstructure: Stairs and Ramps | C73: Galvanized steel staircase | D73: 9278.86 | E73: Service life: As building | F73: Steel recycling | H73: 0 | I73: =D73 -> 9278.86
A74: 2.5 | B74: Superstructure: External Walls | C74: Single skin wall from bricks, including mortar | D74: 9068.66 | E74: Service life: As building | F74: Brick/stone crushed to aggregate (for sub-base layers) | H74: 0 | I74: =D74 -> 9068.66
C75: Particleboard, type P2 | D75: 1094.8 | E75: Service life: 30 years | F75: Wood incineration | H75: 0 | I75: 0
C76: Gypsum plasterboard | D76: 34825.86 | E76: Service life: 30 years | F76: Gypsum recycling | H76: 0 | I76: =D76 -> 34825.86
C77: Rock wool insulation | D77: 12435.5 | E77: Service life: As building | F77: Landfilling (for inert materials) | H77: 0 | I77: 0
C78: Plastic vapour control layer | D78: 224.49 | E78: Service life: 30 years repair rate 0.1% | F78: Plastic-based material incineration | H78: 0 | I78: 0
C79: Hot-dip galvanized steel sheets | D79: 785 | E79: Service life: As building | F79: Steel recycling | H79: 0 | I79: =D79 -> 785
C80: Masonry mortar, light | D80: 48450 | E80: Service life: As building repair rate 0.1% | F80: Cement/mortar use in a backfill | H80: 0 | I80: =D80 -> 48450
C81: Bricks, 226x104x60, 226x85x60 mm | D81: 180880 | E81: Service life: As building | F81: Brick/stone crushed to aggregate (for sub-base layers) | H81: 0 | I81: =D81 -> 180880
A82: 2.6 | B82: Superstructure: Windows and External Doors | C82: Wooden-aluminium window, triple glazed | D82: 27802.7 | E82: Service life: 30 years | F82: Glass-containing product recycling (80 % glass) | H82: 0 | I82: =D82*0.8 -> 22242.16
C83: Aluminium door for exterior use | D83: 220.32 | E83: Service life: 30 years | F83: Metal-containing product recycling (90 % metal) | H83: 0 | I83: =D83*0.9 -> 198.288
C84: Aluminum framed door system with triple-glazed glass | D84: 1444.35 | E84: Service life: 30 years | F84: Glass-containing product recycling (80 % glass) | H84: 0 | I84: =D84*0.8 -> 1155.48
A85: 2.7 | B85: Superstructure: Internal Walls and Partitions | C85: Partitioning system, glazed, with wooden frame | D85: 27710 | E85: Service life: 30 years | F85: Glass-containing product recycling (80 % glass) | H85: 0 | I85: =D85*0.8 -> 22168
C86: Gypsum plaster board, regular | D86: 51288.62 | E86: Service life: 30 years | F86: Gypsum recycling | H86: 0 | I86: =D86 -> 51288.62
C87: Glass wool insulation panels, unfaced | D87: 5977.5 | E87: Service life: As building | F87: Landfilling (for inert materials) | H87: 0 | I87: 0
C88: Structural steel profiles 60% recycled content | D88: 6616 | E88: Service life: As building | F88: Steel recycling | H88: 0 | I88: =D88 -> 6616
A89: 2.8 | B89: Superstructure: Internal Doors | C89: Doors with wooden frame, interior | D89: 2129.4 | E89: Service life: 30 years | F89: Wood-containing product incineration (80% wood) | H89: 0 | I89: 0
A90: 3 | B90: Finishes | C90: Tile adhesive, all round, for ceramics | D90: 103.2255 | E90: Service life: 30 years | F90: Cement/mortar use in a backfill | H90: 0 | I90: =D90 -> 103.2255
C91: Ceramic tiles | D91: 1485 | E91: Service life: 30 years | F91: Brick/stone crushed to aggregate (for sub-base layers) | H91: 0 | I91: =D91 -> 1485
C92: Laminated skirting board | D92: 1780.5375 | E92: Service life: 30 years | F92: Plastic-based material incineration | H92: 0 | I92: 0
C93: Paint, quick drying, water-based primer undercoat | D93: 594.027 | E93: Service life: 20 years | F93: Landfilling (for inert materials) | H93: 0 | I93: 0
C94: Emulsion matt paint for allround interior use | D94: 1112.598 | E94: Service life: 10 years | F94: Landfilling (for inert materials) | H94: 0 | I94: 0
C95: Broadloom carpet with nylon 6.6 pile material | D95: 156.375 | E95: Service life: 10 years | F95: Plastic-based material incineration | H95: 0 | I95: 0
C96: Vinyl composite flooring tile | D96: 5283.531 | E96: Service life: 20 years | F96: Plastic-based material incineration | H96: 0 | I96: 0
C97: Modular carpet | D97: 3719.43 | E97: Service life: 10 years | F97: Plastic-based material incineration | H97: 0 | I97: 0
C98: Solidwood flooring, multiple species | D98: 5046.495 | E98: Service life: 20 years | F98: Carpet Recycling | H98: =D98 -> 5046.495 | I98: 0
C99: Gypsum plasterboard for suspended ceiling systems | D99: 3898.125 | E99: Service life: 30 years | F99: Gypsum recycling | H99: 0 | I99: =D99 -> 3898.125
C100: Flooring screed | D100: 132738.95 | E100: Service life: 30 years | F100: Cement/mortar use in a backfill | H100: 0 | I100: =D100 -> 132738.95
A101: 4 | B101: Fittings, furnishings & equipment (FFE)
A102: 5 | B102: Services (MEP) | C102: Cold Water Tank | D102: 269.84 | E102: Service life: 25 years | F102: Metal-containing product recycling (90 % metal) | H102: 0 | I102: =D102*90 -> 24285.6
C103: Hot water Tank | D103: 23.63 | E103: Service life: 25 years | F103: Metal-containing product recycling (90 % metal) | H103: 0 | I103: =D103*90 -> 2126.7
C104: Air to water Heat Pump | D104: 2251.3 | E104: Service life: 20 years | F104: Metal-containing product recycling (90 % metal) | H104: 0 | I104: =D104*90 -> 202617
C105: Polyethelene Pipe | D105: 2016 | E105: Service life: 25 years | F105: Landfilling (for inert materials) | H105: 0 | I105: 0
C106: Air to air heat pump | D106: 140.39 | E106: Service life: 20 years | F106: Metal-containing product recycling (90 % metal) | H106: 0 | I106: =D106*90 -> 12635.1
C107: VRF indoor | D107: 57 | E107: Service life: 20 years | F107: Metal-containing product recycling (90 % metal) | H107: 0 | I107: =D107*90 -> 5130
C108: Air handling unit | D108: 6329.69 | E108: Service life: 20 years | F108: Metal-containing product recycling (90 % metal) | H108: 0 | I108: =D108*90 -> 569672.1
C109: Rooftop exhaust | D109: 59 | E109: Service life: 20 years | F109: Metal-containing product recycling (90 % metal) | H109: 0 | I109: =D109*90 -> 5310
C110: Diesel generator | D110: 686.45 | E110: Service life: 20 years | F110: Metal-containing product recycling (90 % metal) | H110: 0 | I110: =D110*90 -> 61780.5
...

Sheet Post-construction result
A1: Project details
A2: Project name | C2: Meadow School | H2: Key
A3: Planning application reference number (if applicable) | I3: Data automatically calculated - no direct input required
A4: Use Class | C4: F1 | I4: Cells that require information / data inputting
A5: Brief description of the project | C5: New educational building, and associated external works. | I5: N/A
A6: GIA (m2) | C6: 2276
A8: Assessment details
A9: Authors (organisation or individuals) | C9: Morgan Layton CPW, Michelle Ward CPW
A10: Date of assessment | C10: 46241
B11: Operational modelling methodology for Module B6 results | C11: SAP 2021
A12: Reference study period (if not 60 years) | C12: 60 years
A13: Software tool used | C13: Carbon assessment, GLA / RICS / Green Mark (+A2)
A14: Type of EPDs and carbon database used | C14: The One Click LCA Carbon database was used, which is considered the largest database of environmental construction data in the world, and includes over 200,000 datapoints. EPDs in the database all comply with EN15804 and/or ISO 14025 standards. The database also includes coutry-specific average data that can be used where specific materials have not been specified yet. Relevant product specific EPDs were selected in the fist instance, and generic data was used where the prior was not available, or where products have not been specified yet.
A15: Please confirm if 95% of the cost allocated to each building element category has been accounted for in the assessment? | C15: Yes
A16: Explanation of mechanisms which have been adopted to quality assure the submission | C16: The assessment has been completed by Morgan Layton and verified by Michelle Ward of CPW. Both individuals have substantial experience in undertaking WLCAs, and are independant of the project team. The EPD/ datapoint selections were reviewed in detail to ensure they represent the closest match available to the actual materials specified. Material quantities were taken from the cost plan, and further advised by the design team. These quantites were checked in line with the latest design drawings. One Click LCA also enables a 'Plausbility Checker' which ensures the quantities are within reasonable limits proportional to the floor area.
A17: Please confirm whether you have submitted this assessment to the Built Environment Carbon Database (https://www.becd.co.uk/) or if you give permission for the GLA to do this on your behalf by checking one of the following boxes | C17: I have submitted this assessment to the BECD
C18: I give permission for the GLA to submit this assessment to the BECD on my behalf
A20: List of product specific EPDs for products that have been installed | C20: Product | F20: EPD reference number
C21: Siniat weather defence | F21: INIES_INKB20210930_163123, 41683
C22: Tyvek firecurb | F22: NEPD-5472-4775-EN
C23: Tyveck HDPE membrane | F23: EPD-IES-0008151:001
C24: Mineral Wool Insulation Isover | F24: EPD-IES-0018316:001
C25: Duraline plasterboard | F25: S-P-00510
C26: Metal Deck Flooring RC 30/37 on CF80/0.9 composite metal deck by Tata Steel | F26: EPD-TS-2021-005
C27: Heidelberg Materials Concrete | F27: NEPD-7891-7567-2
C28: Marshalls Paving blocks | F28: HUB-3596
C29: Sopratherm taped insulation PIR insulation | F29: EPD-IES-0026914:001
C30: Soprema vapour barrier | F30: S-P-14234
C31: VELUX Modular Skylight | F31: EPD-VEL-20210075-CCI1-EN
C32: Schindler 3000 evacuation lift | F32: S-P-02959
... C58: ASTRO N7s Solar Panels | F58: NEPD-9557-9031
A60: Please confirm the following post-construction evidence has been submitted with this WLC assessment
A61: Site energy (including fuel) use record | C61: Yes
A62: Contractor confirmation of as-built quantities and specifications | C62: Yes
A63: Record of material delivery including distance travelled and transportation mode | C63: Yes
A64: Waste transportation record include waste quantity, distance travelled and transportation mode | C64: Yes
A67: WLC emissions baseline (automatically populated from the 'detailed planning stage' tab)
C68: Module A1-A5 (excluding sequestered carbon) | D68: Modules B-C (excl B6 & B7) | E68: Modules A-C (excl B6-B7; including sequestered carbon) | F68: Module B1-B5 | G68: Module B6-B7 | H68: Module C1-C4 | I68: Module D
A69: TOTAL kg CO2e | C69: ='Detailed planning stage'!C22 -> 1623196 | D69: ='Detailed planning stage'!D22 -> 642641.67 | E69: ='Detailed planning stage'!E22 -> 2204967.4 | F69: ='Detailed planning stage'!F22 -> 464012.18 | G69: ='Detailed planning stage'!G22 -> 895597.5 | H69: ='Detailed planning stage'!H22 -> 178629.48 | I69: ='Detailed planning stage'!I22 -> -658290.05
A70: TOTAL kg CO2e/m2 GIA | C70: ='Detailed planning stage'!C23 -> 713.17928 | D70: ='Detailed planning stage'!D23 -> 282.35574 | E70: ='Detailed planning stage'!E23 -> 968.79062 | F70: ='Detailed planning stage'!F23 -> 203.87179 | G70: ='Detailed planning stage'!G23 -> 393.49627 | H70: ='Detailed planning stage'!H23 -> 78.483955 | I70: ='Detailed planning stage'!I23 -> -289.23113
A73: Post-construction WLC emissions
C74: Module A1-A5 | D74: Modules B-C (excl B6 & B7) | E74: Modules A-C (excl B6-B7; including sequestered carbon) | F74: Module B1-B5 | G74: Module B6-B7 | H74: Module C1-C4 | I74: Module D
A75: TOTAL kg CO2e | C75: =D328+E328+F328 -> 1266818 | D75: =G328+H328+I328+J328+K328+O328+P328+Q328+R328 -> 639110.31 | E75: =C328+D328+E328+F328+G328+H328+I328+J328+K328+O328+P328+Q328+R328 -> 1892923.8 | F75: =G328+H328+I328+J328+K328 -> 555927.72 | G75: =L328+N328 -> 1408715.7 | H75: =O328+P328+Q328+R328 -> 83182.59 | I75: =T328 -> -600547.26
A76: TOTAL kg CO2e/m2 GIA | C76: =C75/$C$6 -> 556.59841 | D76: =D75/$C$6 -> 280.80418 | E76: =E75/$C$6 -> 831.68883 | F76: =F75/$C$6 -> 244.25647 | G76: =G75/$C$6 -> 618.94362 | H76: =H75/$C$6 -> 36.547711 | I76: =I75/$C$6 -> -263.86083
A77: Please select most appropriate benchmark from drop-down menu | C77: Schools, Universities etc.
A78: WLC Benchmark | C78: =VLOOKUP($C$77,'WLC benchmarks'!$B$10:$E$13,2, TRUE) -> <750 | D78: =VLOOKUP($C$77,'WLC benchmarks'!$B$10:$E$13,3, TRUE) -> <250 | E78: =VLOOKUP($C$77,'WLC benchmarks'!$B$10:$E$13,4, TRUE) -> <1000
A79: Aspirational WLC Benchmark | C79: =VLOOKUP($C$77,'WLC benchmarks'!$B$16:$E$19,2, TRUE) -> <500 | D79: =VLOOKUP($C$77,'WLC benchmarks'!$B$16:$E$19,3, TRUE) -> <175 | E79: =VLOOKUP($C$77,'WLC benchmarks'!$B$16:$E$19,4, TRUE) -> <675
A80: Commentary comparing the post-construction results against the WLC emissions baseline above | C80: At post construction the development is performing positively against the WLC emissions baseline, with both the upfront and embodied carbon showing an improvement upon the detailed planning stage model by 22% and 14%.Carbon reduction measures have been considered, such as construction site activities being supplied by renewable energy and fuel resulting in lower carbon emissions associated with the product and construction stages (A1-A5). The structural framework has also been rationalised, which has resulted in lower total mass of material and therefore lower carbon emissions compared to the detailed planning stage results. The steel staircases have also been replaced with precast concrete as specified in the detailed planning stage assessment contributing to further reductions at stages A1-A5. Furthermore, traditional brickwork was installed in lieu of the prefabricated brick slips modelled at Stage 2, resulting in lower emissions.
A81: Commentary comparing the post-construction results against the WLC benchmarks (see Appendix 2) | C81: The results are reported below compared to the GLA benchmarks for education buildings. The development is currently performing positively, both the upfront and embodied carbon are showing an improvement compared the benchmark, of 25% and 17% respectively.
A83: Retention of existing buildings and structures
A84: Confirmation of which options for retaining existing buildings and structures that were under exploration at planning stages have been implemented | C84: Demolition completed by ISG
A85: Actual carbon emissions associated with pre-construction demolition (kgCO2e) | C85: 35,900kgCO2e
A86: Estimate of the percentage of the new build development which is made up of existing elements | C86: 0
A88: Summary of key actions undertaken to reduce whole life-cycle carbon emissions, including the reductions achieved | C88: Action undertaken | F88: WLC reduction achieved (kg CO2e/m2 GIA)
C89: Construction site activities supplied by renewable electricity and fuel | F89: 48
C90: Traditional brickwork in lieu of brick slips | F90: 7
A93: Lessons learnt from the process of undertaking a WLC assessment that will inform future projects | C93: Recycled content targets should be included within tender documentation to ensure ample cement replacement is achieved.
A98: MATERIAL QUANTITY AND END OF LIFE SCENARIOS | C98: Product and Construction Stage (Module A) | E98: Assumptions made with respect to maintenance, repair and replacement cycles (Module B) | F98: Material 'end of life' scenarios (Module C) | H98: Benefits and loads beyond the system boundary (Module D)
A99: Building element category | C99: Material type | D99: Material quantity (kg) | H99: Estimated reusable materials (kg) | I99: Estimated recyclable materials (kg)
A100: Note/example | C100: Breakdown of material type in each category [Insert more lines if needed] e.g. Concrete | D100: 65000 kg | E100: For all primary building systems (structure, substructure, envelope, MEP services, internal finishes) including assumed material/product lifespans and annual maintenance/repair % | F100: Declare 'end of life' scenario as per project’s Circular Economy Statement, and used in the WLC assessment to produce Module C results | H100: 0 kg | I100: 25 kg
C101: e.g. Reinforcement | D101: 5000 kg | H101: 2 kg | I101: 8 kg
C102: e.g. Formwork | D102: 250 kg | H102: 0 kg | I102: 0 kg
A103: 0.1 | B103: Demolition: Toxic/Hazardous/Contaminated Material Treatment | J103: Please add rows where more than 1 material type exists per building element category
A104: 0.2 | B104: Major Demolition Works
A105: 0.3 | B105: Temporary Support to Adjacent Structures
A106: 0.4 | B106: Specialist Ground Works
A107: 1 | B107: Substructure | C107: Ready-mix concrete, C32/40, CEM I, 2312 kg/m3, Heidelberg Materials UK | D107: 211201.2 | E107: 50.0 | F107: Concrete crushed to aggregate (for sub-base layers), Portland Cement 300 kg / m3 | H107: 0 | I107: 201144
C108: Ready-mix concrete, C32/40, CEM I, 2312 kg/m3, Heidelberg Materials UK | D108: 174787.2 | E108: 50.0 | F108: Concrete crushed to aggregate (for sub-base layers), Portland Cement 300 kg / m3 | H108: 0 | I108: 166464
C109: Galvanized welded steel reinforcement mesh, A252-type 8 mm bars at 200 × 200 mm spacing, mass 5.95 kg/m², One Click LCA | D109: 20076.54 | E109: 50 | F109: Steel recycling | H109: 0 | I109: 19877.76
C110: Reinforcement steel (rebar), generic, 97% recycled content (typical), A615, RICS UK baseline dataset, One Click LCA | D110: 131250 | E110: As building | F110: Steel recycling | H110: 0 | I110: 125000
C111: Ready-mix concrete, C32/40, CEM I, 2312 kg/m3, Heidelberg Materials UK | D111: 786542.4 | E111: 50.0 | F111: Concrete crushed to aggregate (for sub-base layers), Portland Cement 300 kg / m3 | H111: 0 | I111: 749088
A112: 2.1 | B112: Superstructure: Frame | C112: Structural steel rolled section, One Click LCA | D112: 144430 | E112: As building | F112: Steel recycling | H112: 0 | I112: 143000
A113: 2.2 | B113: Superstructure: Upper Floors | C113: Galvanized profiled steel decking, for composite floor slabs/decks, 0.9 mm sheet thickness, 11.32 kg/m2, ComFlor® 80 0.9mm, Tata Steel Europe (2021) | D113: 27279.62 | E113: As building | F113: Steel recycling | H113: 0 | I113: 27009.52
C114: Galvanized welded steel reinforcement mesh, A252-type 8 mm bars at 200 × 200 mm spacing, mass 5.95 kg/m², One Click LCA | D114: 14338.67 | E114: As building | F114: Steel recycling | H114: 0 | I114: 14196.7
C115: Ready-mix concrete, C32/40, CEM I, 2312 kg/m3, Heidelberg Materials UK | D115: 583780 | E115: As building | F115: Rebar separated (2 %), concrete to aggregate | H115: 0 | I115: 578000
A116: 2.3 | B116: Superstructure: Roof | C116: Steel frame for fixing photovoltaic modules, 3.5 kg/m2, Hélios B² LEC, DOME SOLAR | D116: 1543.35 | E116: As building | F116: Steel recycling | H116: 0 | I116: 1528.06
C117: Soil substrates for green roofs in HDPE cassettes, 78.19 kg/m2, Toit végétal ETVM, EVTM | D117: 72505.59 | E117: As building | F117: Do nothing | H117: 0 | I117: 0
C118: Melt-blown polypropylene filter fabric, N4, per m2, 0.18 kg/m2, 2-5 µm pore size, One Click LCA | D118: 166.91 | E118: 10 | F118: Plastic-based material incineration | H118: 0 | I118: 0
C119: Aluminium flashings and edge strips, 1.5 mm, 0.577 kg/m, Solin et bande de rives en aluminium, Ministère de la Transition Écologique – Ministère en charge du Logement | D119: 343.83 | E119: As building | F119: Aluminium recycling | H119: 0 | I119: 340.43
C120: UK aggregate mix (land-won, marine, secondary, and recycled sources, bulk, loose), RICS UK baseline dataset, One Click LCA | D120: 11753.28 | E120: As building | F120: Do nothing | H120: 0 | I120: 0
C121: Concrete paving block for outdoor surfaces, 80 mm, 184 kg/m2, Modal X, Marshalls Plc | D121: 15447.95 | E121: As building | F121: Rebar separated (2 %), concrete to aggregate | H121: 0 | I121: 15295
C122: Polyisocyanurate (PIR) thermal insulation board with foil facing, 0.022 W/mK, 1.10 m2K/W, 2400x1200x25 mm, 0.807 kg/m2, Lambda=0.022 W/(m.K), SOPRATHERM TB4000, SOPREMA NV | D122: 5023.44 | E122: As building | F122: Plastic-based material incineration | H122: 0 | I122: 0
C123: Bitumen waterproofing membrane for roof, 0.75 mm, 0.86 kg/m2, Sopravap stick A 07, SOPREMA Group | D123: 1094.44 | E123: 20 | F123: Landfilling (for inert materials) | H123: 0 | I123: 0
C124: Polystyrene drainage board products for green roof application, 1995x1003x25, 1.36 kg/m2, Urbanscape Drainage with buffer Q25, Q25-F, Q25-C, Knauf | D124: 1261.13 | E124: 30 | F124: Plastic-based material incineration | H124: 0 | I124: 0
C125: Flat roof access hatch, 71.951 kg/m2, Comfort Duo, LAMILUX Heinrich Strunz GmbH | D125: 1079.26 | E125: As building | F125: Metal-containing product recycling (90 % metal) | H125: 0 | I125: 1079.26
C126: Flat roof access hatch, 71.951 kg/m2, Comfort Duo, LAMILUX Heinrich Strunz GmbH | D126: 1079.26 | E126: As building | F126: Metal-containing product recycling (90 % metal) | H126: 0 | I126: 1079.26
C127: Modular skylight, double glazed, 57.8 kg/m2, VELUX | D127: 4335 | E127: 40 | F127: Glass-containing product recycling (80 % glass) | H127: 0 | I127: 4335
C128: Support pedestal for terrace elements, 0.924 kg/m2, Plot de support de terrasse, DONNEE ENVIRONNEMENTALE GENERIQUE PAR DEFAUT | D128: 135.18 | E128: 30 | F128: Plastic-based material incineration | H128: 0 | I128: 0
A129: 2.4 | B129: Superstructure: Stairs and Ramps | C129: Precast concrete staircases and shafts, calculated average for United Kingdom, One Click LCA | D129: 17176.06 | E129: As building | F129: Rebar separated (2 %), concrete to aggregate | H129: 0 | I129: 17006
C130: Precast concrete staircases and shafts, calculated average for United Kingdom, One Click LCA | D130: 10931.23 | E130: As building | F130: Rebar separated (2 %), concrete to aggregate | H130: 0 | I130: 10823
C131: Precast concrete staircases and shafts, calculated average for United Kingdom, One Click LCA | D131: 10151.51 | E131: As building | F131: Rebar separated (2 %), concrete to aggregate | H131: 0 | I131: 10051
C132: Mortar or screed, 1:6, uses the general UK average cement mixture | D132: 1174.99 | E132: As building | F132: Cement/mortar use in a backfill | H132: 0 | I132: 1129.8
C133: Mortar or screed, 1:6, uses the general UK average cement mixture | D133: 917.28 | E133: As building | F133: Cement/mortar use in a backfill | H133: 0 | I133: 882
C134: Mortar or screed, 1:6, uses the general UK average cement mixture | D134: 1004.64 | E134: As building | F134: Cement/mortar use in a backfill | H134: 0 | I134: 966
A135: 2.5 | B135: Superstructure: External Walls | C135: Gypsum board, water resistant, 18.8 kg/m2, WEATHER DEFENCE BD 20, ETEX France Building Performance : SINIAT - SALSI | D135: 34548.38 | E135: 40 | F135: Gypsum recycling | H135: 0 | I135: 33219.6
C136: Gypsum board, water resistant, 18.8 kg/m2, WEATHER DEFENCE BD 20, ETEX France Building Performance : SINIAT - SALSI | D136: 2444 | E136: 40 | F136: Gypsum recycling | H136: 0 | I136: 2350
C137: Fire retardant membrane from HDPE for cold side of building facades, 0.07 kg/m2, Tyvek® FireCurb Soft, Isola AS | D137: 136.06 | E137: 30 | F137: Plastic-based material incineration | H137: 0 | I137: 0
C138: Fire retardant membrane from HDPE for cold side of building facades, 0.07 kg/m2, Tyvek® FireCurb Soft, Isola AS | D138: 9.62 | E138: 30 | F138: Plastic-based material incineration | H138: 0 | I138: 0
C139: Stone wool insulation, L=0.035 W/mK, R=2.86 m2K/W, 100 mm, 6 kg/m2, 60 kg/m3, Lambda=0.035 W/(m.K), Rainscreen Duo-Slab 100-225 mm, ROCKWOOL Limited | D139: 20419.45 | E139: As building | F139: Landfilling (for inert materials) | H139: 0 | I139: 0
C140: Stone wool insulation, L=0.035 W/mK, R=2.86 m2K/W, 100 mm, 6 kg/m2, 60 kg/m3, Lambda=0.035 W/(m.K), Rainscreen Duo-Slab 100-225 mm, ROCKWOOL Limited | D140: 1444.5 | E140: As building | F140: Landfilling (for inert materials) | H140: 0 | I140: 0
...

Sheet WLC benchmarks
B2: Available benchmarks
B3: Offices
B4: Residential
B5: Schools, Universities etc.
B6: Retail
B9: WLC benchmark | C9: A1-A5 | D9: B-C (excl B6 & B7) | E9: A-C (excl B6 & B7)
B10: Offices | C10: <950 | D10: <450 | E10: <1400
B11: Residential | C11: <850 | D11: <350 | E11: <1200
B12: Schools, Universities etc. | C12: <750 | D12: <250 | E12: <1000
B13: Retail | C13: <850 | D13: <200 | E13: <1050
B15: Aspirational WLC benchmark | C15: A1-A5 | D15: B-C (excl B6 & B7) | E15: A-C (excl B6 & B7)
B16: Offices | C16: <600 | D16: <370 | E16: <970
B17: Residential | C17: <500 | D17: <300 | E17: <800
B18: Schools, Universities etc. | C18: <500 | D18: <175 | E18: <675
B19: Retail | C19: <550 | D19: <140 | E19: <690
