Workbook
Name _Hlk30849479: 'Detailed planning stage'!#REF!
Name _Hlk30849479: 'Outline planning stage'!#REF!
Name _Hlk30849479: 'Post-construction result'!#REF!
Name _Hlk30849479: 'Pre-app information'!#REF!

Sheet Updates
B3: The draft consultation version of the template has been updated as follows:
B5: Template tab | C5: Details
B6: Pre-app information | C6: Principle 1 expanded to require further details on pre-construction demolition and options explored for retaining existing buildings/structures.
C7: Removal of Y/N option next to each WLC reduction principle.
B8: Outline and Detailed planning Stage & Post-construction result | C8: Confirmation of operational modelling process used
C9: Confirmation relating to proportion of material quantities included relating to cost
C10: Confirmation of third party mechanisms
C11: Confirmation that the assessment has or can be submitted to the Built Environment Carbon Database
C12: Updated assessment summary results to align with new WLC benchmarks
C13: Addition of selection of most comparable WLC benchmark selection
C14: Addition of details relating to retention of existing structures and buildings
C15: Updated note/example text for module B assumptions and end of life scenarios in the 'Material Quantity and End of Life Scenarios' table
C16: Addition of details relating to refrigerants to 'Material Quantity and End of Life Scenarios' table
C17: Addition of option in assessment table to report A5 emissions as a single number or A5 emissions not related to a building element category
C18: Removal of assessment 2
C19: Colour coding to reflect cells that require inputs and cells which are updated automatically
B20: Post-construction result | C20: Addition of confirmation relating to post-construction evidence submission
C21: Addition of list of product specific EPDs from products installed in the building

Sheet Introduction
A1: Greater London Authority - Whole Life-Cycle Carbon (WLC) Assessment template
A3: HOW TO USE THIS SPREADSHEET
A5: This template should be used by planning applicants to fulfil the requirements of the Mayor's Whole Life-Cycle Carbon (WLC) Assessment policy set out in London Plan Policy SI 2. Before completing and submitting this spreadsheet to the GLA, applicants should read the Whole Life-Cycle Carbon Assessment guidance:
A8: https://www.london.gov.uk/what-we-do/planning/implementing-london-plan/london-plan-guidance/whole-life-cycle-carbon-assessments-guidance
A9: Applicants are required to submit a WLC assessment to the GLA at the following three stages: pre-application, outline/detailed planning submission and post-construction. Separate tabs are provided in this spreadsheet for each stage. An outline of the information required at each stage and how to submit it is provided below.
A11: 1. Pre-application stage
A12: At pre-application stage, applicants are required to complete the pre-application information tab of this template to confirm various details about the site and to provide details of the WLC principles which are informing the development of the site. This should be submitted to the GLA along with all other pre-application material.
A14: 2. Outline/detailed planning submission stage
A15: At this stage, applicants are required to complete the outline or detailed planning stage tab of this template (whichever is relevant) and submit it to the GLA along with their planning application. This stage of the process requires a baseline WLC assessment against each life-cycle module to be undertaken.
A17: 3. Post-construction stage
A18: At the final stage of the WLC assessment process, applicants should complete the post-construction result tab of this template and submit it to the GLA prior to occupation of the development. This will require an update of the information provided at planning submission stage and for the actual WLC carbon emission figures to be reported using actual material quantities and site emissions during construction. Information should be submitted to:
A21: ZeroCarbonPlanning@london.gov.uk
... A26: ZeroCarbonPlanning@london.gov.uk

Sheet Pre-app information
A1: Project details
A2: Project name
A3: Planning application reference number (if applicable)
A4: Use Type
A5: Brief description of the project
A6: GIA (m2)
A7: Authors (organisation or individuals)
A8: Date of assessment
A10: WLC reduction principles | B10: Principle | C10: Key benefits | E10: Provide examples of how reduction principle has been used, or give reasons why it cannot be used.
A11: 1 | B11: Reuse and retrofit of existing buildings | C11: Significant retention and reuse of structures is carbon efficient and reduces construction costs. | E11: Confirmation that options for retaining existing buildings and structures have been fully explored before considering substantial demolition | F11: [Outline the options that have been considered - plus an explanation of opportunities and limitations, and why demolition outweighs the benefits of retaining existing buildings/structures where applicable]
E12: Carbon emissions associated with pre-construction demolition (kgCO2e) | F12: [If estimates are not possible, please apply standard assumption of 50kgCO2e/m2 of the existing building/s]
E13: Estimate of the percentage of the new build development which will be made up of existing elements | F13: [e.g. X% existing facades; Y% existing foundations; Z% superstructures etc.]
A14: 2 | B14: Use repurposed or recycled materials | C14: Reduces waste and carbon emissions.
A15: 3 | B15: Material selection | C15: Appropriate material choices are key to carbon reduction. Ensuring that materials are selected with consideration of the planned life expectancy of the building reduces waste, the need for replacements and the in-use costs.
A16: 4 | B16: Minimise operational energy use | C16: A 'fabric first' approach should be prioritised to minimise energy demand and reduce carbon and in-use costs.
A17: 5 | B17: Minimise the carbon emissions associated with operational water use | C17: Choice of materials and durability of systems, which help to avoid leakage and subsequent building damage, contribute to reducing the carbon emissions of water use.
A18: 6 | B18: Disassembly and reuse | C18: Designing for future disassembly ensures that products do not become future waste and that they maintain their environmental and economic value.
A19: 7 | B19: Building shape and form | C19: Compact efficient shapes help minimise both operational and embodied carbon emissions from repair and replacement for a given floor area. This leads to a more efficient building overall resulting in lower construction and in use costs.
A20: 8 | B20: Regenerative design | C20: Removing carbon emissions from the atmosphere through materials and systems absorbing it makes a direct contribution to carbon reduction.
A21: 9 | B21: Designing for durability and flexibility | C21: Durability means that repair and replacement is reduced which in turn helps reduce life-time building costs. A building designed for flexibility can respond with minimum environmental impact to future changing requirements and a changing climate, thus avoiding obsolescence which also underwrites future building value.
A22: 10 | B22: Optimisation of the relationship between operational and embodied carbon | C22: Optimising the relationship between operational and embodied carbon contributes directly to resource efficiency and overall cost reduction.
A23: 11 | B23: Building life expectancy | C23: Defining building life expectancy gives guidance to project teams as to the most efficient choices for materials and products. This aids overall resource efficiency, including cost efficiency and helps future proof asset value.
A24: 12 | B24: Local sourcing | C24: Sourcing local materials reduces transport distances and supply chain lengths and has associated local social and economic benefits.
A25: 13 | B25: Minimising waste | C25: Waste represents unnecessary and avoidable carbon emissions. Buildings should be designed to minimise construction waste, and to ease repair and replacement with minimum waste, which helps reduce initial and in-use costs.
... A28: 16 | B28: Circular economy | C28: The circular economy principle focusses on a more efficient use of materials which in turn leads to carbon and financial efficiencies.

Sheet Outline planning stage
A1: Project details
A2: Project name | H2: Key
A3: Planning application reference number (if applicable) | I3: Data automatically calculated - no direct input required
A4: Use Class | I4: Cells that require information / data inputting
A5: Brief description of the project | I5: N/A
A6: GIA (m2)
A8: Assessment details
A9: Authors (organisation or individuals)
A10: Date of assessment
B11: Operational modelling methodology for Module B6 results | C11: e.g. SAP or TM54
A12: Reference study period (if not 60 years) | C12: [This cell should only be filled in if the reference study period, i.e. the assumed building life expectancy, exceeds or is less than 60 years. Applicants should state the reference study period in this cell. While the assessment should still be done to 60 years, applicants may, if they choose to, submit an additional assessment of the modules B, C and D for the actual reference study period by copying and pasting an additional 'GWP potential for all life-cycle modules' table, see below].
A13: Software tool used
A14: Type of EPDs and carbon database used | C14: [If using more than one database please list all]
A15: Please confirm if 95% of the cost allocated to each building element category has been accounted for in the assessment? | C15: [Yes, or please explain any omissions]
A16: Explanation of the third-party mechanisms which have been adopted to quality assure this submission
A17: Please confirm whether you have submitted this assessment to the Built Environment Carbon Database (https://www.becd.co.uk/) or if you give permission for the GLA to do this on your behalf by checking one of the following boxes | C17: I have submitted this assessment to the BECD
C18: I give permission for the GLA to submit this assessment to the BECD on my behalf
A20: Estimated WLC emissions N.B. This forms the WLC baseline for the development. The green cells will automatically populate from the tables below
C21: Module A1-A5 (excluding sequestered carbon) | D21: Modules B-C (excl B6 & B7) | E21: Modules A-C (excluding B6-B7; including sequestered carbon) | F21: Module B1-B5 | G21: Module B6-B7 | H21: Module C1-C4 | I21: Module D
A22: TOTAL kg CO2e | C22: =D104+E104+F104 -> 0 | D22: =G104+H104+I104+J104+K104+O104+P104+Q104+R104 -> 0 | E22: =C104+D104+E104+F104+G104+H104+I104+J104+K104+O104+P104+Q104+R104 -> 0 | F22: =G104+H104+I104+J104+K104 -> 0 | G22: =L104+N104 -> #VALUE! | H22: =O104+P104+Q104+R104 -> 0 | I22: =T104 -> 0
A23: TOTAL kg CO2e/m2 GIA | C23: =C22/$C$6 -> #DIV/0! | D23: =D22/$C$6 -> #DIV/0! | E23: =E22/$C$6 -> #DIV/0! | F23: =F22/$C$6 -> #DIV/0! | G23: =G22/$C$6 -> #VALUE! | H23: =H22/$C$6 -> #DIV/0! | I23: =I22/$C$6 -> #DIV/0!
A24: Please select most appropriate benchmark from drop-down menu | C24: Residential
A25: WLC Benchmark | C25: =VLOOKUP($C$24,'WLC benchmarks'!$B$10:$E$13,2, TRUE) -> <850 | D25: =VLOOKUP($C$24,'WLC benchmarks'!$B$10:$E$13,3, TRUE) -> <350 | E25: =VLOOKUP($C$24,'WLC benchmarks'!$B$10:$E$13,4, TRUE) -> <1200
A26: Aspirational WLC Benchmark | C26: =VLOOKUP($C$24,'WLC benchmarks'!$B$16:$E$19,2, TRUE) -> <500 | D26: =VLOOKUP($C$24,'WLC benchmarks'!$B$16:$E$19,3, TRUE) -> <300 | E26: =VLOOKUP($C$24,'WLC benchmarks'!$B$16:$E$19,4, TRUE) -> <800
A27: Comparison with WLC benchmarks (see Appendix 2 of the guidance) | C27: [Explain the reasons for any divergences from WLC benchmarks, including against the WLC aspirational benchmarks]
A29: Retention of existing buildings and structures
A30: Confirmation that options for retaining existing buildings and structures have been fully explored before considering substantial demolition | C30: [Outline the options that have been considered - plus an explanation of opportunities and limitations, and why demolition outweighs the benefits of retaining existing buildings/structures where applicable]
A31: Carbon emissions associated with pre-construction demolition (kgCO2e) | C31: [If estimates are not possible, please apply standard assumption of 50kgCO2e/m2 of the existing building/s]
A32: Estimate of the percentage of the new build development which will be made up of existing elements | C32: [e.g. X% existing facades; Y% existing foundations; Z% superstructures etc.]
A34: Summary of key actions to reduce whole life-cycle carbon emissions that have informed this assessment, including the WLC reductions | C34: Actions included in WLC assessment results reported | F34: WLC reduction (kg CO2e/m2 GIA)
C35: [This list does not need to be exhaustive but should identify the actions with the biggest impacts. Insert more lines if needed]
A40: Specify further opportunities to reduce the development’s whole life-cycle carbon emissions. including the WLC reduction potential | C40: Further potential opportunities | F40: WLC reduction potential (kg CO2e/m2 GIA)
C41: [Insert more lines as needed]
A47: MATERIAL QUANTITY AND END OF LIFE SCENARIOS | C47: Product and Construction Stage (Module A) | E47: Assumptions made with respect to maintenance, repair and replacement cycles (Module B) | F47: Material 'end of life' scenarios (Module C) | H47: Benefits and loads beyond the system boundary (Module D)
A48: Building element category | C48: Material type | D48: Material quantity (kg) | H48: Estimated reusable materials (kg) | I48: Estimated recyclable materials (kg)
A49: Note/example | C49: Breakdown of material type in each category [Insert more lines if needed] e.g. Concrete | D49: 65000 kg | E49: For all primary building systems (structure, substructure, envelope, MEP services, internal finishes) including assumed material/product lifespans and annual maintenance/repair % | F49: Declare 'end of life' scenario as per project’s Circular Economy Statement, and used in the WLC assessment to produce Module C results | H49: 0 kg | I49: 25 kg
C50: e.g. Reinforcement | D50: 5000 kg | H50: 2 kg | I50: 8 kg
C51: e.g. Formwork | D51: 250 kg | H51: 0 kg | I51: 0 kg
A52: 0.1 | B52: Demolition: Toxic/Hazardous/Contaminated Material Treatment | J52: Please add rows where more than 1 material type exists per building element category
A53: 0.2 | B53: Major Demolition Works
...

Sheet Detailed planning stage
A1: Project details
A2: Project name | C2: Harefield Academy | H2: Key
A3: Planning application reference number (if applicable) | I3: Data automatically calculated - no direct input required
A4: Use Class | C4: Education | I4: Cells that require information / data inputting
A5: Brief description of the project | C5: Demolition of former residential boarding block and erection of academic building (Use Class F1) and ancillary structures including heat pump and substation enclosures, construction of a multi-use games area, revised vehicular access, landscaping, car and cycle parking and associated works at Harefield Academy, Northwood Road, UB9 6ET. | I5: N/A
A6: GIA (m2) | C6: 2276
A8: Assessment details
A9: Authors (organisation or individuals) | C9: Hydrock
A10: Date of assessment | C10: 15.12.2023
B11: Operational modelling methodology for Module B6 results | C11: TM54 utilising IES VE
A12: Reference study period (if not 60 years) | C12: 60
A13: Software tool used | C13: OneClick LCA
A14: Types of EPDs and carbon database used | C14: OneClick LCA
A15: Please confirm if 95% of the cost allocated to each building element category has been accounted for in the assessment? | C15: Yes
A16: Explanation of mechanisms which have been adopted to quality assure the submission | C16: The calculation has been checked utilising an independent member of Hydrock, who is unrelated the project.
A17: Please confirm whether you have submitted this assessment to the Built Environment Carbon Database (https://www.becd.co.uk/) or if you give permission for the GLA to do this on your behalf by checking one of the following boxes | C17: I have submitted this assessment to the BECD
C18: I give permission for the GLA to submit this assessment to the BECD on my behalf
A20: Estimated WLC emissions N.B. This forms the WLC baseline for the development. The green cells will automatically populate from the tables below
C21: Module A1-A5 (excluding sequestered carbon) | D21: Modules B-C (excl B6 & B7) | E21: Modules A-C (excl B6 & B7; including sequestered carbon) | F21: Module B1-B5 | G21: Module B6-B7 | H21: Module C1-C4 | I21: Module D
A22: TOTAL kg CO2e | C22: =D151+E151+F151 -> 1623196 | D22: =G151+H151+I151+J151+K151+O151+P151+Q151+R151 -> 642641.67 | E22: =C151+D151+E151+F151+G151+H151+I151+J151+K151+O151+P151+Q151+R151 -> 2204967.4 | F22: =G151+H151+I151+J151+K151 -> 464012.18 | G22: =L151+N151 -> 895597.5 | H22: =O151+P151+Q151+R151 -> 178629.48 | I22: =T151 -> -658290.05
A23: TOTAL kg CO2e/m2 GIA | C23: =C22/$C$6 -> 713.17928 | D23: =D22/$C$6 -> 282.35574 | E23: =E22/$C$6 -> 968.79062 | F23: =F22/$C$6 -> 203.87179 | G23: =G22/$C$6 -> 393.49627 | H23: =H22/$C$6 -> 78.483955 | I23: =I22/$C$6 -> -289.23113
A24: Please select most appropriate benchmark from drop-down menu | C24: Schools, Universities etc.
A25: WLC Benchmark | C25: =VLOOKUP($C$24,'WLC benchmarks'!$B$10:$E$13,2, TRUE) -> <750 | D25: =VLOOKUP($C$24,'WLC benchmarks'!$B$10:$E$13,3, TRUE) -> <250 | E25: =VLOOKUP($C$24,'WLC benchmarks'!$B$10:$E$13,4, TRUE) -> <1000
A26: Aspirational WLC Benchmark | C26: =VLOOKUP($C$24,'WLC benchmarks'!$B$16:$E$19,2, TRUE) -> <500 | D26: =VLOOKUP($C$24,'WLC benchmarks'!$B$16:$E$19,3, TRUE) -> <175 | E26: =VLOOKUP($C$24,'WLC benchmarks'!$B$16:$E$19,4, TRUE) -> <675
A27: Comparison with WLC benchmarks (see Appendix 2 of the guidance) | C27: The design team have utilised materials to ensure they deliver high-quality educational spaces and balance operational and embodied carbon. This can have impacts on embodied carbon emissions. A number of carbon optimisation strategies have been identified in particular the use of steel with high recycled content and low embodied carbon fittings and finishes. These will be explored further down the design stages and tracked against this whole life carbon analysis. The module B-C exceed the benchmark data, this seems to be due to high emissions from the MEP equipment, further analysis will be undertaken at the next design stage to reduce this where possible.
A29: Retention of existing buildings and structures
A30: Confirmation that options for retaining existing buildings and structures have been fully explored before considering substantial demolition | C30: The original proposal for this scheme included an extension and intensive refurbishment to the existing building as Planning Permission 17709/APP/2022/1387. There is an existing building on-site (residential boarding accommodation). However, it is not technically feasible or viable to retain or retrofit this building for the proposed development due to the fact that the existing building has a Cross-Laminated Timber (CLT) structure and a relatively low floor-to-floor height of 3 meters has posed significant challenges in making it suitable for this new purpose, ultimately leading to a proposal for demolition. These included: Structural incompatibility, compliance issues and safety concerns. For more details please see the accompanying CE statement.
A31: Carbon emissions associated with pre-construction demolition (kgCO2e) | C31: =1613*50 -> 80650
A32: Estimate of the percentage of the new build development which will be made up of existing elements | C32: 0
A34: Summary of key actions to reduce whole life-cycle carbon emissions that have informed this assessment, including the WLC reductions | C34: Actions included in WLC assessment results reported | F34: WLC reduction (kg CO2e/m2 GIA)
C35: Efficient piling system reducing concrete | F35: 10
A40: Specify further opportunities to reduce the development’s whole life-cycle carbon emissions. including the WLC reduction potential | C40: Further potential opportunities | F40: WLC reduction potential (kg CO2e/m2 GIA)
C41: Utilising a concrete staircase instead of steel | F41: 2
C42: Utilising high percentage of cement replacement with GGBS | F42: 72
C43: Using bricks recycled from the existing structure for some areas | F43: 8
C44: Using double instead of triple glazing to see whether this has an impact on whole life carbon | F44: 28
C45: Utilising higher recycled content in steel | F45: 91
A48: MATERIAL QUANTITY AND END OF LIFE SCENARIOS | C48: Product and Construction Stage (Module A) | E48: Assumptions made with respect to maintenance, repair and replacement cycles (Module B) | F48: Material 'end of life' scenarios (Module C) | H48: Benefits and loads beyond the system boundary (Module D)
A49: Building element category | C49: Material type | D49: Material quantity (kg) | H49: Estimated reusable materials (kg) | I49: Estimated recyclable materials (kg)
A50: Note/example | C50: Breakdown of material type in each category [Insert more lines if needed] e.g. Concrete | D50: 65000 kg | E50: For all primary building systems (structure, substructure, envelope, MEP services, internal finishes) including assumed material/product lifespans and annual maintenance/repair % | F50: Declare 'end of life' scenario as per project’s Circular Economy Statement, and used in the WLC assessment to produce Module C results | H50: 0 kg | I50: 25 kg
...

Sheet Post-construction result
A1: Project details
A2: Project name | C2: Meadow School | H2: Key
A3: Planning application reference number (if applicable) | I3: Data automatically calculated - no direct input required
A4: Use Class | C4: F1 | I4: Cells that require information / data inputting
A5: Brief description of the project | C5: New educational building, and associated external works. | I5: N/A
A6: GIA (m2) | C6: 2276
A8: Assessment details
A9: Authors (organisation or individuals) | C9: Morgan Layton CPW, Michelle Ward CPW
A10: Date of assessment | C10: 46241
B11: Operational modelling methodology for Module B6 results | C11: SAP 2021
A12: Reference study period (if not 60 years) | C12: 60 years
A13: Software tool used | C13: Carbon assessment, GLA / RICS / Green Mark (+A2)
A14: Type of EPDs and carbon database used | C14: The One Click LCA Carbon database was used, which is considered the largest database of environmental construction data in the world, and includes over 200,000 datapoints. EPDs in the database all comply with EN15804 and/or ISO 14025 standards. The database also includes coutry-specific average data that can be used where specific materials have not been specified yet. Relevant product specific EPDs were selected in the fist instance, and generic data was used where the prior was not available, or where products have not been specified yet.
A15: Please confirm if 95% of the cost allocated to each building element category has been accounted for in the assessment? | C15: Yes
A16: Explanation of mechanisms which have been adopted to quality assure the submission | C16: The assessment has been completed by Morgan Layton and verified by Michelle Ward of CPW. Both individuals have substantial experience in undertaking WLCAs, and are independant of the project team. The EPD/ datapoint selections were reviewed in detail to ensure they represent the closest match available to the actual materials specified. Material quantities were taken from the cost plan, and further advised by the design team. These quantites were checked in line with the latest design drawings. One Click LCA also enables a 'Plausbility Checker' which ensures the quantities are within reasonable limits proportional to the floor area.
A17: Please confirm whether you have submitted this assessment to the Built Environment Carbon Database (https://www.becd.co.uk/) or if you give permission for the GLA to do this on your behalf by checking one of the following boxes | C17: I have submitted this assessment to the BECD
C18: I give permission for the GLA to submit this assessment to the BECD on my behalf
A20: List of product specific EPDs for products that have been installed | C20: Product | F20: EPD reference number
C21: Siniat weather defence | F21: INIES_INKB20210930_163123, 41683
C22: Tyvek firecurb | F22: NEPD-5472-4775-EN
C23: Tyveck HDPE membrane | F23: EPD-IES-0008151:001
C24: Mineral Wool Insulation Isover | F24: EPD-IES-0018316:001
C25: Duraline plasterboard | F25: S-P-00510
C26: Metal Deck Flooring RC 30/37 on CF80/0.9 composite metal deck by Tata Steel | F26: EPD-TS-2021-005
C27: Heidelberg Materials Concrete | F27: NEPD-7891-7567-2
C28: Marshalls Paving blocks | F28: HUB-3596
C29: Sopratherm taped insulation PIR insulation | F29: EPD-IES-0026914:001
C30: Soprema vapour barrier | F30: S-P-14234
C31: VELUX Modular Skylight | F31: EPD-VEL-20210075-CCI1-EN
C32: Schindler 3000 evacuation lift | F32: S-P-02959
... C58: ASTRO N7s Solar Panels | F58: NEPD-9557-9031
A60: Please confirm the following post-construction evidence has been submitted with this WLC assessment
A61: Site energy (including fuel) use record | C61: Yes
A62: Contractor confirmation of as-built quantities and specifications | C62: Yes
A63: Record of material delivery including distance travelled and transportation mode | C63: Yes
A64: Waste transportation record include waste quantity, distance travelled and transportation mode | C64: Yes
A67: WLC emissions baseline (automatically populated from the 'detailed planning stage' tab)
C68: Module A1-A5 (excluding sequestered carbon) | D68: Modules B-C (excl B6 & B7) | E68: Modules A-C (excl B6-B7; including sequestered carbon) | F68: Module B1-B5 | G68: Module B6-B7 | H68: Module C1-C4 | I68: Module D
A69: TOTAL kg CO2e | C69: ='Detailed planning stage'!C22 -> 1623196 | D69: ='Detailed planning stage'!D22 -> 642641.67 | E69: ='Detailed planning stage'!E22 -> 2204967.4 | F69: ='Detailed planning stage'!F22 -> 464012.18 | G69: ='Detailed planning stage'!G22 -> 895597.5 | H69: ='Detailed planning stage'!H22 -> 178629.48 | I69: ='Detailed planning stage'!I22 -> -658290.05
A70: TOTAL kg CO2e/m2 GIA | C70: ='Detailed planning stage'!C23 -> 713.17928 | D70: ='Detailed planning stage'!D23 -> 282.35574 | E70: ='Detailed planning stage'!E23 -> 968.79062 | F70: ='Detailed planning stage'!F23 -> 203.87179 | G70: ='Detailed planning stage'!G23 -> 393.49627 | H70: ='Detailed planning stage'!H23 -> 78.483955 | I70: ='Detailed planning stage'!I23 -> -289.23113
...

Sheet WLC benchmarks
B2: Available benchmarks
B3: Offices
B4: Residential
B5: Schools, Universities etc.
B6: Retail
B9: WLC benchmark | C9: A1-A5 | D9: B-C (excl B6 & B7) | E9: A-C (excl B6 & B7)
B10: Offices | C10: <950 | D10: <450 | E10: <1400
B11: Residential | C11: <850 | D11: <350 | E11: <1200
B12: Schools, Universities etc. | C12: <750 | D12: <250 | E12: <1000
B13: Retail | C13: <850 | D13: <200 | E13: <1050
B15: Aspirational WLC benchmark | C15: A1-A5 | D15: B-C (excl B6 & B7) | E15: A-C (excl B6 & B7)
B16: Offices | C16: <600 | D16: <370 | E16: <970
B17: Residential | C17: <500 | D17: <300 | E17: <800
B18: Schools, Universities etc. | C18: <500 | D18: <175 | E18: <675
B19: Retail | C19: <550 | D19: <140 | E19: <690
