Workbook

Sheet New guidance
A1: Landuse | B1: Benchmarks - trips per m2(GIA) or dwellings | C1: Area/n. of dwellings | D1: Annual Benchmark
A2: C3 Residential | B2: ='New benchmarks'!E10 -> 447 | C2: 0 | D2: =B2*C2 -> 0 | E2: trips per annum | G2: input data | I2: =447/365 -> 1.2246575 | J2: 1.2246575
A3: ='New benchmarks'!A11 -> Office / Light Industrial | B3: ='New benchmarks'!E11 -> 16 | C3: 0 | D3: =B3*C3 -> 0 | E3: trips per annum
A4: ='New benchmarks'!A12 -> Retail (Superstore) | B4: ='New benchmarks'!E12 -> 216 | C4: 0 | D4: =B4*C4 -> 0 | E4: trips per annum
A5: ='New benchmarks'!A13 -> Retail (Convenience) | B5: ='New benchmarks'!E13 -> 274 | C5: 0 | D5: =B5*C5 -> 0 | E5: trips per annum
A6: ='New benchmarks'!A14 -> Restaurant / Café | B6: ='New benchmarks'!E14 -> 170 | C6: 0 | D6: =B6*C6 -> 0 | E6: trips per annum
A7: ='New benchmarks'!A15 -> Drinking establishments | B7: =B3 -> 16 | C7: 0 | D7: =B7*C7 -> 0 | E7: trips per annum
A8: ='New benchmarks'!A16 -> Hot food takeaway | B8: ='New benchmarks'!E16 -> 590 | C8: 0 | D8: =B8*C8 -> 0 | E8: trips per annum | H8: Use Class E – Commercial, Business and Service –
A9: ='New benchmarks'!A17 -> Industrial | B9: ='New benchmarks'!E17 -> 6.5 | C9: 0 | D9: =B9*C9 -> 0 | E9: trips per annum | H9: (iii) any other services which it is appropriate to provide in a commercial, business or service locality,
A10: ='New benchmarks'!A18 -> Storage and distribution | B10: ='New benchmarks'!E18 -> 6.5 | C10: 0 | D10: =B10*C10 -> 0 | E10: trips per annum
A11: Hotel (Class C1) | B11: ='New benchmarks'!E20 -> 6.9 | C11: 0 | D11: =B11*C11 -> 0 | E11: trips per annum
A12: ='New benchmarks'!A21 -> Care homes and hospitals | B12: ='New benchmarks'!E21 -> 19.5 | C12: 0 | D12: =B12*C12 -> 0 | E12: trips per annum
A13: ='New benchmarks'!A22 -> Schools, nurseries, doctors’ surgeries, other non- residential institutions | B13: ='New benchmarks'!E23 -> 44.4 | C13: 422 | D13: =B13*C13 -> 18736.8 | E13: trips per annum
A14: Assembly and leisure D2 | B14: ='New benchmarks'!E32 -> 47.2 | C14: 0 | D14: =B14*C14 -> 0 | E14: trips per annum | G14: Where the use class/land use type is not specified in a development proposal or not listed in Table 4.1,
A15: Healthcare (Class E (e)) | B15: 44.4 | C15: 0 | D15: =B15*C15 -> 0 | E15: trips per annum | G15: it is up to the discretion of the local planning authority to decide and use the most relevant land use from the table (given the information submitted at the planning-application stage). scenario.
A16: Nursery (Class E(f)) | B16: =B13 -> 44.4 | C16: 0 | D16: =B16*C16 -> 0 | E16: trips per annum | G16: Where use class E has been specified without further detail, the benchmark for office/light industrial should be used as the default worst-case
A17: E(g)(iii) | B17: 44.4 | C17: 0 | D17: =B17*C17 -> 0 | E17: trips per annum
A18: B2 - General Industrial | B18: 16.3 | C18: 0 | D18: =B18*C18 -> 0 | E18: trips per annum
A19: B8 | B19: =5.8 -> 5.8 | C19: 0 | D19: =B19*C19 -> 0 | E19: trips per annum
A20: Flexible Uses E | B20: =B3 -> 16 | C20: 0 | D20: =B20*C20 -> 0 | E20: trips per annum
A21: OVERALL | D21: =SUM(D2:D20) -> 18736.8
A23: AIR QUALITY NEUTRAL | B23: Proposed Development | F23: Excess Annual | G23: Excess Traffic | H23: S108
A24: C3 | B24: =IF(D2<D24, "NOT neutral", "neutral") -> neutral | D24: =0*365 -> 0 | E24: trips per annum | F24: =D24-D2 -> 0 | G24: =F24/365 -> 0
A25: Office / Light Industrial | B25: =IF(D3<D25, "NOT neutral", "neutral") -> neutral | D25: =0*365 -> 0 | E25: trips per annum | F25: =D25-D3 -> 0 | G25: =F25/365 -> 0
A26: Retail (Superstore) | B26: =IF(D4<D26, "NOT neutral", "neutral") -> neutral | D26: ='Trip generation'!A3 -> 0 | E26: trips per annum | F26: =D26-D4 -> 0 | G26: =F26/365 -> 0 | I26: =((119*52*5)+(279*52*1))*10 -> 454480
A27: Retail (Convenience) | B27: =IF(D5<D27, "NOT neutral", "neutral") -> neutral | D27: 0 | E27: trips per annum | F27: =D27-D5 -> 0 | G27: =F27/365 -> 0
A28: Restaurant / Café | B28: =IF(D6<D28, "NOT neutral", "neutral") -> neutral | D28: 0 | E28: trips per annum | F28: =D28-D6 -> 0 | G28: =F28/365 -> 0 | I28: 8
A29: Drinking establishments | B29: =IF(D7<D29, "NOT neutral", "neutral") -> neutral | D29: 0 | E29: trips per annum | F29: =D29-D7 -> 0 | G29: =F29/365 -> 0
A30: Hot food takeaway | B30: =IF(D8<D30, "NOT neutral", "neutral") -> neutral | D30: 0 | E30: trips per annum | F30: =D30-D8 -> 0 | G30: =F30/365 -> 0 | I30: 34 | J30: =J32*I30/I32 -> 19.101124
A31: Industrial | B31: =IF(D9<D31, "NOT neutral", "neutral") -> neutral | D31: 0 | E31: trips per annum | F31: =D31-D9 -> 0 | G31: =F31/365 -> 0 | I31: 144 | J31: =J32*I31/I32 -> 80.898876
A32: Storage and distribution | B32: =IF(D10<D32, "NOT neutral", "neutral") -> neutral | D32: 0 | E32: trips per annum | F32: =D32-D10 -> 0 | G32: =F32/365 -> 0 | I32: =I31+I30 -> 178 | J32: 100
A33: Hotel (Class C1) | B33: =IF(D11<D33, "NOT neutral", "neutral") -> neutral | D33: =0*365 -> 0 | E33: trips per annum | F33: =D33-D11 -> 0 | G33: =F33/365 -> 0
A34: Care homes and hospitals | B34: =IF(D12<D34, "NOT neutral", "neutral") -> neutral | D34: =0*365 -> 0 | E34: trips per annum | F34: =D34-D12 -> 0 | G34: =F34/365 -> 0
A35: Schools, nurseries, doctors’ surgeries, other non- residential institutions | B35: =IF(D13<D35, "NOT neutral", "neutral") -> NOT neutral | D35: =177*52*5 -> 46020 | E35: trips per annum | F35: =D35-D13 -> 27283.2 | G35: =F35/365 -> 74.748493
A36: Assembly and leisure D2 | B36: =IF(D14<D36, "NOT neutral", "neutral") -> neutral | D36: 0 | E36: trips per annum | F36: =D36-D14 -> 0 | G36: =F36/365 -> 0
A37: Healthcare (Class E (e)) | B37: =IF(D15<D37, "NOT neutral", "neutral") -> neutral | D37: =0*365 -> 0 | E37: trips per annum | F37: =D37-D15 -> 0 | G37: =F37/365 -> 0
A38: Nursery (Class E(f)) | B38: =IF(D16<D38, "NOT neutral", "neutral") -> NOT neutral | D38: =177*52*5 -> 46020 | E38: trips per annum | F38: =D38-D16 -> 46020 | G38: =F38/365 -> 126.08219
A39: E(g)(iii) | B39: =IF(D17<D39, "NOT neutral", "neutral") -> neutral | D39: =0*365 -> 0 | E39: trips per annum | F39: =D39-D17 -> 0 | G39: =F39/365 -> 0
A40: B2 | B40: =IF(D18<D40, "NOT neutral", "neutral") -> neutral | D40: =0*365 -> 0 | E40: trips per annum | F40: =D40-D18 -> 0 | G40: =F40/365 -> 0
A41: B8 | B41: =IF(D19<D41, "NOT neutral", "neutral") -> neutral | D41: =0*365 -> 0 | E41: trips per annum | F41: =D41-D19 -> 0 | G41: =F41/365 -> 0
A42: Flexible Uses E | B42: =IF(D20<D42, "NOT neutral", "neutral") -> neutral | D42: 0 | E42: trips per annum | F42: =D42-D20 -> 0 | G42: =F42/365 -> 0
A43: OVERALL | B43: =IF(D21<D43, "NOT neutral", "neutral") -> NOT neutral | D43: =SUM(D24:D42) -> 92040 | F43: =D43-D21 -> 73303.2 | G43: =F43/365 -> 200.83068

Sheet Trip generation

Sheet New benchmarks
A1: Table 4.1 | B1: Benchmark Trip Rates
C3: Benchmark Trip Rates
B5: Annual trips per
A6: Land Use
C7: Central Activities Zone (CAZ) | D7: Inner London (excluding CAZ) | E7: Outer London
A8: Residential (including student accommodation and large-scale purpose-built shared living development)
B10: dwelling | C10: 68 | D10: 114 | E10: 447
A11: Office / Light Industrial | B11: m2 (GIA) | C11: 2 | D11: 1 | E11: 16
A12: Retail (Superstore) | B12: m2 (GIA) | C12: 39 | D12: 73 | E12: 216
A13: Retail (Convenience) | B13: m2 (GIA) | C13: 18 | D13: 139 | E13: 274
A14: Restaurant / Café | B14: m2 (GIA) | C14: 64 | D14: 137 | E14: 170
A15: Drinking establishments | B15: m2 (GIA) | C15: 0.8 | D15: 8 | E15: N/A
A16: Hot food takeaway | B16: m2 (GIA) | C16: N/A | D16: 32.4 | E16: 590
A17: Industrial | B17: m2 (GIA) | C17: N/A | D17: 3.9 | E17: 6.5
A18: Storage and distribution | B18: m2 (GIA) | C18: N/A | D18: 1.4 | E18: 6.5
B19: m2 (GIA)
A20: Hotels | C20: 1 | D20: 1.4 | E20: 6.9
A21: Care homes and hospitals | B21: m2 (GIA) | C21: N/A | D21: 1.1 | E21: 19.5
A22: Schools, nurseries, doctors’ surgeries, other non- residential institutions
B23: m2 (GIA) | C23: 0.1 | D23: 30.3 | E23: 44.4
C27: Benchmark Trip Rates
B29: Annual trips per
A30: Land Use
C31: Central Activities Zone (CAZ) | D31: Inner London (excluding CAZ) | E31: Outer London
A32: Assembly and leisure | B32: m2 (GIA) | C32: 3.6 | D32: 10.5 | E32: 47.2
A33: * Separate use classes for commercial uses including retail and offices have now been replaced by use class E. If these separate uses are specified in the development proposal, they should be used for this assessment. Where the separate use is not specified, or where use class E has been specified, the benchmark for office/light industrial should be used.

Sheet Damage cost
B2: The simplified formula is {(E + J + O + T) x 40.568079205
B4: Calculation of Benchmark emissions
E5: Emissions (g/veh/km) | G5: Total Emissions (Kg)
B6: Land Use | C6: Benchmark trip rate | D6: Average distance per trip | E6: NOx | F6: PM2.5 | G6: NOx | H6: PM2.5
B7: Schools, nurseries, doctors’ surgeries, other non- residential institutions | C7: 18736.8 | D7: 10.8 | E7: 0.35 | F7: 0.028 | G7: 70.825104 | H7: 5.6660083
B8: TOTAL BENCHMARK EMISSIONS | G8: 70.825104 | H8: 5.6660083
B9: Calculation of Development emissions
E10: Emissions (g/veh/km) | G10: Total Emissions (Kg)
B11: Land Use | C11: Proposed trip rate | D11: Average distance per trip | E11: NOx | F11: PM2.5 | G11: NOx | H11: PM2.5
B12: Schools, nurseries, doctors’ surgeries, other non- residential institutions | C12: 46020 | D12: 10.8 | E12: 0.35 | F12: 0.028 | G12: 173.9556 | H12: 13.916448
B13: TOTAL DEVELOPMENT EMISSIONS | G13: 173.9556 | H13: 13.916448
B14: Calculation of Excess emissions and offsetting payment
C15: Benchmarks | D15: Total Emissions | E15: Excess Emissions | F15: Damage cost | G15: Annual ofsetting amount
C16: (tonnes per annum) | F16: £ per tonne | G16: (£)
B17: Transport NOx emissions | C17: 0.070825104 | D17: 0.1739556 | E17: 0.1031305 | F17: 27741 | G17: 2860.9431
B18: Transport PM2.5 emissions | C18: 0.0056660083 | D18: 0.013916448 | E18: 0.0082504397 | F18: 222205 | G18: 1833.2889
B20: TOTAL OFFSETTING | C20: 190435.98 | D20: as per the London Plan Air Quality 2023 guidance
B21: Travel Plan - 10% discount | C21: 0
B22: Green Measures - 5% discount | C22: 0
B23: Contribution to Long Term Strategic LBH Projects - 15% discount | C23: 0
B24: Total Discount | C24: 0
B25: S106 Due | C25: 190435.98
